Workbook

Sheet DATABASE
B1: Basic | C1: Basic | D1: Basic | E1: Basic | F1: Basic | G1: Basic | H1: Basic | L1: Basic | O1: Basic | P1: Basic | Q1: Basic | R1: Basic | AC1: Basic | AG1: Basic | AH1: Basic | AI1: Basic | AJ1: Basic | AK1: Basic | AL1: Basic | AP1: Basic | AQ1: Basic | AR1: Basic | AS1: Basic | AT1: Basic | AU1: Basic | AV1: Basic | AW1: Basic | BR1: Basic | DK1: Basic | DL1: Basic | DM1: Basic
B2: Naming | H2: Price & colors (JSON) | L2: Dimensions and weight (JSON) | AG2: Engine and transmission (JSON) | AR2: Fuel and mileage (JSON) | BD2: Interior dimensions (JSON) | BL2: Warranty (JSON) | BP2: Source | BS2: Review | BY2: Review scorecard | CE2: Review expert rating | CN2: Old naming (HTML, until March 2020) | CR2: Interior features (HTML, until March 2020) | CZ2: Exterior features (HTML, until March 2020) | DF2: Safety (HTML, until March 2020) | DG2: Optional features (HTML, until March 2020) | DK2: Bonus data (added by Teoalida)
B3: ID | C3: Make | D3: Model | E3: Year | F3: Trim | G3: Trim (description) | H3: Base MSRP | I3: Base Invoice | J3: Colors exterior | K3: Colors interior | L3: Body type | M3: Doors | N3: Total seating | O3: Length (in) | P3: Width (in) | Q3: Height (in) | R3: Wheelbase (in) | S3: Front track (in) | T3: Rear track (in) | U3: Ground clearance (in) | V3: Angle of approach (degrees) | W3: Angle of departure (degrees) | X3: Turning circle (ft) | Y3: Drag coefficient (Cd) | Z3: EPA interior volume (cu ft) | AA3: Cargo capacity (cu ft) | AB3: Maximum cargo capacity (cu ft) | AC3: Curb weight (lbs) | AD3: Gross weight (lbs) | AE3: Maximum payload (lbs) | AF3: Maximum towing capacity (lbs) | AG3: Cylinders | AH3: Engine size (l) | AI3: Horsepower (HP) | AJ3: Horsepower (rpm) | AK3: Torque (ft-lbs) | AL3: Torque (rpm) | AM3: Valves | AN3: Valve timing | AO3: Cam type | AP3: Drive type | AQ3: Transmission | AR3: Engine type | AS3: Fuel type | AT3: Fuel tank capacity (gal) | AU3: EPA combined MPG | AV3: EPA city/highway MPG | AW3: Range in miles (city/hwy) | AX3: EPA combined MPGe | AY3: EPA city/highway MPGe | AZ3: EPA electricity range (mi) | BA3: EPA kWh/100 mi | BB3: EPA time to charge battery (at 240V) (hr) | BC3: Battery capacity (kWh) | BD3: Front head room (in) | BE3: Front hip room (in) | BF3: Front leg room (in) | BG3: Front shoulder room (in) | BH3: Rear head room (in) | BI3: Rear hip room (in) | BJ3: Rear leg room (in) | BK3: Rear shoulder room (in) | BL3: Basic | BM3: Drivetrain | BN3: Roadside assistance | BO3: Rust | BP3: Source JSON | BQ3: Source URL | BR3: Image URL | BS3: Review | BT3: Pros | BU3: Cons | BV3: What's new | BW3: NHTSA Overall Rating | BX3: Used price range | BY3: Scorecard Overall | BZ3: Scorecard Driving | CA3: Scorecard Confort | CB3: Scorecard Interior | CC3: Scorecard Utility | CD3: Scorecard Technology | CE3: Expert rating - Our verdict | CF3: Expert rating - Performance | CG3: Expert rating - Comfort | CH3: Expert rating - Interior | CI3: Expert rating - Technology | CJ3: Expert rating - Storage | CK3: Expert rating - Fuel Economy | CL3: Expert rating - Value | CM3: Expert rating - Wildcard | CN3: Old trim | CO3: Old description | CP3: Images URL | CQ3: Suspension | CR3: Front seats | CS3: Rear seats | CT3: Power features | CU3: Instrumentation | CV3: Convenience | CW3: Comfort | CX3: Memorized settings | CY3: In car entertainment | CZ3: Roof and glass | DA3: Body | DB3: Truck features | DC3: Tires and wheels | DD3: Doors | DE3: Towing and hauling | DF3: Safety features | DG3: Packages | DH3: Exterior options | DI3: Interior options | DJ3: Mechanical options | DK3: Country of origin | DL3: Car classification | DM3: Platform code / generation number
B4: =COUNTA(B14:B421494) -> 632 | C4: =COUNTA(C14:C421494) -> 629 | D4: =COUNTA(D14:D421494) -> 629 | E4: =COUNTA(E14:E421494) -> 629 | F4: =COUNTA(F14:F421494) -> 629 | G4: =COUNTA(G14:G421494) -> 629 | H4: =COUNTA(H14:H421493) -> 477 | I4: =COUNTA(I14:I421493) -> 477 | J4: =COUNTA(J14:J421493) -> 593 | K4: =COUNTA(K14:K421493) -> 522 | L4: =COUNTA(L14:L421493) -> 629 | M4: =COUNTA(M14:M421493) -> 629 | N4: =COUNTA(N14:N421493) -> 477 | O4: =COUNTA(O14:O421493) -> 629 | ... CA4: =COUNTA(CA14:CA421493) -> 24 | CB4: =COUNTA(CB14:CB421494) -> 24 | CC4: =COUNTA(CC14:CC421494) -> 24 | CD4: =COUNTA(CD14:CD421494) -> 13 | CE4: =COUNTA(CE14:CE421494) -> 107 | CF4: =COUNTA(CF14:CF421494) -> 137 | CG4: =COUNTA(CG14:CG421494) -> 137 | CH4: =COUNTA(CH14:CH421494) -> 137 | CI4: =COUNTA(CI14:CI421494) -> 137 | ... DM4: =COUNTA(DM14:DM421494) -> 629
B5: =B4/$B4 -> 1 | C5: =C4/$B4 -> 0.99525316 | D5: =D4/$B4 -> 0.99525316 | E5: =E4/$B4 -> 0.99525316 | F5: =F4/$B4 -> 0.99525316 | G5: =G4/$B4 -> 0.99525316 | H5: =H4/$B4 -> 0.75474684 | I5: =I4/$B4 -> 0.75474684 | ... DM5: =DM4/$B4 -> 0.99525316
B7: Year-Make-Model-Trim-Specs car database for American market
B8: Compiled in Excel by Teoalida © cardatabase.teoalida.com
B10: This is a SAMPLE, including a selection of years for 3 models: BMW 3-Series, Ford F-150, Toyota Prius (629 trims)
B11: Visit above website for the FULL database (68 makes, 1200+ models, 10000+ model years, 70000+ model trims)
B12: See "Statistics makes" for the list of makes included in FULL database, and number of models for each
B14: SAMPLE: BMW 3-Series (second best-selling European car)
B15: 401994177 | C15: BMW | D15: 3 Series | E15: 2024 | F15: 330i | G15: 330i 4dr Sedan (2.0L 4cyl Turbo 8A) | H15: 44500 | I15: 41885 | J15: Brooklyn Grey Metallic(159,168,168);Jet Black(20,20,20);Melbourne Red Metallic(146,15,13);Dravit Grey Metallic(96,100,101);Tanzanite Blue II Metallic(16,91,161);Portimao Blue Metallic(66,89,154);Skyscraper Grey Metallic(127,133,133);Phytonic Blue Metallic(63,106,138);Alpine White(255,255,255);Mineral White Metallic(234,234,234);Black Sapphire Metallic(0,0,0); | K15: Cognac SensaTec, leatherette(156,116,91);Black SensaTec, leatherette(0,0,0);Black Vernasca, leather(0,0,0);Black Vernasca w/Blue Contrast Stitching, leather(0,0,0);Tacora Red SensaTec, leatherette(132,74,69);Mocha Vernasca, leather(90,86,83);Tacora Red Vernasca, leather(132,74,69);Canberra Beige SensaTec, leatherette(217,211,199);Oyster Vernasca, leather(220,216,208); | L15: Sedan | M15: 4 | N15: 5 | O15: 185.9 | P15: 71.9 | Q15: 56.8 | R15: 112.2 | U15: 5.7 | X15: 37.4 | AA15: 16.9 | AC15: 3536 | AD15: 4586 | AE15: 829 | AG15: I4 | AH15: 2 | AI15: 255 | AJ15: 5000 | AK15: 295 | AL15: 1550 | AM15: 16 | AN15: Variable | AO15: Double overhead cam (DOHC) | AP15: rear wheel drive | AQ15: 8-speed shiftable automatic | AR15: gas | AS15: premium unleaded (required) | AT15: 15.6 | AU15: 29 | AV15: 25/34 MPG | AW15: 390.0/530.4 mi. | BD15: 38.7 | BF15: 42 | BG15: 56 | BH15: 37.6 | BJ15: 35.2 | BK15: 54.6 | BL15: 4 yr./ 50000 mi. | BM15: 4 yr./ 50000 mi. | BN15: 4 yr./ unlimited mi. | BO15: 12 yr./ unlimited mi. | BQ15: https://www.edmunds.com/bmw/3-series/2024/review/ | BR15: https://media.ed.edmunds-media.com/bmw/3-series/2023/oem/2023_bmw_3-series_sedan_330i-xdrive_fq_oem_1_815.jpg;https://media.ed.edmunds-media.com/bmw/3-series/2023/oem/2023_bmw_3-series_sedan_330i-xdrive_rq_oem_2_815.jpg;https://media.ed.edmunds-media.com/bmw/3-series/2023/oem/2023_bmw_3-series_sedan_330i-xdrive_rq_oem_3_815.jpg;https://media.ed.edmunds-media.com/bmw/3-series/2023/oem/2023_bmw_3-series_sedan_330i-xdrive_rq_oem_4_815.jpg;https://media.ed.edmunds-media.com/bmw/3-series/2023/oem/2023_bmw_3-series_sedan_330i-xdrive_rq_oem_5_815.jpg; | BS15: There was a time when choosing a BMW 3 Series over its primary rivals in the compact luxury car segment was an easy decision, especially if you enjoy the act of driving. Today, the 3 Series still adheres to the qualities that made it popular in the first place and remains a rewarding choice for enthusiasts, but it's no longer the only game in town. In addition, many alternatives to this BMW offer appealing traits unavailable in a 3 Series, like an electric drive system, a wagon body style, and more value for the money.;Last year, the seventh-generation 3 Series received its midlife updates right on schedule, and a redesign is rumored to arrive for the 2026 model year. So, expect few, if any, changes to the 2024 BMW 3 Series. It continues with turbocharged four- and six-cylinder gas engines and a turbocharged plug-in hybrid powertrain, each paired with rear-wheel drive or BMW's xDrive all-wheel-drive system. The high-performance M3 remains in the lineup but is reviewed separately.;If we sound lukewarm about the 2024 3 Series, know that we still enjoy getting behind its steering wheel, firing up its engine, and seeking out fun roads to explore. But this BMW faces more capable competitors than ever, which dilutes its appeal. For additional perspective on the 3 Series check out the Edmunds testing team's full Expert Rating of the car.;BMW hasn't released official information on the 2024 3 Series as of this writing. We'll update our recommendation if anything changes, but based on last year's 3 Series, we recommend the 330e plug-in hybrid version. It doesn't cost much more than a base 330i, but it provides an estimated 22 miles of electric driving before switching to hybrid operation. Better yet, there is no penalty in terms of performance.;[Editor's note: The following unofficial information is based on last year's 3 Series. We expect the 2024 model will have a similar lineup and we'll update this section once we have complete information.] The BMW 3 Series sedan lineup includes the 330i, 330e and M340i. Each one has a slightly different mission. The 330i is the entry-level 3 Series while the 330e is a plug-in hybrid. The M340i is the sportiest and most powerful. Keep reading for our editors' curated breakdown of each trim's powertrain and standard and optional features. ;330i The base trim comes reasonably well equipped with:;Tech features include:;330e The 330e includes all the standard features of the regular 330i but adds a plug-in hybrid powertrain with a turbocharged four-cylinder gasoline engine and an electric motor (combined 288 hp, 310 lb-ft). The EPA estimates it can drive about 22 miles on a fully charged battery. M340i The M340i provides a big increase in performance thanks to its larger engine:;BMW offers a variety of options and packages for the 3 Series. Depending on the model, key choices to look out for include:; | BT15: Polished handling;Tastefully modern interior with plenty of room;Powerful and fuel-efficient engines; | BU15: Ride quality can be a little too firm at times;Most of the 3 Series' advanced driver assist features aren't standard; | BV15: No major changes expected after last year's significant updates;Part of the seventh 3 Series generation introduced for 2019; | BY15: 5 / 5;5 / 5;5 / 5; | CE15: 7.8/10 | CF15: 8.0/10 | CG15: 7.0/10 | CH15: 8.0/10 | CI15: 8.0/10 | CJ15: 8.0/10 | CK15: 8.0/10 | CL15: 7.5/10 | CM15: 8.0/10 | DK15: Europe/Germany | DL15: Compact car | DM15: G20
B16: 402004583 | C16: BMW | D16: 3 Series | E16: 2024 | F16: 330i xDrive | G16: 330i xDrive 4dr Sedan AWD (2.0L 4cyl Turbo 8A) | H16: 46500 | I16: 43745 | J16: Brooklyn Grey Metallic(159,168,168);Jet Black(20,20,20);Melbourne Red Metallic(146,15,13);Dravit Grey Metallic(96,100,101);Tanzanite Blue II Metallic(16,91,161);Portimao Blue Metallic(66,89,154);Skyscraper Grey Metallic(127,133,133);Phytonic Blue Metallic(63,106,138);Alpine White(255,255,255);Mineral White Metallic(234,234,234);Black Sapphire Metallic(0,0,0); | K16: Cognac SensaTec, leatherette(156,116,91);Black SensaTec, leatherette(0,0,0);Black Vernasca, leather(0,0,0);Black Vernasca w/Blue Contrast Stitching, leather(0,0,0);Tacora Red SensaTec, leatherette(132,74,69);Mocha Vernasca, leather(90,86,83);Tacora Red Vernasca, leather(132,74,69);Canberra Beige SensaTec, leatherette(217,211,199);Oyster Vernasca, leather(220,216,208); | L16: Sedan | M16: 4 | N16: 5 | O16: 185.9 | P16: 71.9 | Q16: 57 | R16: 112.2 | U16: 5.4 | X16: 39.2 | AA16: 16.9 | AC16: 3671 | AD16: 4740 | AE16: 853 | AG16: I4 | AH16: 2 | AI16: 255 | AJ16: 5000 | AK16: 295 | AL16: 1550 | AM16: 16 | AN16: Variable | AO16: Double overhead cam (DOHC) | AP16: all wheel drive | AQ16: 8-speed shiftable automatic | AR16: gas | AS16: premium unleaded (required) | AT16: 15.6 | AU16: 27 | AV16: 24/33 MPG | AW16: 374.4/514.8 mi. | BD16: 38.7 | BF16: 42 | BG16: 56 | BH16: 37.6 | BJ16: 35.2 | BK16: 54.6 | BL16: 4 yr./ 50000 mi. | BM16: 4 yr./ 50000 mi. | BN16: 4 yr./ unlimited mi. | BO16: 12 yr./ unlimited mi. | BQ16: https://www.edmunds.com/bmw/3-series/2024/review/ | BR16: https://media.ed.edmunds-media.com/bmw/3-series/2023/oem/2023_bmw_3-series_sedan_330i-xdrive_fq_oem_1_815.jpg;https://media.ed.edmunds-media.com/bmw/3-series/2023/oem/2023_bmw_3-series_sedan_330i-xdrive_rq_oem_2_815.jpg;https://media.ed.edmunds-media.com/bmw/3-series/2023/oem/2023_bmw_3-series_sedan_330i-xdrive_rq_oem_3_815.jpg;https://media.ed.edmunds-media.com/bmw/3-series/2023/oem/2023_bmw_3-series_sedan_330i-xdrive_rq_oem_4_815.jpg;https://media.ed.edmunds-media.com/bmw/3-series/2023/oem/2023_bmw_3-series_sedan_330i-xdrive_rq_oem_5_815.jpg; | BS16: There was a time when choosing a BMW 3 Series over its primary rivals in the compact luxury car segment was an easy decision, especially if you enjoy the act of driving. Today, the 3 Series still adheres to the qualities that made it popular in the first place and remains a rewarding choice for enthusiasts, but it's no longer the only game in town. In addition, many alternatives to this BMW offer appealing traits unavailable in a 3 Series, like an electric drive system, a wagon body style, and more value for the money.;Last year, the seventh-generation 3 Series received its midlife updates right on schedule, and a redesign is rumored to arrive for the 2026 model year. So, expect few, if any, changes to the 2024 BMW 3 Series. It continues with turbocharged four- and six-cylinder gas engines and a turbocharged plug-in hybrid powertrain, each paired with rear-wheel drive or BMW's xDrive all-wheel-drive system. The high-performance M3 remains in the lineup but is reviewed separately.;If we sound lukewarm about the 2024 3 Series, know that we still enjoy getting behind its steering wheel, firing up its engine, and seeking out fun roads to explore. But this BMW faces more capable competitors than ever, which dilutes its appeal. For additional perspective on the 3 Series check out the Edmunds testing team's full Expert Rating of the car.;BMW hasn't released official information on the 2024 3 Series as of this writing. We'll update our recommendation if anything changes, but based on last year's 3 Series, we recommend the 330e plug-in hybrid version. It doesn't cost much more than a base 330i, but it provides an estimated 22 miles of electric driving before switching to hybrid operation. Better yet, there is no penalty in terms of performance.;[Editor's note: The following unofficial information is based on last year's 3 Series. We expect the 2024 model will have a similar lineup and we'll update this section once we have complete information.] The BMW 3 Series sedan lineup includes the 330i, 330e and M340i. Each one has a slightly different mission. The 330i is the entry-level 3 Series while the 330e is a plug-in hybrid. The M340i is the sportiest and most powerful. Keep reading for our editors' curated breakdown of each trim's powertrain and standard and optional features. ;330i The base trim comes reasonably well equipped with:;Tech features include:;330e The 330e includes all the standard features of the regular 330i but adds a plug-in hybrid powertrain with a turbocharged four-cylinder gasoline engine and an electric motor (combined 288 hp, 310 lb-ft). The EPA estimates it can drive about 22 miles on a fully charged battery. M340i The M340i provides a big increase in performance thanks to its larger engine:;BMW offers a variety of options and packages for the 3 Series. Depending on the model, key choices to look out for include:; | BT16: Polished handling;Tastefully modern interior with plenty of room;Powerful and fuel-efficient engines; | BU16: Ride quality can be a little too firm at times;Most of the 3 Series' advanced driver assist features aren't standard; | BV16: No major changes expected after last year's significant updates;Part of the seventh 3 Series generation introduced for 2019; | BY16: 5 / 5;5 / 5;5 / 5; | CE16: 7.8/10 | CF16: 8.0/10 | CG16: 7.0/10 | CH16: 8.0/10 | CI16: 8.0/10 | CJ16: 8.0/10 | CK16: 8.0/10 | CL16: 7.5/10 | CM16: 8.0/10 | DK16: Europe/Germany | DL16: Compact car | DM16: G20
B17: 402004581 | C17: BMW | D17: 3 Series | E17: 2024 | F17: 330e | G17: 330e 4dr Sedan (2.0L 4cyl Turbo gas/electric plug-in hybrid 8A) | H17: 45600 | I17: 42910 | J17: Brooklyn Grey Metallic(159,168,168);Jet Black(20,20,20);Melbourne Red Metallic(146,15,13);Dravit Grey Metallic(96,100,101);Tanzanite Blue II Metallic(16,91,161);Portimao Blue Metallic(66,89,154);Skyscraper Grey Metallic(127,133,133);Phytonic Blue Metallic(63,106,138);Alpine White(255,255,255);Mineral White Metallic(234,234,234);Black Sapphire Metallic(0,0,0); | K17: Cognac SensaTec, leatherette(156,116,91);Black SensaTec, leatherette(0,0,0);Black Vernasca, leather(0,0,0);Black Vernasca w/Blue Contrast Stitching, leather(0,0,0);Tacora Red SensaTec, leatherette(132,74,69);Mocha Vernasca, leather(90,86,83);Tacora Red Vernasca, leather(132,74,69);Canberra Beige SensaTec, leatherette(217,211,199);Oyster Vernasca, leather(220,216,208); | L17: Sedan | M17: 4 | N17: 5 | O17: 185.9 | P17: 71.9 | Q17: 56.9 | R17: 112.2 | U17: 5.8 | X17: 37.2 | AA17: 13.2 | AC17: 4083 | AD17: 5071 | AE17: 820 | AG17: I4 | AH17: 2 | AI17: 288 | AK17: 310 | AM17: 16 | AN17: Variable | AO17: Double overhead cam (DOHC) | AP17: rear wheel drive | AQ17: 8-speed shiftable automatic | AR17: plug-in hybrid | AS17: premium unleaded (required) | AT17: 10.6 | AU17: 27 | AV17: 24/32 MPG | AW17: 254.4/339.2 mi. | AX17: 73 | AY17: 69/78 | AZ17: 22 | BD17: 38.7 | BF17: 42 | BG17: 56 | BH17: 37.6 | BJ17: 35.2 | BK17: 54.6 | BL17: 4 yr./ 50000 mi. | BM17: 4 yr./ 50000 mi. | BN17: 4 yr./ unlimited mi. | BO17: 12 yr./ unlimited mi. | BQ17: https://www.edmunds.com/bmw/3-series/2024/review/ | BR17: https://media.ed.edmunds-media.com/bmw/3-series/2023/oem/2023_bmw_3-series_sedan_330i-xdrive_fq_oem_1_815.jpg;https://media.ed.edmunds-media.com/bmw/3-series/2023/oem/2023_bmw_3-series_sedan_330i-xdrive_rq_oem_2_815.jpg;https://media.ed.edmunds-media.com/bmw/3-series/2023/oem/2023_bmw_3-series_sedan_330i-xdrive_rq_oem_3_815.jpg;https://media.ed.edmunds-media.com/bmw/3-series/2023/oem/2023_bmw_3-series_sedan_330i-xdrive_rq_oem_4_815.jpg;https://media.ed.edmunds-media.com/bmw/3-series/2023/oem/2023_bmw_3-series_sedan_330i-xdrive_rq_oem_5_815.jpg; | BS17: There was a time when choosing a BMW 3 Series over its primary rivals in the compact luxury car segment was an easy decision, especially if you enjoy the act of driving. Today, the 3 Series still adheres to the qualities that made it popular in the first place and remains a rewarding choice for enthusiasts, but it's no longer the only game in town. In addition, many alternatives to this BMW offer appealing traits unavailable in a 3 Series, like an electric drive system, a wagon body style, and more value for the money.;Last year, the seventh-generation 3 Series received its midlife updates right on schedule, and a redesign is rumored to arrive for the 2026 model year. So, expect few, if any, changes to the 2024 BMW 3 Series. It continues with turbocharged four- and six-cylinder gas engines and a turbocharged plug-in hybrid powertrain, each paired with rear-wheel drive or BMW's xDrive all-wheel-drive system. The high-performance M3 remains in the lineup but is reviewed separately.;If we sound lukewarm about the 2024 3 Series, know that we still enjoy getting behind its steering wheel, firing up its engine, and seeking out fun roads to explore. But this BMW faces more capable competitors than ever, which dilutes its appeal. For additional perspective on the 3 Series check out the Edmunds testing team's full Expert Rating of the car.;BMW hasn't released official information on the 2024 3 Series as of this writing. We'll update our recommendation if anything changes, but based on last year's 3 Series, we recommend the 330e plug-in hybrid version. It doesn't cost much more than a base 330i, but it provides an estimated 22 miles of electric driving before switching to hybrid operation. Better yet, there is no penalty in terms of performance.;[Editor's note: The following unofficial information is based on last year's 3 Series. We expect the 2024 model will have a similar lineup and we'll update this section once we have complete information.] The BMW 3 Series sedan lineup includes the 330i, 330e and M340i. Each one has a slightly different mission. The 330i is the entry-level 3 Series while the 330e is a plug-in hybrid. The M340i is the sportiest and most powerful. Keep reading for our editors' curated breakdown of each trim's powertrain and standard and optional features. ;330i The base trim comes reasonably well equipped with:;Tech features include:;330e The 330e includes all the standard features of the regular 330i but adds a plug-in hybrid powertrain with a turbocharged four-cylinder gasoline engine and an electric motor (combined 288 hp, 310 lb-ft). The EPA estimates it can drive about 22 miles on a fully charged battery. M340i The M340i provides a big increase in performance thanks to its larger engine:;BMW offers a variety of options and packages for the 3 Series. Depending on the model, key choices to look out for include:; | BT17: Polished handling;Tastefully modern interior with plenty of room;Powerful and fuel-efficient engines; | BU17: Ride quality can be a little too firm at times;Most of the 3 Series' advanced driver assist features aren't standard; | BV17: No major changes expected after last year's significant updates;Part of the seventh 3 Series generation introduced for 2019; | BY17: 5 / 5;5 / 5;5 / 5; | CE17: 7.8/10 | CF17: 8.0/10 | CG17: 7.0/10 | CH17: 8.0/10 | CI17: 8.0/10 | CJ17: 8.0/10 | CK17: 8.0/10 | CL17: 7.5/10 | CM17: 8.0/10 | DK17: Europe/Germany | DL17: Compact car | DM17: G20
B18: 402004580 | C18: BMW | D18: 3 Series | E18: 2024 | F18: M340i xDrive | G18: M340i xDrive 4dr Sedan AWD (3.0L 6cyl Turbo gas/electric mild hybrid 8A) | H18: 59600 | I18: 55930 | J18: Brooklyn Grey Metallic(159,168,168);Melbourne Red Metallic(146,15,13);Dravit Grey Metallic(96,100,101);Tanzanite Blue II Metallic(16,91,161);Portimao Blue Metallic(66,89,154);Skyscraper Grey Metallic(127,133,133);Alpine White(255,255,255);Mineral White Metallic(234,234,234);Black Sapphire Metallic(0,0,0); | K18: Cognac SensaTec, leatherette(156,116,91);Black SensaTec, leatherette(0,0,0);Black Vernasca, leather(0,0,0);Black Vernasca w/Blue Contrast Stitching, leather(0,0,0);Tacora Red SensaTec, leatherette(132,74,69);Mocha Vernasca, leather(90,86,83);Tacora Red Vernasca, leather(132,74,69);Canberra Beige SensaTec, leatherette(217,211,199);Oyster Vernasca, leather(220,216,208); | L18: Sedan | M18: 4 | N18: 5 | O18: 185.9 | P18: 71.9 | Q18: 56.7 | R18: 112.2 | U18: 5.4 | X18: 39.2 | AA18: 16.9 | AC18: 3951 | AD18: 4982 | AE18: 882 | AG18: I6 | AH18: 3 | AI18: 382 | AJ18: 5800 | AK18: 369 | AL18: 1800 | AM18: 24 | AN18: Variable | AO18: Double overhead cam (DOHC) | AP18: all wheel drive | AQ18: 8-speed shiftable automatic | AR18: mild hybrid | AS18: premium unleaded (required) | AT18: 15.6 | AU18: 26 | AV18: 23/31 MPG | AW18: 358.8/483.6 mi. | BD18: 38.7 | BF18: 42 | BG18: 56 | BH18: 37.6 | BJ18: 35.2 | BK18: 54.6 | BL18: 4 yr./ 50000 mi. | BM18: 4 yr./ 50000 mi. | BN18: 4 yr./ unlimited mi. | BO18: 12 yr./ unlimited mi. | BQ18: https://www.edmunds.com/bmw/3-series/2024/review/ | BR18: https://media.ed.edmunds-media.com/bmw/3-series/2023/oem/2023_bmw_3-series_sedan_330i-xdrive_fq_oem_1_815.jpg;https://media.ed.edmunds-media.com/bmw/3-series/2023/oem/2023_bmw_3-series_sedan_330i-xdrive_rq_oem_2_815.jpg;https://media.ed.edmunds-media.com/bmw/3-series/2023/oem/2023_bmw_3-series_sedan_330i-xdrive_rq_oem_3_815.jpg;https://media.ed.edmunds-media.com/bmw/3-series/2023/oem/2023_bmw_3-series_sedan_330i-xdrive_rq_oem_4_815.jpg;https://media.ed.edmunds-media.com/bmw/3-series/2023/oem/2023_bmw_3-series_sedan_330i-xdrive_rq_oem_5_815.jpg; | BS18: There was a time when choosing a BMW 3 Series over its primary rivals in the compact luxury car segment was an easy decision, especially if you enjoy the act of driving. Today, the 3 Series still adheres to the qualities that made it popular in the first place and remains a rewarding choice for enthusiasts, but it's no longer the only game in town. In addition, many alternatives to this BMW offer appealing traits unavailable in a 3 Series, like an electric drive system, a wagon body style, and more value for the money.;Last year, the seventh-generation 3 Series received its midlife updates right on schedule, and a redesign is rumored to arrive for the 2026 model year. So, expect few, if any, changes to the 2024 BMW 3 Series. It continues with turbocharged four- and six-cylinder gas engines and a turbocharged plug-in hybrid powertrain, each paired with rear-wheel drive or BMW's xDrive all-wheel-drive system. The high-performance M3 remains in the lineup but is reviewed separately.;If we sound lukewarm about the 2024 3 Series, know that we still enjoy getting behind its steering wheel, firing up its engine, and seeking out fun roads to explore. But this BMW faces more capable competitors than ever, which dilutes its appeal. For additional perspective on the 3 Series check out the Edmunds testing team's full Expert Rating of the car.;BMW hasn't released official information on the 2024 3 Series as of this writing. We'll update our recommendation if anything changes, but based on last year's 3 Series, we recommend the 330e plug-in hybrid version. It doesn't cost much more than a base 330i, but it provides an estimated 22 miles of electric driving before switching to hybrid operation. Better yet, there is no penalty in terms of performance.;[Editor's note: The following unofficial information is based on last year's 3 Series. We expect the 2024 model will have a similar lineup and we'll update this section once we have complete information.] The BMW 3 Series sedan lineup includes the 330i, 330e and M340i. Each one has a slightly different mission. The 330i is the entry-level 3 Series while the 330e is a plug-in hybrid. The M340i is the sportiest and most powerful. Keep reading for our editors' curated breakdown of each trim's powertrain and standard and optional features. ;330i The base trim comes reasonably well equipped with:;Tech features include:;330e The 330e includes all the standard features of the regular 330i but adds a plug-in hybrid powertrain with a turbocharged four-cylinder gasoline engine and an electric motor (combined 288 hp, 310 lb-ft). The EPA estimates it can drive about 22 miles on a fully charged battery. M340i The M340i provides a big increase in performance thanks to its larger engine:;BMW offers a variety of options and packages for the 3 Series. Depending on the model, key choices to look out for include:; | BT18: Polished handling;Tastefully modern interior with plenty of room;Powerful and fuel-efficient engines; | BU18: Ride quality can be a little too firm at times;Most of the 3 Series' advanced driver assist features aren't standard; | BV18: No major changes expected after last year's significant updates;Part of the seventh 3 Series generation introduced for 2019; | BY18: 5 / 5;5 / 5;5 / 5; | CE18: 7.8/10 | CF18: 8.0/10 | CG18: 7.0/10 | CH18: 8.0/10 | CI18: 8.0/10 | CJ18: 8.0/10 | CK18: 8.0/10 | CL18: 7.5/10 | CM18: 8.0/10 | DK18: Europe/Germany | DL18: Compact car | DM18: G20
B19: 402004579 | C19: BMW | D19: 3 Series | E19: 2024 | F19: M340i | G19: M340i 4dr Sedan (3.0L 6cyl Turbo gas/electric mild hybrid 8A) | H19: 57600 | I19: 54070 | J19: Brooklyn Grey Metallic(159,168,168);Melbourne Red Metallic(146,15,13);Dravit Grey Metallic(96,100,101);Tanzanite Blue II Metallic(16,91,161);Portimao Blue Metallic(66,89,154);Skyscraper Grey Metallic(127,133,133);Alpine White(255,255,255);Mineral White Metallic(234,234,234);Black Sapphire Metallic(0,0,0); | K19: Cognac SensaTec, leatherette(156,116,91);Black SensaTec, leatherette(0,0,0);Black Vernasca, leather(0,0,0);Black Vernasca w/Blue Contrast Stitching, leather(0,0,0);Tacora Red SensaTec, leatherette(132,74,69);Mocha Vernasca, leather(90,86,83);Tacora Red Vernasca, leather(132,74,69);Canberra Beige SensaTec, leatherette(217,211,199);Oyster Vernasca, leather(220,216,208); | L19: Sedan | M19: 4 | N19: 5 | O19: 185.9 | P19: 71.9 | Q19: 56.4 | R19: 112.2 | U19: 5.4 | X19: 37.4 | AA19: 16.9 | AC19: 3834 | AD19: 4850 | AE19: 884 | AG19: I6 | AH19: 3 | AI19: 382 | AJ19: 5800 | AK19: 369 | AL19: 1800 | AM19: 24 | AN19: Variable | AO19: Double overhead cam (DOHC) | AP19: rear wheel drive | AQ19: 8-speed shiftable automatic | AR19: mild hybrid | AS19: premium unleaded (required) | AT19: 15.6 | AU19: 26 | AV19: 23/31 MPG | AW19: 358.8/483.6 mi. | BD19: 38.7 | BF19: 42 | BG19: 56 | BH19: 37.6 | BJ19: 35.2 | BK19: 54.6 | BL19: 4 yr./ 50000 mi. | BM19: 4 yr./ 50000 mi. | BN19: 4 yr./ unlimited mi. | BO19: 12 yr./ unlimited mi. | BQ19: https://www.edmunds.com/bmw/3-series/2024/review/ | BR19: https://media.ed.edmunds-media.com/bmw/3-series/2023/oem/2023_bmw_3-series_sedan_330i-xdrive_fq_oem_1_815.jpg;https://media.ed.edmunds-media.com/bmw/3-series/2023/oem/2023_bmw_3-series_sedan_330i-xdrive_rq_oem_2_815.jpg;https://media.ed.edmunds-media.com/bmw/3-series/2023/oem/2023_bmw_3-series_sedan_330i-xdrive_rq_oem_3_815.jpg;https://media.ed.edmunds-media.com/bmw/3-series/2023/oem/2023_bmw_3-series_sedan_330i-xdrive_rq_oem_4_815.jpg;https://media.ed.edmunds-media.com/bmw/3-series/2023/oem/2023_bmw_3-series_sedan_330i-xdrive_rq_oem_5_815.jpg; | BS19: There was a time when choosing a BMW 3 Series over its primary rivals in the compact luxury car segment was an easy decision, especially if you enjoy the act of driving. Today, the 3 Series still adheres to the qualities that made it popular in the first place and remains a rewarding choice for enthusiasts, but it's no longer the only game in town. In addition, many alternatives to this BMW offer appealing traits unavailable in a 3 Series, like an electric drive system, a wagon body style, and more value for the money.;Last year, the seventh-generation 3 Series received its midlife updates right on schedule, and a redesign is rumored to arrive for the 2026 model year. So, expect few, if any, changes to the 2024 BMW 3 Series. It continues with turbocharged four- and six-cylinder gas engines and a turbocharged plug-in hybrid powertrain, each paired with rear-wheel drive or BMW's xDrive all-wheel-drive system. The high-performance M3 remains in the lineup but is reviewed separately.;If we sound lukewarm about the 2024 3 Series, know that we still enjoy getting behind its steering wheel, firing up its engine, and seeking out fun roads to explore. But this BMW faces more capable competitors than ever, which dilutes its appeal. For additional perspective on the 3 Series check out the Edmunds testing team's full Expert Rating of the car.;BMW hasn't released official information on the 2024 3 Series as of this writing. We'll update our recommendation if anything changes, but based on last year's 3 Series, we recommend the 330e plug-in hybrid version. It doesn't cost much more than a base 330i, but it provides an estimated 22 miles of electric driving before switching to hybrid operation. Better yet, there is no penalty in terms of performance.;[Editor's note: The following unofficial information is based on last year's 3 Series. We expect the 2024 model will have a similar lineup and we'll update this section once we have complete information.] The BMW 3 Series sedan lineup includes the 330i, 330e and M340i. Each one has a slightly different mission. The 330i is the entry-level 3 Series while the 330e is a plug-in hybrid. The M340i is the sportiest and most powerful. Keep reading for our editors' curated breakdown of each trim's powertrain and standard and optional features. ;330i The base trim comes reasonably well equipped with:;Tech features include:;330e The 330e includes all the standard features of the regular 330i but adds a plug-in hybrid powertrain with a turbocharged four-cylinder gasoline engine and an electric motor (combined 288 hp, 310 lb-ft). The EPA estimates it can drive about 22 miles on a fully charged battery. M340i The M340i provides a big increase in performance thanks to its larger engine:;BMW offers a variety of options and packages for the 3 Series. Depending on the model, key choices to look out for include:; | BT19: Polished handling;Tastefully modern interior with plenty of room;Powerful and fuel-efficient engines; | BU19: Ride quality can be a little too firm at times;Most of the 3 Series' advanced driver assist features aren't standard; | BV19: No major changes expected after last year's significant updates;Part of the seventh 3 Series generation introduced for 2019; | BY19: 5 / 5;5 / 5;5 / 5; | CE19: 7.8/10 | CF19: 8.0/10 | CG19: 7.0/10 | CH19: 8.0/10 | CI19: 8.0/10 | CJ19: 8.0/10 | CK19: 8.0/10 | CL19: 7.5/10 | CM19: 8.0/10 | DK19: Europe/Germany | DL19: Compact car | DM19: G20
B20: 402004582 | C20: BMW | D20: 3 Series | E20: 2024 | F20: 330e xDrive | G20: 330e xDrive 4dr Sedan AWD (2.0L 4cyl Turbo gas/electric plug-in hybrid 8A) | H20: 47600 | I20: 44770 | J20: Brooklyn Grey Metallic(159,168,168);Jet Black(20,20,20);Melbourne Red Metallic(146,15,13);Dravit Grey Metallic(96,100,101);Tanzanite Blue II Metallic(16,91,161);Portimao Blue Metallic(66,89,154);Skyscraper Grey Metallic(127,133,133);Phytonic Blue Metallic(63,106,138);Alpine White(255,255,255);Mineral White Metallic(234,234,234);Black Sapphire Metallic(0,0,0); | K20: Cognac SensaTec, leatherette(156,116,91);Black SensaTec, leatherette(0,0,0);Black Vernasca, leather(0,0,0);Black Vernasca w/Blue Contrast Stitching, leather(0,0,0);Tacora Red SensaTec, leatherette(132,74,69);Mocha Vernasca, leather(90,86,83);Tacora Red Vernasca, leather(132,74,69);Canberra Beige SensaTec, leatherette(217,211,199);Oyster Vernasca, leather(220,216,208); | L20: Sedan | M20: 4 | N20: 5 | O20: 185.9 | P20: 71.9 | Q20: 56.9 | R20: 112.2 | U20: 5.8 | X20: 39.4 | AA20: 13.2 | AC20: 4180 | AD20: 5170 | AE20: 809 | AG20: I4 | AH20: 2 | AI20: 288 | AK20: 310 | AM20: 16 | AN20: Variable | AO20: Double overhead cam (DOHC) | AP20: all wheel drive | AQ20: 8-speed shiftable automatic | AR20: plug-in hybrid | AS20: premium unleaded (required) | AT20: 10.6 | AU20: 26 | AV20: 22/32 MPG | AW20: 233.2/339.2 mi. | AX20: 68 | AY20: 64/75 | AZ20: 20 | BD20: 38.7 | BF20: 42 | BG20: 56 | BH20: 37.6 | BJ20: 35.2 | BK20: 54.6 | BL20: 4 yr./ 50000 mi. | BM20: 4 yr./ 50000 mi. | BN20: 4 yr./ unlimited mi. | BO20: 12 yr./ unlimited mi. | BQ20: https://www.edmunds.com/bmw/3-series/2024/review/ | BR20: https://media.ed.edmunds-media.com/bmw/3-series/2023/oem/2023_bmw_3-series_sedan_330i-xdrive_fq_oem_1_815.jpg;https://media.ed.edmunds-media.com/bmw/3-series/2023/oem/2023_bmw_3-series_sedan_330i-xdrive_rq_oem_2_815.jpg;https://media.ed.edmunds-media.com/bmw/3-series/2023/oem/2023_bmw_3-series_sedan_330i-xdrive_rq_oem_3_815.jpg;https://media.ed.edmunds-media.com/bmw/3-series/2023/oem/2023_bmw_3-series_sedan_330i-xdrive_rq_oem_4_815.jpg;https://media.ed.edmunds-media.com/bmw/3-series/2023/oem/2023_bmw_3-series_sedan_330i-xdrive_rq_oem_5_815.jpg; | BS20: There was a time when choosing a BMW 3 Series over its primary rivals in the compact luxury car segment was an easy decision, especially if you enjoy the act of driving. Today, the 3 Series still adheres to the qualities that made it popular in the first place and remains a rewarding choice for enthusiasts, but it's no longer the only game in town. In addition, many alternatives to this BMW offer appealing traits unavailable in a 3 Series, like an electric drive system, a wagon body style, and more value for the money.;Last year, the seventh-generation 3 Series received its midlife updates right on schedule, and a redesign is rumored to arrive for the 2026 model year. So, expect few, if any, changes to the 2024 BMW 3 Series. It continues with turbocharged four- and six-cylinder gas engines and a turbocharged plug-in hybrid powertrain, each paired with rear-wheel drive or BMW's xDrive all-wheel-drive system. The high-performance M3 remains in the lineup but is reviewed separately.;If we sound lukewarm about the 2024 3 Series, know that we still enjoy getting behind its steering wheel, firing up its engine, and seeking out fun roads to explore. But this BMW faces more capable competitors than ever, which dilutes its appeal. For additional perspective on the 3 Series check out the Edmunds testing team's full Expert Rating of the car.;BMW hasn't released official information on the 2024 3 Series as of this writing. We'll update our recommendation if anything changes, but based on last year's 3 Series, we recommend the 330e plug-in hybrid version. It doesn't cost much more than a base 330i, but it provides an estimated 22 miles of electric driving before switching to hybrid operation. Better yet, there is no penalty in terms of performance.;[Editor's note: The following unofficial information is based on last year's 3 Series. We expect the 2024 model will have a similar lineup and we'll update this section once we have complete information.] The BMW 3 Series sedan lineup includes the 330i, 330e and M340i. Each one has a slightly different mission. The 330i is the entry-level 3 Series while the 330e is a plug-in hybrid. The M340i is the sportiest and most powerful. Keep reading for our editors' curated breakdown of each trim's powertrain and standard and optional features. ;330i The base trim comes reasonably well equipped with:;Tech features include:;330e The 330e includes all the standard features of the regular 330i but adds a plug-in hybrid powertrain with a turbocharged four-cylinder gasoline engine and an electric motor (combined 288 hp, 310 lb-ft). The EPA estimates it can drive about 22 miles on a fully charged battery. M340i The M340i provides a big increase in performance thanks to its larger engine:;BMW offers a variety of options and packages for the 3 Series. Depending on the model, key choices to look out for include:; | BT20: Polished handling;Tastefully modern interior with plenty of room;Powerful and fuel-efficient engines; | BU20: Ride quality can be a little too firm at times;Most of the 3 Series' advanced driver assist features aren't standard; | BV20: No major changes expected after last year's significant updates;Part of the seventh 3 Series generation introduced for 2019; | BY20: 5 / 5;5 / 5;5 / 5; | CE20: 7.8/10 | CF20: 8.0/10 | CG20: 7.0/10 | CH20: 8.0/10 | CI20: 8.0/10 | CJ20: 8.0/10 | CK20: 8.0/10 | CL20: 7.5/10 | CM20: 8.0/10 | DK20: Europe/Germany | DL20: Compact car | DM20: G20
B21: 402010102 | C21: BMW | D21: 3 Series | E21: 2024 | F21: M3 Competition xDrive | G21: M3 Competition xDrive 4dr Sedan AWD (3.0L 6cyl Turbo 8A) | H21: 84300 | I21: 78900 | J21: Toronto Red Metallic(201,74,60);Brooklyn Grey Metallic(176,184,186);Frozen Brilliant White Metallic(239,239,239);Tanzanite Blue II Metallic(16,91,161);Aventurin Red Metallic(133,0,16);Portimao Blue Metallic(84,109,176);Special Order Color();Dravit Grey Metallic(96,100,101);Isle of Man Green Metallic(63,122,100);Black Sapphire Metallic(0,0,0);Alpine White(255,255,255);Frozen Portimao Blue Metallic(84,109,176);Skyscraper Grey Metallic(124,130,130);Frozen Pure Grey II Metallic(151,155,154);Sao Paulo Yellow(215,217,58); | K21: Fiona Red/Black Extended Merino, premium leather(141,84,72);Tartufo Full Merino, premium leather(157,120,102);Black Extended Merino, premium leather(0,0,0);Fiona Red/Black Full Merino, premium leather(141,84,72);Kyalami Orange/Black Extended Merino, premium leather(191,125,77);Tartufo Extended Merino, premium leather(157,120,102);Ivory White Full Merino, premium leather(207,206,202);Ivory White Extended Merino, premium leather(207,206,202);Fjord Blue/Black Extended Merino, premium leather(93,101,120);Fjord Blue/Black Full Merino, premium leather(93,101,120);Silverstone/Black Extended Merino, premium leather(192,193,197);Yas Marina Blue/Black Extended Merino w/Yellow Accent, premium leather(99,125,148);Yas Marina Blue/Black Full Merino w/Yellow Accent, premium leather(99,125,148);Kyalami Orange/Black Full Merino, premium leather(191,125,77);Silverstone/Black Full Merino, premium leather(192,193,197);Black Full Merino, premium leather(0,0,0); | L21: Sedan | M21: 4 | N21: 5 | O21: 189.1 | P21: 74.3 | Q21: 56.5 | R21: 112.5 | U21: 4.8 | X21: 40 | AA21: 16.9 | AC21: 3990 | AD21: 4982 | AE21: 860 | AG21: I6 | AH21: 3 | AI21: 503 | AJ21: 6250 | AK21: 479 | AL21: 2750 | AM21: 24 | AN21: Variable | AO21: Double overhead cam (DOHC) | AP21: all wheel drive | AQ21: 8-speed automatic | AR21: gas | AS21: premium unleaded (required) | AT21: 15.6 | AU21: 18 | AV21: 16/22 MPG | AW21: 249.6/343.2 mi. | BD21: 40.6 | BF21: 41.6 | BG21: 56 | BH21: 37.8 | BJ21: 35.6 | BK21: 54.6 | BL21: 4 yr./ 50000 mi. | BM21: 4 yr./ 50000 mi. | BN21: 4 yr./ unlimited mi. | BO21: 12 yr./ unlimited mi. | BQ21: https://www.edmunds.com/bmw/m3/2024/review/ | BR21: https://media.ed.edmunds-media.com/bmw/m3/2022/oem/2022_bmw_m3_sedan_competition_fq_oem_1_815.jpg;https://media.ed.edmunds-media.com/bmw/m3/2022/oem/2022_bmw_m3_sedan_competition_fq_oem_10_175.jpg;https://media.ed.edmunds-media.com/bmw/m3/2022/oem/2022_bmw_m3_sedan_competition_fq_oem_11_175.jpg;https://media.ed.edmunds-media.com/bmw/m3/2022/oem/2022_bmw_m3_sedan_competition_fq_oem_12_175.jpg;https://media.ed.edmunds-media.com/bmw/m3/2022/oem/2022_bmw_m3_sedan_competition_fq_oem_13_175.jpg; | BS21: The BMW M3 has garnered quite a reputation in the sports car world. For almost 40 years, the M3 name has been synonymous with power and performance. The performance variant of the 3 Series consistently dominates the luxury sport sedan segment. Unlike most of its competition, the M3 leans more toward performance and less toward comfort. But it still offers plenty of luxury. An enthusiast-preferred six-speed manual transmission routes 473 horsepower to the rear wheels in the base M3. But if you want an automatic transmission, go for the 503-hp M3 Competition, which is available in rear- or all-wheel drive. For 2024, there's a new model for those looking for the most the M3 has to offer. ;The M3 CS is a new limited-production, track-focused version of the M3. It's the most powerful M3, producing 543 hp, and the lightest thanks to lightweight components that save 75 pounds. It shares many upgrades with its fellow track monster, the two-door M4 CSL, but keeps its rear seats and adds all-wheel drive for improved acceleration. A titanium muffler, upgraded brakes and lighter forged wheels with sticky high-performance tires (superior Michelin Pilot Sport Cup 2 tires are a no-cost option) are just some of the go-fast parts BMW threw at the M3 CS. The highly capable sedan also boasts an adaptive suspension, stability control and steering that's been configured for track use. ;As impressive as the M3 is, its styling and somewhat stiff ride aren't for everyone. Also, the luxury sport sedan segment is packed with many talented alternatives, including the all-new Mercedes-Benz AMG C 63 S E-Performance plug-in hybrid, the stylish and comfortable Audi RS 5 and the Italian option: the superb Alfa Romeo Giulia Quadrifoglio. The Cadillac CT4-V Blackwing is another often overlooked but similarly worthy rival. For our test team's take on the BMW M3, check out the Expert Rating below.;[Editor's note: The following unofficial information is based on last year's M3. We expect the 2024 model will have a similar lineup and we'll update this section once we have complete information.] The BMW M3 is available in four trim levels: the base M3, the M3 Competition and the M3 Competition xDrive. For 2024, the new track-specced M3 CS is also available in limited numbers. Here's our breakdown of the various powertrains and features you get with each trim:;M3 Sedan Comes loaded with:;The M3 also comes with:;A handful of options are available on the M3. Notable picks include:;Competition Standard features on the M3 Competition mirror those on the standard car. It also includes:;The Competition xDrive adds all-wheel drive. ;The M3 Competition and Competition xDrive are also available with one extra package:;The new M3 CS features:; | BV21: New limited-production, track-focused M3 CS debuts;Based on the seventh 3 Series generation introduced for 2019; | CE21: 7.9/10Edmunds Rating | CF21: Performance8.0/10 | CG21: Comfort7.5/10 | CH21: Interior8.0/10 | CI21: Technology8.0/10 | CJ21: Storage8.0/10 | CK21: Fuel Economy7.5/10 | CL21: Value7.5/10 | CM21: Wildcard8.0/10 | DK21: Europe/Germany | DL21: Compact car | DM21: G20
B22: 401977206 | C22: BMW | D22: 3 Series | E22: 2024 | F22: M3 | G22: M3 4dr Sedan (3.0L 6cyl Turbo 6M) | H22: 76000 | I22: 71180 | J22: Toronto Red Metallic(201,74,60);Brooklyn Grey Metallic(176,184,186);Frozen Brilliant White Metallic(239,239,239);Tanzanite Blue II Metallic(16,91,161);Aventurin Red Metallic(133,0,16);Portimao Blue Metallic(84,109,176);Special Order Color();Dravit Grey Metallic(96,100,101);Isle of Man Green Metallic(63,122,100);Black Sapphire Metallic(0,0,0);Alpine White(255,255,255);Frozen Portimao Blue Metallic(84,109,176);Skyscraper Grey Metallic(124,130,130);Frozen Pure Grey II Metallic(151,155,154);Sao Paulo Yellow(215,217,58); | K22: Fiona Red/Black Extended Merino, premium leather(141,84,72);Tartufo Full Merino, premium leather(157,120,102);Black Extended Merino, premium leather(0,0,0);Fiona Red/Black Full Merino, premium leather(141,84,72);Kyalami Orange/Black Extended Merino, premium leather(191,125,77);Tartufo Extended Merino, premium leather(157,120,102);Ivory White Full Merino, premium leather(207,206,202);Ivory White Extended Merino, premium leather(207,206,202);Fjord Blue/Black Extended Merino, premium leather(93,101,120);Fjord Blue/Black Full Merino, premium leather(93,101,120);Silverstone/Black Extended Merino, premium leather(192,193,197);Yas Marina Blue/Black Extended Merino w/Yellow Accent, premium leather(99,125,148);Yas Marina Blue/Black Full Merino w/Yellow Accent, premium leather(99,125,148);Kyalami Orange/Black Full Merino, premium leather(191,125,77);Silverstone/Black Full Merino, premium leather(192,193,197);Black Full Merino, premium leather(0,0,0); | L22: Sedan | M22: 4 | N22: 5 | O22: 189.1 | P22: 74.3 | Q22: 56.4 | R22: 112.5 | U22: 4.7 | X22: 40 | AA22: 16.9 | AC22: 3840 | AD22: 4870 | AE22: 860 | AG22: I6 | AH22: 3 | AI22: 473 | AJ22: 6250 | AK22: 406 | AL22: 2650 | AM22: 24 | AN22: Variable | AO22: Double overhead cam (DOHC) | AP22: rear wheel drive | AQ22: 6-speed manual | AR22: gas | AS22: premium unleaded (required) | AT22: 15.6 | AU22: 19 | AV22: 16/23 MPG | AW22: 249.6/358.8 mi. | BD22: 40.6 | BF22: 41.6 | BG22: 56 | BH22: 37.8 | BJ22: 35.6 | BK22: 54.6 | BL22: 4 yr./ 50000 mi. | BM22: 4 yr./ 50000 mi. | BN22: 4 yr./ unlimited mi. | BO22: 12 yr./ unlimited mi. | BQ22: https://www.edmunds.com/bmw/m3/2024/review/ | BR22: https://media.ed.edmunds-media.com/bmw/m3/2022/oem/2022_bmw_m3_sedan_competition_fq_oem_1_815.jpg;https://media.ed.edmunds-media.com/bmw/m3/2022/oem/2022_bmw_m3_sedan_competition_fq_oem_10_175.jpg;https://media.ed.edmunds-media.com/bmw/m3/2022/oem/2022_bmw_m3_sedan_competition_fq_oem_11_175.jpg;https://media.ed.edmunds-media.com/bmw/m3/2022/oem/2022_bmw_m3_sedan_competition_fq_oem_12_175.jpg;https://media.ed.edmunds-media.com/bmw/m3/2022/oem/2022_bmw_m3_sedan_competition_fq_oem_13_175.jpg; | BS22: The BMW M3 has garnered quite a reputation in the sports car world. For almost 40 years, the M3 name has been synonymous with power and performance. The performance variant of the 3 Series consistently dominates the luxury sport sedan segment. Unlike most of its competition, the M3 leans more toward performance and less toward comfort. But it still offers plenty of luxury. An enthusiast-preferred six-speed manual transmission routes 473 horsepower to the rear wheels in the base M3. But if you want an automatic transmission, go for the 503-hp M3 Competition, which is available in rear- or all-wheel drive. For 2024, there's a new model for those looking for the most the M3 has to offer. ;The M3 CS is a new limited-production, track-focused version of the M3. It's the most powerful M3, producing 543 hp, and the lightest thanks to lightweight components that save 75 pounds. It shares many upgrades with its fellow track monster, the two-door M4 CSL, but keeps its rear seats and adds all-wheel drive for improved acceleration. A titanium muffler, upgraded brakes and lighter forged wheels with sticky high-performance tires (superior Michelin Pilot Sport Cup 2 tires are a no-cost option) are just some of the go-fast parts BMW threw at the M3 CS. The highly capable sedan also boasts an adaptive suspension, stability control and steering that's been configured for track use. ;As impressive as the M3 is, its styling and somewhat stiff ride aren't for everyone. Also, the luxury sport sedan segment is packed with many talented alternatives, including the all-new Mercedes-Benz AMG C 63 S E-Performance plug-in hybrid, the stylish and comfortable Audi RS 5 and the Italian option: the superb Alfa Romeo Giulia Quadrifoglio. The Cadillac CT4-V Blackwing is another often overlooked but similarly worthy rival. For our test team's take on the BMW M3, check out the Expert Rating below.;[Editor's note: The following unofficial information is based on last year's M3. We expect the 2024 model will have a similar lineup and we'll update this section once we have complete information.] The BMW M3 is available in four trim levels: the base M3, the M3 Competition and the M3 Competition xDrive. For 2024, the new track-specced M3 CS is also available in limited numbers. Here's our breakdown of the various powertrains and features you get with each trim:;M3 Sedan Comes loaded with:;The M3 also comes with:;A handful of options are available on the M3. Notable picks include:;Competition Standard features on the M3 Competition mirror those on the standard car. It also includes:;The Competition xDrive adds all-wheel drive. ;The M3 Competition and Competition xDrive are also available with one extra package:;The new M3 CS features:; | BV22: New limited-production, track-focused M3 CS debuts;Based on the seventh 3 Series generation introduced for 2019; | CE22: 7.9/10Edmunds Rating | CF22: Performance8.0/10 | CG22: Comfort7.5/10 | CH22: Interior8.0/10 | CI22: Technology8.0/10 | CJ22: Storage8.0/10 | CK22: Fuel Economy7.5/10 | CL22: Value7.5/10 | CM22: Wildcard8.0/10 | DK22: Europe/Germany | DL22: Compact car | DM22: G20
B23: 402010103 | C23: BMW | D23: 3 Series | E23: 2024 | F23: M3 Competition | G23: M3 Competition 4dr Sedan (3.0L 6cyl Turbo 8A) | H23: 80200 | I23: 75085 | J23: Toronto Red Metallic(201,74,60);Brooklyn Grey Metallic(176,184,186);Frozen Brilliant White Metallic(239,239,239);Tanzanite Blue II Metallic(16,91,161);Aventurin Red Metallic(133,0,16);Portimao Blue Metallic(84,109,176);Special Order Color();Dravit Grey Metallic(96,100,101);Isle of Man Green Metallic(63,122,100);Black Sapphire Metallic(0,0,0);Alpine White(255,255,255);Frozen Portimao Blue Metallic(84,109,176);Skyscraper Grey Metallic(124,130,130);Frozen Pure Grey II Metallic(151,155,154);Sao Paulo Yellow(215,217,58); | K23: Fiona Red/Black Extended Merino, premium leather(141,84,72);Tartufo Full Merino, premium leather(157,120,102);Black Extended Merino, premium leather(0,0,0);Fiona Red/Black Full Merino, premium leather(141,84,72);Kyalami Orange/Black Extended Merino, premium leather(191,125,77);Tartufo Extended Merino, premium leather(157,120,102);Ivory White Full Merino, premium leather(207,206,202);Ivory White Extended Merino, premium leather(207,206,202);Fjord Blue/Black Extended Merino, premium leather(93,101,120);Fjord Blue/Black Full Merino, premium leather(93,101,120);Silverstone/Black Extended Merino, premium leather(192,193,197);Yas Marina Blue/Black Extended Merino w/Yellow Accent, premium leather(99,125,148);Yas Marina Blue/Black Full Merino w/Yellow Accent, premium leather(99,125,148);Kyalami Orange/Black Full Merino, premium leather(191,125,77);Silverstone/Black Full Merino, premium leather(192,193,197);Black Full Merino, premium leather(0,0,0); | L23: Sedan | M23: 4 | N23: 5 | O23: 189.1 | P23: 74.3 | Q23: 56.4 | R23: 112.5 | U23: 4.7 | X23: 40 | AA23: 16.9 | AC23: 3890 | AD23: 4870 | AE23: 860 | AG23: I6 | AH23: 3 | AI23: 503 | AJ23: 6250 | AK23: 479 | AL23: 2750 | AM23: 24 | AN23: Variable | AO23: Double overhead cam (DOHC) | AP23: rear wheel drive | AQ23: 8-speed automatic | AR23: gas | AS23: premium unleaded (required) | AT23: 15.6 | AU23: 19 | AV23: 16/23 MPG | AW23: 249.6/358.8 mi. | BD23: 40.6 | BF23: 41.6 | BG23: 56 | BH23: 37.8 | BJ23: 35.6 | BK23: 54.6 | BL23: 4 yr./ 50000 mi. | BM23: 4 yr./ 50000 mi. | BN23: 4 yr./ unlimited mi. | BO23: 12 yr./ unlimited mi. | BQ23: https://www.edmunds.com/bmw/m3/2024/review/ | BR23: https://media.ed.edmunds-media.com/bmw/m3/2022/oem/2022_bmw_m3_sedan_competition_fq_oem_1_815.jpg;https://media.ed.edmunds-media.com/bmw/m3/2022/oem/2022_bmw_m3_sedan_competition_fq_oem_10_175.jpg;https://media.ed.edmunds-media.com/bmw/m3/2022/oem/2022_bmw_m3_sedan_competition_fq_oem_11_175.jpg;https://media.ed.edmunds-media.com/bmw/m3/2022/oem/2022_bmw_m3_sedan_competition_fq_oem_12_175.jpg;https://media.ed.edmunds-media.com/bmw/m3/2022/oem/2022_bmw_m3_sedan_competition_fq_oem_13_175.jpg; | BS23: The BMW M3 has garnered quite a reputation in the sports car world. For almost 40 years, the M3 name has been synonymous with power and performance. The performance variant of the 3 Series consistently dominates the luxury sport sedan segment. Unlike most of its competition, the M3 leans more toward performance and less toward comfort. But it still offers plenty of luxury. An enthusiast-preferred six-speed manual transmission routes 473 horsepower to the rear wheels in the base M3. But if you want an automatic transmission, go for the 503-hp M3 Competition, which is available in rear- or all-wheel drive. For 2024, there's a new model for those looking for the most the M3 has to offer. ;The M3 CS is a new limited-production, track-focused version of the M3. It's the most powerful M3, producing 543 hp, and the lightest thanks to lightweight components that save 75 pounds. It shares many upgrades with its fellow track monster, the two-door M4 CSL, but keeps its rear seats and adds all-wheel drive for improved acceleration. A titanium muffler, upgraded brakes and lighter forged wheels with sticky high-performance tires (superior Michelin Pilot Sport Cup 2 tires are a no-cost option) are just some of the go-fast parts BMW threw at the M3 CS. The highly capable sedan also boasts an adaptive suspension, stability control and steering that's been configured for track use. ;As impressive as the M3 is, its styling and somewhat stiff ride aren't for everyone. Also, the luxury sport sedan segment is packed with many talented alternatives, including the all-new Mercedes-Benz AMG C 63 S E-Performance plug-in hybrid, the stylish and comfortable Audi RS 5 and the Italian option: the superb Alfa Romeo Giulia Quadrifoglio. The Cadillac CT4-V Blackwing is another often overlooked but similarly worthy rival. For our test team's take on the BMW M3, check out the Expert Rating below.;[Editor's note: The following unofficial information is based on last year's M3. We expect the 2024 model will have a similar lineup and we'll update this section once we have complete information.] The BMW M3 is available in four trim levels: the base M3, the M3 Competition and the M3 Competition xDrive. For 2024, the new track-specced M3 CS is also available in limited numbers. Here's our breakdown of the various powertrains and features you get with each trim:;M3 Sedan Comes loaded with:;The M3 also comes with:;A handful of options are available on the M3. Notable picks include:;Competition Standard features on the M3 Competition mirror those on the standard car. It also includes:;The Competition xDrive adds all-wheel drive. ;The M3 Competition and Competition xDrive are also available with one extra package:;The new M3 CS features:; | BV23: New limited-production, track-focused M3 CS debuts;Based on the seventh 3 Series generation introduced for 2019; | CE23: 7.9/10Edmunds Rating | CF23: Performance8.0/10 | CG23: Comfort7.5/10 | CH23: Interior8.0/10 | CI23: Technology8.0/10 | CJ23: Storage8.0/10 | CK23: Fuel Economy7.5/10 | CL23: Value7.5/10 | CM23: Wildcard8.0/10 | DK23: Europe/Germany | DL23: Compact car | DM23: G20
B24: 401986528 | C24: BMW | D24: 3 Series | E24: 2024 | F24: M3 CS | G24: M3 CS 4dr Sedan AWD (3.0L 6cyl Turbo 8A) | H24: 118700 | I24: 110890 | J24: Signal Green(113,203,130);Brooklyn Grey Metallic(176,184,186);Black Sapphire Metallic(0,0,0);Frozen Solid White(248,248,248); | K24: Black Full Merino, premium leather(0,0,0); | L24: Sedan | M24: 4 | N24: 5 | O24: 188.8 | P24: 75.5 | Q24: 56.6 | R24: 112.5 | U24: 4.8 | X24: 41.3 | AC24: 3915 | AD24: 4949 | AG24: I6 | AH24: 3 | AI24: 543 | AJ24: 6250 | AK24: 479 | AL24: 2750 | AM24: 24 | AN24: Variable | AO24: Double overhead cam (DOHC) | AP24: all wheel drive | AQ24: 8-speed automatic | AR24: gas | AS24: premium unleaded (required) | AT24: 15.6 | AU24: 18 | AV24: 15/22 MPG | AW24: 234.0/343.2 mi. | BD24: 40.6 | BF24: 41.6 | BG24: 56 | BH24: 37.8 | BJ24: 35.6 | BK24: 54.6 | BL24: 4 yr./ 50000 mi. | BM24: 4 yr./ 50000 mi. | BN24: 4 yr./ unlimited mi. | BO24: 12 yr./ unlimited mi. | BQ24: https://www.edmunds.com/bmw/m3-cs/2024/review/ | BR24: https://media.ed.edmunds-media.com/bmw/m3-cs/2024/oem/2024_bmw_m3-cs_sedan_base_fq_oem_1_815.jpg;https://media.ed.edmunds-media.com/bmw/m3-cs/2024/oem/2024_bmw_m3-cs_sedan_base_fq_oem_2_815.jpg;https://media.ed.edmunds-media.com/bmw/m3-cs/2024/oem/2024_bmw_m3-cs_sedan_base_fq_oem_3_815.jpg;https://media.ed.edmunds-media.com/bmw/m3-cs/2024/oem/2024_bmw_m3-cs_sedan_base_fq_oem_4_815.jpg;https://media.ed.edmunds-media.com/bmw/m3-cs/2024/oem/2024_bmw_m3-cs_sedan_base_fq_oem_5_815.jpg; | DK24: Europe/Germany | DL24: Compact car | DM24: G20
