Workbook

Sheet DATABASE
B2: Naming | H2: Price & image | J2: Dimensions and weight | P2: Engine and transmission | X2: Fuel and mileage | AD2: Bonus data (added by Teoalida)
B3: ID | C3: Make | D3: Model | E3: Year | F3: Trim | G3: Trim (description) | H3: Base MSRP | I3: Image URL | J3: Body type | K3: Length (in) | L3: Width (in) | M3: Height (in) | N3: Wheelbase (in) | O3: Curb weight (lbs) | P3: Cylinders | Q3: Engine size (l) | R3: Horsepower (HP) | S3: Horsepower (rpm) | T3: Torque (ft-lbs) | U3: Torque (rpm) | V3: Drive type | W3: Transmission | X3: Engine type | Y3: Fuel type | Z3: Fuel tank capacity (gal) | AA3: EPA combined MPG | AB3: EPA city/highway MPG | AC3: Range in miles (city/hwy) | AD3: Country of origin | AE3: Car classification | AF3: Platform code / generation number
B4: =COUNTA(B14:B421494) -> 632 | C4: =COUNTA(C14:C421494) -> 629 | D4: =COUNTA(D14:D421494) -> 629 | E4: =COUNTA(E14:E421494) -> 629 | F4: =COUNTA(F14:F421494) -> 629 | G4: =COUNTA(G14:G421494) -> 629 | H4: =COUNTA(H14:H421493) -> 477 | I4: =COUNTA(I14:I421493) -> 629 | J4: =COUNTA(J14:J421493) -> 629 | K4: =COUNTA(K14:K421493) -> 629 | L4: =COUNTA(L14:L421493) -> 629 | M4: =COUNTA(M14:M421493) -> 629 | N4: =COUNTA(N14:N421493) -> 629 | O4: =COUNTA(O14:O421493) -> 549 | ... AC4: =COUNTA(AC14:AC421493) -> 616 | AD4: =COUNTA(AD14:AD421494) -> 629 | AE4: =COUNTA(AE14:AE421494) -> 629 | AF4: =COUNTA(AF14:AF421494) -> 629
B5: =B4/$B4 -> 1 | C5: =C4/$B4 -> 0.99525316 | D5: =D4/$B4 -> 0.99525316 | E5: =E4/$B4 -> 0.99525316 | F5: =F4/$B4 -> 0.99525316 | G5: =G4/$B4 -> 0.99525316 | H5: =H4/$B4 -> 0.75474684 | I5: =I4/$B4 -> 0.99525316 | ... AF5: =AF4/$B4 -> 0.99525316
B7: Year-Make-Model-Trim-Specs car database for American market
B8: Compiled in Excel by Teoalida © cardatabase.teoalida.com
B10: This is a SAMPLE, including a selection of years for 3 models: BMW 3-Series, Ford F-150, Toyota Prius (629 trims)
B11: Visit above website for the FULL database (68 makes, 1200+ models, 10000+ model years, 70000+ model trims)
B12: See "Statistics makes" for the list of makes included in FULL database, and number of models for each
B14: SAMPLE: BMW 3-Series (second best-selling European car)
B15: 401994177 | C15: BMW | D15: 3 Series | E15: 2024 | F15: 330i | G15: 330i 4dr Sedan (2.0L 4cyl Turbo 8A) | H15: 44500 | I15: https://media.ed.edmunds-media.com/bmw/3-series/2023/oem/2023_bmw_3-series_sedan_330i-xdrive_fq_oem_1_815.jpg;https://media.ed.edmunds-media.com/bmw/3-series/2023/oem/2023_bmw_3-series_sedan_330i-xdrive_rq_oem_2_815.jpg;https://media.ed.edmunds-media.com/bmw/3-series/2023/oem/2023_bmw_3-series_sedan_330i-xdrive_rq_oem_3_815.jpg;https://media.ed.edmunds-media.com/bmw/3-series/2023/oem/2023_bmw_3-series_sedan_330i-xdrive_rq_oem_4_815.jpg;https://media.ed.edmunds-media.com/bmw/3-series/2023/oem/2023_bmw_3-series_sedan_330i-xdrive_rq_oem_5_815.jpg; | J15: Sedan | K15: 185.9 | L15: 71.9 | M15: 56.8 | N15: 112.2 | O15: 3536 | P15: I4 | Q15: 2 | R15: 255 | S15: 5000 | T15: 295 | U15: 1550 | V15: rear wheel drive | W15: 8-speed shiftable automatic | X15: gas | Y15: premium unleaded (required) | Z15: 15.6 | AA15: 29 | AB15: 25/34 MPG | AC15: 390.0/530.4 mi. | AD15: Europe/Germany | AE15: Compact car | AF15: G20
B16: 402004583 | C16: BMW | D16: 3 Series | E16: 2024 | F16: 330i xDrive | G16: 330i xDrive 4dr Sedan AWD (2.0L 4cyl Turbo 8A) | H16: 46500 | I16: https://media.ed.edmunds-media.com/bmw/3-series/2023/oem/2023_bmw_3-series_sedan_330i-xdrive_fq_oem_1_815.jpg;https://media.ed.edmunds-media.com/bmw/3-series/2023/oem/2023_bmw_3-series_sedan_330i-xdrive_rq_oem_2_815.jpg;https://media.ed.edmunds-media.com/bmw/3-series/2023/oem/2023_bmw_3-series_sedan_330i-xdrive_rq_oem_3_815.jpg;https://media.ed.edmunds-media.com/bmw/3-series/2023/oem/2023_bmw_3-series_sedan_330i-xdrive_rq_oem_4_815.jpg;https://media.ed.edmunds-media.com/bmw/3-series/2023/oem/2023_bmw_3-series_sedan_330i-xdrive_rq_oem_5_815.jpg; | J16: Sedan | K16: 185.9 | L16: 71.9 | M16: 57 | N16: 112.2 | O16: 3671 | P16: I4 | Q16: 2 | R16: 255 | S16: 5000 | T16: 295 | U16: 1550 | V16: all wheel drive | W16: 8-speed shiftable automatic | X16: gas | Y16: premium unleaded (required) | Z16: 15.6 | AA16: 27 | AB16: 24/33 MPG | AC16: 374.4/514.8 mi. | AD16: Europe/Germany | AE16: Compact car | AF16: G20
B17: 402004581 | C17: BMW | D17: 3 Series | E17: 2024 | F17: 330e | G17: 330e 4dr Sedan (2.0L 4cyl Turbo gas/electric plug-in hybrid 8A) | H17: 45600 | I17: https://media.ed.edmunds-media.com/bmw/3-series/2023/oem/2023_bmw_3-series_sedan_330i-xdrive_fq_oem_1_815.jpg;https://media.ed.edmunds-media.com/bmw/3-series/2023/oem/2023_bmw_3-series_sedan_330i-xdrive_rq_oem_2_815.jpg;https://media.ed.edmunds-media.com/bmw/3-series/2023/oem/2023_bmw_3-series_sedan_330i-xdrive_rq_oem_3_815.jpg;https://media.ed.edmunds-media.com/bmw/3-series/2023/oem/2023_bmw_3-series_sedan_330i-xdrive_rq_oem_4_815.jpg;https://media.ed.edmunds-media.com/bmw/3-series/2023/oem/2023_bmw_3-series_sedan_330i-xdrive_rq_oem_5_815.jpg; | J17: Sedan | K17: 185.9 | L17: 71.9 | M17: 56.9 | N17: 112.2 | O17: 4083 | P17: I4 | Q17: 2 | R17: 288 | T17: 310 | V17: rear wheel drive | W17: 8-speed shiftable automatic | X17: plug-in hybrid | Y17: premium unleaded (required) | Z17: 10.6 | AA17: 27 | AB17: 24/32 MPG | AC17: 254.4/339.2 mi. | AD17: Europe/Germany | AE17: Compact car | AF17: G20
B18: 402004580 | C18: BMW | D18: 3 Series | E18: 2024 | F18: M340i xDrive | G18: M340i xDrive 4dr Sedan AWD (3.0L 6cyl Turbo gas/electric mild hybrid 8A) | H18: 59600 | I18: https://media.ed.edmunds-media.com/bmw/3-series/2023/oem/2023_bmw_3-series_sedan_330i-xdrive_fq_oem_1_815.jpg;https://media.ed.edmunds-media.com/bmw/3-series/2023/oem/2023_bmw_3-series_sedan_330i-xdrive_rq_oem_2_815.jpg;https://media.ed.edmunds-media.com/bmw/3-series/2023/oem/2023_bmw_3-series_sedan_330i-xdrive_rq_oem_3_815.jpg;https://media.ed.edmunds-media.com/bmw/3-series/2023/oem/2023_bmw_3-series_sedan_330i-xdrive_rq_oem_4_815.jpg;https://media.ed.edmunds-media.com/bmw/3-series/2023/oem/2023_bmw_3-series_sedan_330i-xdrive_rq_oem_5_815.jpg; | J18: Sedan | K18: 185.9 | L18: 71.9 | M18: 56.7 | N18: 112.2 | O18: 3951 | P18: I6 | Q18: 3 | R18: 382 | S18: 5800 | T18: 369 | U18: 1800 | V18: all wheel drive | W18: 8-speed shiftable automatic | X18: mild hybrid | Y18: premium unleaded (required) | Z18: 15.6 | AA18: 26 | AB18: 23/31 MPG | AC18: 358.8/483.6 mi. | AD18: Europe/Germany | AE18: Compact car | AF18: G20
B19: 402004579 | C19: BMW | D19: 3 Series | E19: 2024 | F19: M340i | G19: M340i 4dr Sedan (3.0L 6cyl Turbo gas/electric mild hybrid 8A) | H19: 57600 | I19: https://media.ed.edmunds-media.com/bmw/3-series/2023/oem/2023_bmw_3-series_sedan_330i-xdrive_fq_oem_1_815.jpg;https://media.ed.edmunds-media.com/bmw/3-series/2023/oem/2023_bmw_3-series_sedan_330i-xdrive_rq_oem_2_815.jpg;https://media.ed.edmunds-media.com/bmw/3-series/2023/oem/2023_bmw_3-series_sedan_330i-xdrive_rq_oem_3_815.jpg;https://media.ed.edmunds-media.com/bmw/3-series/2023/oem/2023_bmw_3-series_sedan_330i-xdrive_rq_oem_4_815.jpg;https://media.ed.edmunds-media.com/bmw/3-series/2023/oem/2023_bmw_3-series_sedan_330i-xdrive_rq_oem_5_815.jpg; | J19: Sedan | K19: 185.9 | L19: 71.9 | M19: 56.4 | N19: 112.2 | O19: 3834 | P19: I6 | Q19: 3 | R19: 382 | S19: 5800 | T19: 369 | U19: 1800 | V19: rear wheel drive | W19: 8-speed shiftable automatic | X19: mild hybrid | Y19: premium unleaded (required) | Z19: 15.6 | AA19: 26 | AB19: 23/31 MPG | AC19: 358.8/483.6 mi. | AD19: Europe/Germany | AE19: Compact car | AF19: G20
B20: 402004582 | C20: BMW | D20: 3 Series | E20: 2024 | F20: 330e xDrive | G20: 330e xDrive 4dr Sedan AWD (2.0L 4cyl Turbo gas/electric plug-in hybrid 8A) | H20: 47600 | I20: https://media.ed.edmunds-media.com/bmw/3-series/2023/oem/2023_bmw_3-series_sedan_330i-xdrive_fq_oem_1_815.jpg;https://media.ed.edmunds-media.com/bmw/3-series/2023/oem/2023_bmw_3-series_sedan_330i-xdrive_rq_oem_2_815.jpg;https://media.ed.edmunds-media.com/bmw/3-series/2023/oem/2023_bmw_3-series_sedan_330i-xdrive_rq_oem_3_815.jpg;https://media.ed.edmunds-media.com/bmw/3-series/2023/oem/2023_bmw_3-series_sedan_330i-xdrive_rq_oem_4_815.jpg;https://media.ed.edmunds-media.com/bmw/3-series/2023/oem/2023_bmw_3-series_sedan_330i-xdrive_rq_oem_5_815.jpg; | J20: Sedan | K20: 185.9 | L20: 71.9 | M20: 56.9 | N20: 112.2 | O20: 4180 | P20: I4 | Q20: 2 | R20: 288 | T20: 310 | V20: all wheel drive | W20: 8-speed shiftable automatic | X20: plug-in hybrid | Y20: premium unleaded (required) | Z20: 10.6 | AA20: 26 | AB20: 22/32 MPG | AC20: 233.2/339.2 mi. | AD20: Europe/Germany | AE20: Compact car | AF20: G20
B21: 402010102 | C21: BMW | D21: 3 Series | E21: 2024 | F21: M3 Competition xDrive | G21: M3 Competition xDrive 4dr Sedan AWD (3.0L 6cyl Turbo 8A) | H21: 84300 | I21: https://media.ed.edmunds-media.com/bmw/m3/2022/oem/2022_bmw_m3_sedan_competition_fq_oem_1_815.jpg;https://media.ed.edmunds-media.com/bmw/m3/2022/oem/2022_bmw_m3_sedan_competition_fq_oem_10_175.jpg;https://media.ed.edmunds-media.com/bmw/m3/2022/oem/2022_bmw_m3_sedan_competition_fq_oem_11_175.jpg;https://media.ed.edmunds-media.com/bmw/m3/2022/oem/2022_bmw_m3_sedan_competition_fq_oem_12_175.jpg;https://media.ed.edmunds-media.com/bmw/m3/2022/oem/2022_bmw_m3_sedan_competition_fq_oem_13_175.jpg; | J21: Sedan | K21: 189.1 | L21: 74.3 | M21: 56.5 | N21: 112.5 | O21: 3990 | P21: I6 | Q21: 3 | R21: 503 | S21: 6250 | T21: 479 | U21: 2750 | V21: all wheel drive | W21: 8-speed automatic | X21: gas | Y21: premium unleaded (required) | Z21: 15.6 | AA21: 18 | AB21: 16/22 MPG | AC21: 249.6/343.2 mi. | AD21: Europe/Germany | AE21: Compact car | AF21: G20
B22: 401977206 | C22: BMW | D22: 3 Series | E22: 2024 | F22: M3 | G22: M3 4dr Sedan (3.0L 6cyl Turbo 6M) | H22: 76000 | I22: https://media.ed.edmunds-media.com/bmw/m3/2022/oem/2022_bmw_m3_sedan_competition_fq_oem_1_815.jpg;https://media.ed.edmunds-media.com/bmw/m3/2022/oem/2022_bmw_m3_sedan_competition_fq_oem_10_175.jpg;https://media.ed.edmunds-media.com/bmw/m3/2022/oem/2022_bmw_m3_sedan_competition_fq_oem_11_175.jpg;https://media.ed.edmunds-media.com/bmw/m3/2022/oem/2022_bmw_m3_sedan_competition_fq_oem_12_175.jpg;https://media.ed.edmunds-media.com/bmw/m3/2022/oem/2022_bmw_m3_sedan_competition_fq_oem_13_175.jpg; | J22: Sedan | K22: 189.1 | L22: 74.3 | M22: 56.4 | N22: 112.5 | O22: 3840 | P22: I6 | Q22: 3 | R22: 473 | S22: 6250 | T22: 406 | U22: 2650 | V22: rear wheel drive | W22: 6-speed manual | X22: gas | Y22: premium unleaded (required) | Z22: 15.6 | AA22: 19 | AB22: 16/23 MPG | AC22: 249.6/358.8 mi. | AD22: Europe/Germany | AE22: Compact car | AF22: G20
B23: 402010103 | C23: BMW | D23: 3 Series | E23: 2024 | F23: M3 Competition | G23: M3 Competition 4dr Sedan (3.0L 6cyl Turbo 8A) | H23: 80200 | I23: https://media.ed.edmunds-media.com/bmw/m3/2022/oem/2022_bmw_m3_sedan_competition_fq_oem_1_815.jpg;https://media.ed.edmunds-media.com/bmw/m3/2022/oem/2022_bmw_m3_sedan_competition_fq_oem_10_175.jpg;https://media.ed.edmunds-media.com/bmw/m3/2022/oem/2022_bmw_m3_sedan_competition_fq_oem_11_175.jpg;https://media.ed.edmunds-media.com/bmw/m3/2022/oem/2022_bmw_m3_sedan_competition_fq_oem_12_175.jpg;https://media.ed.edmunds-media.com/bmw/m3/2022/oem/2022_bmw_m3_sedan_competition_fq_oem_13_175.jpg; | J23: Sedan | K23: 189.1 | L23: 74.3 | M23: 56.4 | N23: 112.5 | O23: 3890 | P23: I6 | Q23: 3 | R23: 503 | S23: 6250 | T23: 479 | U23: 2750 | V23: rear wheel drive | W23: 8-speed automatic | X23: gas | Y23: premium unleaded (required) | Z23: 15.6 | AA23: 19 | AB23: 16/23 MPG | AC23: 249.6/358.8 mi. | AD23: Europe/Germany | AE23: Compact car | AF23: G20
B24: 401986528 | C24: BMW | D24: 3 Series | E24: 2024 | F24: M3 CS | G24: M3 CS 4dr Sedan AWD (3.0L 6cyl Turbo 8A) | H24: 118700 | I24: https://media.ed.edmunds-media.com/bmw/m3-cs/2024/oem/2024_bmw_m3-cs_sedan_base_fq_oem_1_815.jpg;https://media.ed.edmunds-media.com/bmw/m3-cs/2024/oem/2024_bmw_m3-cs_sedan_base_fq_oem_2_815.jpg;https://media.ed.edmunds-media.com/bmw/m3-cs/2024/oem/2024_bmw_m3-cs_sedan_base_fq_oem_3_815.jpg;https://media.ed.edmunds-media.com/bmw/m3-cs/2024/oem/2024_bmw_m3-cs_sedan_base_fq_oem_4_815.jpg;https://media.ed.edmunds-media.com/bmw/m3-cs/2024/oem/2024_bmw_m3-cs_sedan_base_fq_oem_5_815.jpg; | J24: Sedan | K24: 188.8 | L24: 75.5 | M24: 56.6 | N24: 112.5 | O24: 3915 | P24: I6 | Q24: 3 | R24: 543 | S24: 6250 | T24: 479 | U24: 2750 | V24: all wheel drive | W24: 8-speed automatic | X24: gas | Y24: premium unleaded (required) | Z24: 15.6 | AA24: 18 | AB24: 15/22 MPG | AC24: 234.0/343.2 mi. | AD24: Europe/Germany | AE24: Compact car | AF24: G20
B25: 401897331 | C25: BMW | D25: 3 Series | E25: 2022 | F25: 330i | G25: 330i 4dr Sedan (2.0L 4cyl Turbo 8A) | H25: 41450 | I25: https://media.ed.edmunds-media.com/bmw/3-series/2021/oem/2021_bmw_3-series_sedan_330e_fq_oem_1_815.jpg;https://media.ed.edmunds-media.com/bmw/3-series/2021/oem/2021_bmw_3-series_sedan_330e_fq_oem_2_175.jpg;https://media.ed.edmunds-media.com/bmw/3-series/2021/oem/2021_bmw_3-series_sedan_330e_fq_oem_3_175.jpg;https://media.ed.edmunds-media.com/bmw/3-series/2021/oem/2021_bmw_3-series_sedan_330e_fq_oem_4_175.jpg;https://media.ed.edmunds-media.com/bmw/3-series/2021/oem/2021_bmw_3-series_sedan_330e_fq_oem_5_175.jpg; | J25: Sedan | K25: 185.7 | L25: 71.9 | M25: 56.8 | N25: 112.2 | O25: 3560 | P25: I4 | Q25: 2 | R25: 255 | S25: 5000 | T25: 294 | U25: 1550 | V25: rear wheel drive | W25: 8-speed shiftable automatic | X25: gas | Y25: premium unleaded (required) | Z25: 15.6 | AA25: 30 | AB25: 26/36 MPG | AC25: 405.6/561.6 mi. | AD25: Europe/Germany | AE25: Compact car | AF25: G20
B26: 401906573 | C26: BMW | D26: 3 Series | E26: 2022 | F26: M340i xDrive | G26: M340i xDrive 4dr Sedan AWD (3.0L 6cyl Turbo gas/electric mild hybrid 8A) | H26: 56700 | I26: https://media.ed.edmunds-media.com/bmw/3-series/2021/oem/2021_bmw_3-series_sedan_330e_fq_oem_1_815.jpg;https://media.ed.edmunds-media.com/bmw/3-series/2021/oem/2021_bmw_3-series_sedan_330e_fq_oem_2_175.jpg;https://media.ed.edmunds-media.com/bmw/3-series/2021/oem/2021_bmw_3-series_sedan_330e_fq_oem_3_175.jpg;https://media.ed.edmunds-media.com/bmw/3-series/2021/oem/2021_bmw_3-series_sedan_330e_fq_oem_4_175.jpg;https://media.ed.edmunds-media.com/bmw/3-series/2021/oem/2021_bmw_3-series_sedan_330e_fq_oem_5_175.jpg; | J26: Sedan | K26: 185.7 | L26: 71.9 | M26: 56.7 | N26: 112.2 | O26: 3979 | P26: I6 | Q26: 3 | R26: 382 | S26: 5800 | T26: 368 | U26: 1800 | V26: all wheel drive | W26: 8-speed shiftable automatic | X26: mild hybrid | Y26: premium unleaded (required) | Z26: 15.6 | AA26: 26 | AB26: 23/32 MPG | AC26: 358.8/499.2 mi. | AD26: Europe/Germany | AE26: Compact car | AF26: G20
B27: 401906574 | C27: BMW | D27: 3 Series | E27: 2022 | F27: 330i xDrive | G27: 330i xDrive 4dr Sedan AWD (2.0L 4cyl Turbo 8A) | H27: 43450 | I27: https://media.ed.edmunds-media.com/bmw/3-series/2021/oem/2021_bmw_3-series_sedan_330e_fq_oem_1_815.jpg;https://media.ed.edmunds-media.com/bmw/3-series/2021/oem/2021_bmw_3-series_sedan_330e_fq_oem_2_175.jpg;https://media.ed.edmunds-media.com/bmw/3-series/2021/oem/2021_bmw_3-series_sedan_330e_fq_oem_3_175.jpg;https://media.ed.edmunds-media.com/bmw/3-series/2021/oem/2021_bmw_3-series_sedan_330e_fq_oem_4_175.jpg;https://media.ed.edmunds-media.com/bmw/3-series/2021/oem/2021_bmw_3-series_sedan_330e_fq_oem_5_175.jpg; | J27: Sedan | K27: 185.7 | L27: 71.9 | M27: 57 | N27: 112.2 | O27: 3686 | P27: I4 | Q27: 2 | R27: 255 | S27: 5000 | T27: 294 | U27: 1550 | V27: all wheel drive | W27: 8-speed shiftable automatic | X27: gas | Y27: premium unleaded (required) | Z27: 15.6 | AA27: 28 | AB27: 25/34 MPG | AC27: 390.0/530.4 mi. | AD27: Europe/Germany | AE27: Compact car | AF27: G20
B28: 401906575 | C28: BMW | D28: 3 Series | E28: 2022 | F28: 330e xDrive | G28: 330e xDrive 4dr Sedan AWD (2.0L 4cyl Turbo gas/electric plug-in hybrid 8A) | H28: 44950 | I28: https://media.ed.edmunds-media.com/bmw/3-series/2021/oem/2021_bmw_3-series_sedan_330e_fq_oem_1_815.jpg;https://media.ed.edmunds-media.com/bmw/3-series/2021/oem/2021_bmw_3-series_sedan_330e_fq_oem_2_175.jpg;https://media.ed.edmunds-media.com/bmw/3-series/2021/oem/2021_bmw_3-series_sedan_330e_fq_oem_3_175.jpg;https://media.ed.edmunds-media.com/bmw/3-series/2021/oem/2021_bmw_3-series_sedan_330e_fq_oem_4_175.jpg;https://media.ed.edmunds-media.com/bmw/3-series/2021/oem/2021_bmw_3-series_sedan_330e_fq_oem_5_175.jpg; | J28: Sedan | K28: 185.7 | L28: 71.9 | M28: 56.9 | N28: 112.2 | O28: 4138 | P28: I4 | Q28: 2 | R28: 288 | T28: 310 | V28: all wheel drive | W28: 8-speed shiftable automatic | X28: plug-in hybrid | Y28: premium unleaded (required) | Z28: 10.6 | AA28: 25 | AB28: 22/30 MPG | AC28: 233.2/318.0 mi. | AD28: Europe/Germany | AE28: Compact car | AF28: G20
B29: 401906576 | C29: BMW | D29: 3 Series | E29: 2022 | F29: M340i | G29: M340i 4dr Sedan (3.0L 6cyl Turbo gas/electric mild hybrid 8A) | H29: 54700 | I29: https://media.ed.edmunds-media.com/bmw/3-series/2021/oem/2021_bmw_3-series_sedan_330e_fq_oem_1_815.jpg;https://media.ed.edmunds-media.com/bmw/3-series/2021/oem/2021_bmw_3-series_sedan_330e_fq_oem_2_175.jpg;https://media.ed.edmunds-media.com/bmw/3-series/2021/oem/2021_bmw_3-series_sedan_330e_fq_oem_3_175.jpg;https://media.ed.edmunds-media.com/bmw/3-series/2021/oem/2021_bmw_3-series_sedan_330e_fq_oem_4_175.jpg;https://media.ed.edmunds-media.com/bmw/3-series/2021/oem/2021_bmw_3-series_sedan_330e_fq_oem_5_175.jpg; | J29: Sedan | K29: 185.7 | L29: 71.9 | M29: 56.4 | N29: 112.2 | O29: 3876 | P29: I6 | Q29: 3 | R29: 382 | S29: 5800 | T29: 368 | U29: 1800 | V29: rear wheel drive | W29: 8-speed shiftable automatic | X29: mild hybrid | Y29: premium unleaded (required) | Z29: 15.6 | AA29: 26 | AB29: 23/32 MPG | AC29: 358.8/499.2 mi. | AD29: Europe/Germany | AE29: Compact car | AF29: G20
B30: 401906577 | C30: BMW | D30: 3 Series | E30: 2022 | F30: 330e | G30: 330e 4dr Sedan (2.0L 4cyl Turbo gas/electric plug-in hybrid 8A) | H30: 42950 | I30: https://media.ed.edmunds-media.com/bmw/3-series/2021/oem/2021_bmw_3-series_sedan_330e_fq_oem_1_815.jpg;https://media.ed.edmunds-media.com/bmw/3-series/2021/oem/2021_bmw_3-series_sedan_330e_fq_oem_2_175.jpg;https://media.ed.edmunds-media.com/bmw/3-series/2021/oem/2021_bmw_3-series_sedan_330e_fq_oem_3_175.jpg;https://media.ed.edmunds-media.com/bmw/3-series/2021/oem/2021_bmw_3-series_sedan_330e_fq_oem_4_175.jpg;https://media.ed.edmunds-media.com/bmw/3-series/2021/oem/2021_bmw_3-series_sedan_330e_fq_oem_5_175.jpg; | J30: Sedan | K30: 185.7 | L30: 71.9 | M30: 56.9 | N30: 112.2 | O30: 4039 | P30: I4 | Q30: 2 | R30: 288 | T30: 310 | V30: rear wheel drive | W30: 8-speed shiftable automatic | X30: plug-in hybrid | Y30: premium unleaded (required) | Z30: 10.6 | AA30: 28 | AB30: 25/33 MPG | AC30: 265.0/349.8 mi. | AD30: Europe/Germany | AE30: Compact car | AF30: G20
B31: 401890929 | C31: BMW | D31: 3 Series | E31: 2022 | F31: M3 | G31: M3 4dr Sedan (3.0L 6cyl Turbo 6M) | H31: 70100 | I31: https://media.ed.edmunds-media.com/bmw/m3/2022/oem/2022_bmw_m3_sedan_competition_fq_oem_1_815.jpg;https://media.ed.edmunds-media.com/bmw/m3/2022/oem/2022_bmw_m3_sedan_competition_rq_oem_10_175.jpg;https://media.ed.edmunds-media.com/bmw/m3/2022/oem/2022_bmw_m3_sedan_competition_rq_oem_2_175.jpg;https://media.ed.edmunds-media.com/bmw/m3/2022/oem/2022_bmw_m3_sedan_competition_rq_oem_3_175.jpg;https://media.ed.edmunds-media.com/bmw/m3/2022/oem/2022_bmw_m3_sedan_competition_rq_oem_4_175.jpg; | J31: Sedan | K31: 189.1 | L31: 74.3 | M31: 56.4 | N31: 112.5 | O31: 3840 | P31: I6 | Q31: 3 | R31: 473 | S31: 6250 | T31: 406 | U31: 2650 | V31: rear wheel drive | W31: 6-speed manual | X31: gas | Y31: premium unleaded (required) | Z31: 15.6 | AA31: 19 | AB31: 16/23 MPG | AC31: 249.6/358.8 mi. | AD31: Europe/Germany | AE31: Compact car | AF31: G20
B32: 401911605 | C32: BMW | D32: 3 Series | E32: 2022 | F32: M3 Competition | G32: M3 Competition 4dr Sedan (3.0L 6cyl Turbo 8A) | H32: 73000 | I32: https://media.ed.edmunds-media.com/bmw/m3/2022/oem/2022_bmw_m3_sedan_competition_fq_oem_1_815.jpg;https://media.ed.edmunds-media.com/bmw/m3/2022/oem/2022_bmw_m3_sedan_competition_rq_oem_10_175.jpg;https://media.ed.edmunds-media.com/bmw/m3/2022/oem/2022_bmw_m3_sedan_competition_rq_oem_2_175.jpg;https://media.ed.edmunds-media.com/bmw/m3/2022/oem/2022_bmw_m3_sedan_competition_rq_oem_3_175.jpg;https://media.ed.edmunds-media.com/bmw/m3/2022/oem/2022_bmw_m3_sedan_competition_rq_oem_4_175.jpg; | J32: Sedan | K32: 189.1 | L32: 74.3 | M32: 56.4 | N32: 112.5 | O32: 3890 | P32: I6 | Q32: 3 | R32: 503 | S32: 6250 | T32: 479 | U32: 2750 | V32: rear wheel drive | W32: 8-speed automatic | X32: gas | Y32: premium unleaded (required) | Z32: 15.6 | AA32: 19 | AB32: 16/23 MPG | AC32: 249.6/358.8 mi. | AD32: Europe/Germany | AE32: Compact car | AF32: G20
B33: 401911604 | C33: BMW | D33: 3 Series | E33: 2022 | F33: M3 Competition xDrive | G33: M3 Competition xDrive 4dr Sedan AWD (3.0L 6cyl Turbo 8A) | H33: 77100 | I33: https://media.ed.edmunds-media.com/bmw/m3/2022/oem/2022_bmw_m3_sedan_competition_fq_oem_1_815.jpg;https://media.ed.edmunds-media.com/bmw/m3/2022/oem/2022_bmw_m3_sedan_competition_rq_oem_10_175.jpg;https://media.ed.edmunds-media.com/bmw/m3/2022/oem/2022_bmw_m3_sedan_competition_rq_oem_2_175.jpg;https://media.ed.edmunds-media.com/bmw/m3/2022/oem/2022_bmw_m3_sedan_competition_rq_oem_3_175.jpg;https://media.ed.edmunds-media.com/bmw/m3/2022/oem/2022_bmw_m3_sedan_competition_rq_oem_4_175.jpg; | J33: Sedan | K33: 189.1 | L33: 74.3 | M33: 56.5 | N33: 112.5 | O33: 3990 | P33: I6 | Q33: 3 | R33: 503 | S33: 6250 | T33: 479 | U33: 2750 | V33: all wheel drive | W33: 8-speed automatic | X33: gas | Y33: premium unleaded (required) | Z33: 15.6 | AA33: 18 | AB33: 16/22 MPG | AC33: 249.6/343.2 mi. | AD33: Europe/Germany | AE33: Compact car | AF33: G20
B34: 401828691 | C34: BMW | D34: 3 Series | E34: 2020 | F34: 330i | G34: 330i 4dr Sedan (2.0L 4cyl Turbo 8A) | H34: 40750 | I34: https://media.ed.edmunds-media.com/bmw/m340i/2020/fd/2020_bmw_m340i_f34_fd_1114181_815.jpg;https://media.ed.edmunds-media.com/bmw/3-series/2020/evox/2020_bmw_3-series_sedan_m340i_pr_evox_1_175.jpg;https://media.ed.edmunds-media.com/bmw/3-series/2020/oem/2020_bmw_3-series_sedan_330i_fq_oem_2_175.jpg;https://media.ed.edmunds-media.com/bmw/3-series/2020/oem/2020_bmw_3-series_sedan_330i_fq_oem_3_175.jpg;https://media.ed.edmunds-media.com/bmw/3-series/2020/oem/2020_bmw_3-series_sedan_330i_fq_oem_4_175.jpg; | J34: Sedan | K34: 185.7 | L34: 71.9 | M34: 56.8 | N34: 112.2 | O34: 3589 | P34: I4 | Q34: 2 | R34: 255 | S34: 5000 | T34: 295 | U34: 1550 | V34: rear wheel drive | W34: 8-speed shiftable automatic | X34: gas | Y34: premium unleaded (recommended) | Z34: 15.6 | AA34: 30 | AB34: 26/36 MPG | AC34: 405.6/561.6 mi. | AD34: Europe/Germany | AE34: Compact car | AF34: G20
B35: 401828692 | C35: BMW | D35: 3 Series | E35: 2020 | F35: 330i xDrive | G35: 330i xDrive 4dr Sedan AWD (2.0L 4cyl Turbo 8A) | H35: 42750 | I35: https://media.ed.edmunds-media.com/bmw/m340i/2020/fd/2020_bmw_m340i_f34_fd_1114181_815.jpg;https://media.ed.edmunds-media.com/bmw/3-series/2020/evox/2020_bmw_3-series_sedan_m340i_pr_evox_1_175.jpg;https://media.ed.edmunds-media.com/bmw/3-series/2020/oem/2020_bmw_3-series_sedan_330i_fq_oem_2_175.jpg;https://media.ed.edmunds-media.com/bmw/3-series/2020/oem/2020_bmw_3-series_sedan_330i_fq_oem_3_175.jpg;https://media.ed.edmunds-media.com/bmw/3-series/2020/oem/2020_bmw_3-series_sedan_330i_fq_oem_4_175.jpg; | J35: Sedan | K35: 185.7 | L35: 71.9 | M35: 56.8 | N35: 112.2 | O35: 3772 | P35: I4 | Q35: 2 | R35: 255 | S35: 5000 | T35: 295 | U35: 1550 | V35: all wheel drive | W35: 8-speed shiftable automatic | X35: gas | Y35: premium unleaded (recommended) | Z35: 15.6 | AA35: 28 | AB35: 25/34 MPG | AC35: 390.0/530.4 mi. | AD35: Europe/Germany | AE35: Compact car | AF35: G20
B36: 401779949 | C36: BMW | D36: 3 Series | E36: 2020 | F36: M340i | G36: M340i 4dr Sedan (3.0L 6cyl Turbo 8A) | H36: 54000 | I36: https://media.ed.edmunds-media.com/bmw/m340i/2020/fd/2020_bmw_m340i_f34_fd_1114181_815.jpg;https://media.ed.edmunds-media.com/bmw/3-series/2020/evox/2020_bmw_3-series_sedan_m340i_pr_evox_1_175.jpg;https://media.ed.edmunds-media.com/bmw/3-series/2020/oem/2020_bmw_3-series_sedan_330i_fq_oem_2_175.jpg;https://media.ed.edmunds-media.com/bmw/3-series/2020/oem/2020_bmw_3-series_sedan_330i_fq_oem_3_175.jpg;https://media.ed.edmunds-media.com/bmw/3-series/2020/oem/2020_bmw_3-series_sedan_330i_fq_oem_4_175.jpg; | J36: Sedan | K36: 185.7 | L36: 71.9 | M36: 56.4 | N36: 112.2 | O36: 3849 | P36: I6 | Q36: 3 | R36: 382 | S36: 5800 | T36: 369 | U36: 1800 | V36: rear wheel drive | W36: 8-speed shiftable automatic | X36: gas | Y36: premium unleaded (recommended) | Z36: 15.6 | AA36: 25 | AB36: 22/30 MPG | AC36: 343.2/468.0 mi. | AD36: Europe/Germany | AE36: Compact car | AF36: G20
B37: 401795591 | C37: BMW | D37: 3 Series | E37: 2020 | F37: M340i xDrive | G37: M340i xDrive 4dr Sedan AWD (3.0L 6cyl Turbo 8A) | H37: 56000 | I37: https://media.ed.edmunds-media.com/bmw/m340i/2020/fd/2020_bmw_m340i_f34_fd_1114181_815.jpg;https://media.ed.edmunds-media.com/bmw/3-series/2020/evox/2020_bmw_3-series_sedan_m340i_pr_evox_1_175.jpg;https://media.ed.edmunds-media.com/bmw/3-series/2020/oem/2020_bmw_3-series_sedan_330i_fq_oem_2_175.jpg;https://media.ed.edmunds-media.com/bmw/3-series/2020/oem/2020_bmw_3-series_sedan_330i_fq_oem_3_175.jpg;https://media.ed.edmunds-media.com/bmw/3-series/2020/oem/2020_bmw_3-series_sedan_330i_fq_oem_4_175.jpg; | J37: Sedan | K37: 185.7 | L37: 71.9 | M37: 56.7 | N37: 112.2 | O37: 3968 | P37: I6 | Q37: 3 | R37: 382 | S37: 5800 | T37: 369 | U37: 1800 | V37: all wheel drive | W37: 8-speed shiftable automatic | X37: gas | Y37: premium unleaded (recommended) | Z37: 15.6 | AA37: 25 | AB37: 22/30 MPG | AC37: 343.2/468.0 mi. | AD37: Europe/Germany | AE37: Compact car | AF37: G20
B38: 401729246 | C38: BMW | D38: 3 Series | E38: 2018 | F38: 320i | G38: 320i 4dr Sedan (2.0L 4cyl Turbo 8A) | H38: 34900 | I38: https://www.edmunds.com/assets/m/bmw/3-series/2018/oem/2018_bmw_3-series_sedan_330e-iperformance_fq_oem_1_815.jpg;https://media.ed.edmunds-media.com/bmw/3-series/2018/oem/2018_bmw_3-series_sedan_330e-iperformance_fq_oem_2_175.jpg;https://media.ed.edmunds-media.com/bmw/3-series/2018/oem/2018_bmw_3-series_sedan_330e-iperformance_fq_oem_3_175.jpg;https://media.ed.edmunds-media.com/bmw/3-series/2018/oem/2018_bmw_3-series_sedan_330e-iperformance_fq_oem_4_175.jpg;https://media.ed.edmunds-media.com/bmw/3-series/2018/oem/2018_bmw_3-series_sedan_330e-iperformance_fq_oem_5_175.jpg; | J38: Sedan | K38: 182.8 | L38: 71.3 | M38: 56.3 | N38: 110.6 | O38: 3370 | P38: I4 | Q38: 2 | R38: 180 | S38: 5000 | T38: 200 | U38: 1250 | V38: rear wheel drive | W38: 8-speed shiftable automatic | X38: gas | Y38: premium unleaded (recommended) | Z38: 15.8 | AA38: 28 | AB38: 24/35 MPG | AC38: 379.2/553.0 mi. | AD38: Europe/Germany | AE38: Compact car | AF38: F30, F31, F80
B39: 401729240 | C39: BMW | D39: 3 Series | E39: 2018 | F39: 320i xDrive | G39: 320i xDrive 4dr Sedan AWD (2.0L 4cyl Turbo 8A) | H39: 36900 | I39: https://www.edmunds.com/assets/m/bmw/3-series/2018/oem/2018_bmw_3-series_sedan_330e-iperformance_fq_oem_1_815.jpg;https://media.ed.edmunds-media.com/bmw/3-series/2018/oem/2018_bmw_3-series_sedan_330e-iperformance_fq_oem_2_175.jpg;https://media.ed.edmunds-media.com/bmw/3-series/2018/oem/2018_bmw_3-series_sedan_330e-iperformance_fq_oem_3_175.jpg;https://media.ed.edmunds-media.com/bmw/3-series/2018/oem/2018_bmw_3-series_sedan_330e-iperformance_fq_oem_4_175.jpg;https://media.ed.edmunds-media.com/bmw/3-series/2018/oem/2018_bmw_3-series_sedan_330e-iperformance_fq_oem_5_175.jpg; | J39: Sedan | K39: 182.8 | L39: 71.3 | M39: 56.5 | N39: 110.6 | O39: 3510 | P39: I4 | Q39: 2 | R39: 180 | S39: 5000 | T39: 200 | U39: 1250 | V39: all wheel drive | W39: 8-speed shiftable automatic | X39: gas | Y39: premium unleaded (recommended) | Z39: 15.8 | AA39: 27 | AB39: 23/34 MPG | AC39: 363.4/537.2 mi. | AD39: Europe/Germany | AE39: Compact car | AF39: F30, F31, F80
B40: 401729243 | C40: BMW | D40: 3 Series | E40: 2018 | F40: 330i | G40: 330i 4dr Sedan (2.0L 4cyl Turbo 8A) | H40: 40250 | I40: https://www.edmunds.com/assets/m/bmw/3-series/2018/oem/2018_bmw_3-series_sedan_330e-iperformance_fq_oem_1_815.jpg;https://media.ed.edmunds-media.com/bmw/3-series/2018/oem/2018_bmw_3-series_sedan_330e-iperformance_fq_oem_2_175.jpg;https://media.ed.edmunds-media.com/bmw/3-series/2018/oem/2018_bmw_3-series_sedan_330e-iperformance_fq_oem_3_175.jpg;https://media.ed.edmunds-media.com/bmw/3-series/2018/oem/2018_bmw_3-series_sedan_330e-iperformance_fq_oem_4_175.jpg;https://media.ed.edmunds-media.com/bmw/3-series/2018/oem/2018_bmw_3-series_sedan_330e-iperformance_fq_oem_5_175.jpg; | J40: Sedan | K40: 182.8 | L40: 71.3 | M40: 56.3 | N40: 110.6 | O40: 3541 | P40: I4 | Q40: 2 | R40: 248 | S40: 5200 | T40: 258 | U40: 1450 | V40: rear wheel drive | W40: 8-speed shiftable automatic | X40: gas | Y40: premium unleaded (recommended) | Z40: 15.8 | AA40: 27 | AB40: 23/34 MPG | AC40: 363.4/537.2 mi. | AD40: Europe/Germany | AE40: Compact car | AF40: F30, F31, F80
B41: 401729244 | C41: BMW | D41: 3 Series | E41: 2018 | F41: 330i xDrive | G41: 330i xDrive 4dr Sedan AWD (2.0L 4cyl Turbo 8A) | H41: 42250 | I41: https://www.edmunds.com/assets/m/bmw/3-series/2018/oem/2018_bmw_3-series_sedan_330e-iperformance_fq_oem_1_815.jpg;https://media.ed.edmunds-media.com/bmw/3-series/2018/oem/2018_bmw_3-series_sedan_330e-iperformance_fq_oem_2_175.jpg;https://media.ed.edmunds-media.com/bmw/3-series/2018/oem/2018_bmw_3-series_sedan_330e-iperformance_fq_oem_3_175.jpg;https://media.ed.edmunds-media.com/bmw/3-series/2018/oem/2018_bmw_3-series_sedan_330e-iperformance_fq_oem_4_175.jpg;https://media.ed.edmunds-media.com/bmw/3-series/2018/oem/2018_bmw_3-series_sedan_330e-iperformance_fq_oem_5_175.jpg; | J41: Sedan | K41: 182.8 | L41: 71.3 | M41: 56.5 | N41: 110.6 | O41: 3706 | P41: I4 | Q41: 2 | R41: 248 | S41: 5200 | T41: 258 | U41: 1450 | V41: all wheel drive | W41: 8-speed shiftable automatic | X41: gas | Y41: premium unleaded (recommended) | Z41: 15.8 | AA41: 27 | AB41: 23/33 MPG | AC41: 363.4/521.4 mi. | AD41: Europe/Germany | AE41: Compact car | AF41: F30, F31, F80
B42: 401729238 | C42: BMW | D42: 3 Series | E42: 2018 | F42: 340i | G42: 340i 4dr Sedan (3.0L 6cyl Turbo 8A) | H42: 48950 | I42: https://www.edmunds.com/assets/m/bmw/3-series/2018/oem/2018_bmw_3-series_sedan_330e-iperformance_fq_oem_1_815.jpg;https://media.ed.edmunds-media.com/bmw/3-series/2018/oem/2018_bmw_3-series_sedan_330e-iperformance_fq_oem_2_175.jpg;https://media.ed.edmunds-media.com/bmw/3-series/2018/oem/2018_bmw_3-series_sedan_330e-iperformance_fq_oem_3_175.jpg;https://media.ed.edmunds-media.com/bmw/3-series/2018/oem/2018_bmw_3-series_sedan_330e-iperformance_fq_oem_4_175.jpg;https://media.ed.edmunds-media.com/bmw/3-series/2018/oem/2018_bmw_3-series_sedan_330e-iperformance_fq_oem_5_175.jpg; | J42: Sedan | K42: 182.8 | L42: 71.3 | M42: 56.3 | N42: 110.6 | O42: 3695 | P42: I6 | Q42: 3 | R42: 320 | S42: 5500 | T42: 330 | U42: 1380 | V42: rear wheel drive | W42: 8-speed shiftable automatic | X42: gas | Y42: premium unleaded (recommended) | Z42: 15.8 | AA42: 25 | AB42: 21/32 MPG | AC42: 331.8/505.6 mi. | AD42: Europe/Germany | AE42: Compact car | AF42: F30, F31, F80
... B47: 401729237 | C47: BMW | D47: 3 Series | E47: 2018 | F47: 330i xDrive | G47: 330i xDrive 4dr Wagon AWD (2.0L 4cyl Turbo 8A) | H47: 44650 | I47: https://www.edmunds.com/assets/m/bmw/3-series/2018/oem/2018_bmw_3-series_sedan_330e-iperformance_fq_oem_1_815.jpg;https://media.ed.edmunds-media.com/bmw/3-series/2018/oem/2018_bmw_3-series_sedan_330e-iperformance_fq_oem_2_175.jpg;https://media.ed.edmunds-media.com/bmw/3-series/2018/oem/2018_bmw_3-series_sedan_330e-iperformance_fq_oem_3_175.jpg;https://media.ed.edmunds-media.com/bmw/3-series/2018/oem/2018_bmw_3-series_sedan_330e-iperformance_fq_oem_4_175.jpg;https://media.ed.edmunds-media.com/bmw/3-series/2018/oem/2018_bmw_3-series_sedan_330e-iperformance_fq_oem_5_175.jpg; | J47: Wagon | K47: 182.8 | L47: 71.3 | M47: 56.5 | N47: 110.6 | O47: 3867 | P47: I4 | Q47: 2 | R47: 248 | S47: 5200 | T47: 258 | U47: 1450 | V47: all wheel drive | W47: 8-speed shiftable automatic | X47: gas | Y47: premium unleaded (recommended) | Z47: 15.8 | AA47: 27 | AB47: 23/33 MPG | AC47: 363.4/521.4 mi. | AD47: Europe/Germany | AE47: Compact car | AF47: F30, F31, F80
B48: 401729245 | C48: BMW | D48: 3 Series | E48: 2018 | F48: 330e iPerformance | G48: 330e iPerformance 4dr Sedan (2.0L 4cyl Turbo gas/electric plug-in hybrid 8A) | H48: 45600 | I48: https://www.edmunds.com/assets/m/bmw/3-series/2018/oem/2018_bmw_3-series_sedan_330e-iperformance_fq_oem_1_815.jpg;https://media.ed.edmunds-media.com/bmw/3-series/2018/oem/2018_bmw_3-series_sedan_330e-iperformance_fq_oem_2_175.jpg;https://media.ed.edmunds-media.com/bmw/3-series/2018/oem/2018_bmw_3-series_sedan_330e-iperformance_fq_oem_3_175.jpg;https://media.ed.edmunds-media.com/bmw/3-series/2018/oem/2018_bmw_3-series_sedan_330e-iperformance_fq_oem_4_175.jpg;https://media.ed.edmunds-media.com/bmw/3-series/2018/oem/2018_bmw_3-series_sedan_330e-iperformance_fq_oem_5_175.jpg; | J48: Sedan | K48: 182.8 | L48: 71.3 | M48: 56.3 | N48: 110.6 | O48: 3900 | P48: I4 | Q48: 2 | R48: 248 | T48: 310 | V48: rear wheel drive | W48: 8-speed shiftable automatic | X48: plug-in hybrid | Y48: premium unleaded (recommended) | Z48: 10.8 | AA48: 30 | AB48: 28/24 MPG | AC48: 302.4/259.2 mi. | AD48: Europe/Germany | AE48: Compact car | AF48: F30, F31, F80
B49: 401732583 | C49: BMW | D49: 3 Series | E49: 2018 | F49: M3 | G49: M3 4dr Sedan (3.0L 6cyl Turbo 6M) | H49: 66500 | I49: https://www.edmunds.com/assets/m/bmw/m3/2018/oem/2018_bmw_m3_sedan_base_fq_oem_1_815.jpg;https://media.ed.edmunds-media.com/bmw/m3/2018/oem/2018_bmw_m3_sedan_base_fq_oem_2_175.jpg;https://media.ed.edmunds-media.com/bmw/m3/2018/oem/2018_bmw_m3_sedan_base_fq_oem_3_175.jpg;https://media.ed.edmunds-media.com/bmw/m3/2018/oem/2018_bmw_m3_sedan_base_fq_oem_4_175.jpg;https://media.ed.edmunds-media.com/bmw/m3/2018/oem/2018_bmw_m3_sedan_base_fq_oem_5_175.jpg; | J49: Sedan | K49: 184.6 | L49: 73.9 | M49: 56.1 | N49: 110.7 | O49: 3575 | P49: I6 | Q49: 3 | R49: 425 | S49: 5500 | T49: 406 | U49: 1850 | V49: rear wheel drive | W49: 6-speed manual | X49: gas | Y49: premium unleaded (required) | Z49: 15.8 | AA49: 20 | AB49: 17/25 MPG | AC49: 268.6/395.0 mi. | AD49: Europe/Germany | AE49: Compact car | AF49: F30, F31, F80
B50: 401789631 | C50: BMW | D50: 3 Series | E50: 2018 | F50: M3 | G50: M3 CS 4dr Sedan (3.0L 6cyl Turbo 7A) | H50: 98250 | I50: https://www.edmunds.com/assets/m/bmw/m3-cs/2018/oem/2018_bmw_m3-cs_sedan_base_fq_oem_1_815.jpg;https://media.ed.edmunds-media.com/bmw/m3-cs/2018/oem/2018_bmw_m3-cs_sedan_base_fq_oem_2_815.jpg;https://media.ed.edmunds-media.com/bmw/m3-cs/2018/oem/2018_bmw_m3-cs_sedan_base_fq_oem_3_815.jpg;https://media.ed.edmunds-media.com/bmw/m3-cs/2018/oem/2018_bmw_m3-cs_sedan_base_fq_oem_4_815.jpg;https://media.ed.edmunds-media.com/bmw/m3-cs/2018/oem/2018_bmw_m3-cs_sedan_base_fq_oem_5_815.jpg; | J50: Sedan | K50: 183.9 | L50: 73.9 | M50: 56.1 | N50: 110.7 | O50: 3494 | P50: I6 | Q50: 3 | R50: 453 | S50: 6250 | T50: 443 | U50: 4000 | V50: rear wheel drive | W50: 7-speed automated manual | X50: gas | Y50: premium unleaded (required) | Z50: 15.9 | AA50: 19 | AB50: 16/22 MPG | AC50: 254.4/349.8 mi. | AD50: Europe/Germany | AE50: Compact car | AF50: F30, F31, F80
B51: 200729833 | C51: BMW | D51: 3 Series | E51: 2016 | F51: 320i | G51: 320i 4dr Sedan (2.0L 4cyl Turbo 8A) | H51: 33150 | I51: https://www.edmunds.com/assets/m/bmw/3-series/2016/oem/2016_bmw_3-series_sedan_340i_fq_oem_6_815.jpg;https://media.ed.edmunds-media.com/bmw/3-series/2016/evox/2016_bmw_3-series_sedan_320i_pr_evox_1_175.jpg;https://media.ed.edmunds-media.com/bmw/3-series/2016/evox/2016_bmw_3-series_sedan_328i-sulev_pr_evox_1_175.jpg;https://media.ed.edmunds-media.com/bmw/3-series/2016/evox/2016_bmw_3-series_sedan_340i_pr_evox_1_175.jpg;https://media.ed.edmunds-media.com/bmw/3-series/2016/oem/2016_bmw_3-series_sedan_340i_rq_oem_2_175.jpg; | J51: Sedan | K51: 182.4 | L51: 71.3 | M51: 56.3 | N51: 110.6 | O51: 3370 | P51: I4 | Q51: 2 | R51: 180 | S51: 5000 | T51: 200 | U51: 1250 | V51: rear wheel drive | W51: 8-speed shiftable automatic | X51: gas | Y51: premium unleaded (required) | Z51: 15.8 | AA51: 28 | AB51: 24/36 MPG | AC51: 379.2/568.8 mi. | AD51: Europe/Germany | AE51: Compact car | AF51: F30, F31, F80
B52: 200741593 | C52: BMW | D52: 3 Series | E52: 2016 | F52: 320i xDrive | G52: 320i xDrive 4dr Sedan AWD (2.0L 4cyl Turbo 8A) | H52: 35150 | I52: https://www.edmunds.com/assets/m/bmw/3-series/2016/oem/2016_bmw_3-series_sedan_340i_fq_oem_6_815.jpg;https://media.ed.edmunds-media.com/bmw/3-series/2016/evox/2016_bmw_3-series_sedan_320i_pr_evox_1_175.jpg;https://media.ed.edmunds-media.com/bmw/3-series/2016/evox/2016_bmw_3-series_sedan_328i-sulev_pr_evox_1_175.jpg;https://media.ed.edmunds-media.com/bmw/3-series/2016/evox/2016_bmw_3-series_sedan_340i_pr_evox_1_175.jpg;https://media.ed.edmunds-media.com/bmw/3-series/2016/oem/2016_bmw_3-series_sedan_340i_rq_oem_2_175.jpg; | J52: Sedan | K52: 182.4 | L52: 71.3 | M52: 56.5 | N52: 110.6 | O52: 3510 | P52: I4 | Q52: 2 | R52: 180 | S52: 5000 | T52: 200 | U52: 1250 | V52: all wheel drive | W52: 8-speed shiftable automatic | X52: gas | Y52: premium unleaded (required) | Z52: 15.8 | AA52: 27 | AB52: 23/35 MPG | AC52: 363.4/553.0 mi. | AD52: Europe/Germany | AE52: Compact car | AF52: F30, F31, F80
B53: 200741592 | C53: BMW | D53: 3 Series | E53: 2016 | F53: 328i | G53: 328i 4dr Sedan (2.0L 4cyl Turbo 6M) | H53: 38350 | I53: https://www.edmunds.com/assets/m/bmw/3-series/2016/oem/2016_bmw_3-series_sedan_340i_fq_oem_6_815.jpg;https://media.ed.edmunds-media.com/bmw/3-series/2016/evox/2016_bmw_3-series_sedan_320i_pr_evox_1_175.jpg;https://media.ed.edmunds-media.com/bmw/3-series/2016/evox/2016_bmw_3-series_sedan_328i-sulev_pr_evox_1_175.jpg;https://media.ed.edmunds-media.com/bmw/3-series/2016/evox/2016_bmw_3-series_sedan_340i_pr_evox_1_175.jpg;https://media.ed.edmunds-media.com/bmw/3-series/2016/oem/2016_bmw_3-series_sedan_340i_rq_oem_2_175.jpg; | J53: Sedan | K53: 182.4 | L53: 71.3 | M53: 56.3 | N53: 110.6 | O53: 3320 | P53: I4 | Q53: 2 | R53: 240 | S53: 5000 | T53: 255 | U53: 1250 | V53: rear wheel drive | W53: 6-speed manual | X53: gas | Y53: premium unleaded (required) | Z53: 15.8 | AA53: 26 | AB53: 22/34 MPG | AC53: 347.6/537.2 mi. | AD53: Europe/Germany | AE53: Compact car | AF53: F30, F31, F80
B54: 200741591 | C54: BMW | D54: 3 Series | E54: 2016 | F54: 328i SULEV | G54: 328i SULEV 4dr Sedan (2.0L 4cyl Turbo 8A) | H54: 38350 | I54: https://www.edmunds.com/assets/m/bmw/3-series/2016/oem/2016_bmw_3-series_sedan_340i_fq_oem_6_815.jpg;https://media.ed.edmunds-media.com/bmw/3-series/2016/evox/2016_bmw_3-series_sedan_320i_pr_evox_1_175.jpg;https://media.ed.edmunds-media.com/bmw/3-series/2016/evox/2016_bmw_3-series_sedan_328i-sulev_pr_evox_1_175.jpg;https://media.ed.edmunds-media.com/bmw/3-series/2016/evox/2016_bmw_3-series_sedan_340i_pr_evox_1_175.jpg;https://media.ed.edmunds-media.com/bmw/3-series/2016/oem/2016_bmw_3-series_sedan_340i_rq_oem_2_175.jpg; | J54: Sedan | K54: 182.4 | L54: 71.3 | M54: 56.3 | N54: 110.6 | O54: 3370 | P54: I4 | Q54: 2 | R54: 240 | S54: 5000 | T54: 255 | U54: 1250 | V54: rear wheel drive | W54: 8-speed shiftable automatic | X54: gas | Y54: premium unleaded (required) | Z54: 15.8 | AA54: 26 | AB54: 22/34 MPG | AC54: 347.6/537.2 mi. | AD54: Europe/Germany | AE54: Compact car | AF54: F30, F31, F80
B55: 200741590 | C55: BMW | D55: 3 Series | E55: 2016 | F55: 328i xDrive SULEV | G55: 328i xDrive SULEV 4dr Sedan AWD (2.0L 4cyl Turbo 8A) | H55: 40350 | I55: https://www.edmunds.com/assets/m/bmw/3-series/2016/oem/2016_bmw_3-series_sedan_340i_fq_oem_6_815.jpg;https://media.ed.edmunds-media.com/bmw/3-series/2016/evox/2016_bmw_3-series_sedan_320i_pr_evox_1_175.jpg;https://media.ed.edmunds-media.com/bmw/3-series/2016/evox/2016_bmw_3-series_sedan_328i-sulev_pr_evox_1_175.jpg;https://media.ed.edmunds-media.com/bmw/3-series/2016/evox/2016_bmw_3-series_sedan_340i_pr_evox_1_175.jpg;https://media.ed.edmunds-media.com/bmw/3-series/2016/oem/2016_bmw_3-series_sedan_340i_rq_oem_2_175.jpg; | J55: Sedan | K55: 182.4 | L55: 71.3 | M55: 56.5 | N55: 110.6 | O55: 3635 | P55: I4 | Q55: 2 | R55: 240 | S55: 5000 | T55: 255 | U55: 1250 | V55: all wheel drive | W55: 8-speed shiftable automatic | X55: gas | Y55: premium unleaded (required) | Z55: 15.8 | AA55: 26 | AB55: 22/34 MPG | AC55: 347.6/537.2 mi. | AD55: Europe/Germany | AE55: Compact car | AF55: F30, F31, F80
B56: 200741587 | C56: BMW | D56: 3 Series | E56: 2016 | F56: 340i | G56: 340i 4dr Sedan (3.0L 6cyl Turbo 8A) | H56: 45800 | I56: https://www.edmunds.com/assets/m/bmw/3-series/2016/oem/2016_bmw_3-series_sedan_340i_fq_oem_6_815.jpg;https://media.ed.edmunds-media.com/bmw/3-series/2016/evox/2016_bmw_3-series_sedan_320i_pr_evox_1_175.jpg;https://media.ed.edmunds-media.com/bmw/3-series/2016/evox/2016_bmw_3-series_sedan_328i-sulev_pr_evox_1_175.jpg;https://media.ed.edmunds-media.com/bmw/3-series/2016/evox/2016_bmw_3-series_sedan_340i_pr_evox_1_175.jpg;https://media.ed.edmunds-media.com/bmw/3-series/2016/oem/2016_bmw_3-series_sedan_340i_rq_oem_2_175.jpg; | J56: Sedan | K56: 182.4 | L56: 71.3 | M56: 56.3 | N56: 110.6 | O56: 3695 | P56: I6 | Q56: 3 | R56: 320 | S56: 5500 | T56: 330 | U56: 1380 | V56: rear wheel drive | W56: 8-speed shiftable automatic | X56: gas | Y56: premium unleaded (required) | Z56: 15.8 | AA56: 26 | AB56: 22/33 MPG | AC56: 347.6/521.4 mi. | AD56: Europe/Germany | AE56: Compact car | AF56: F30, F31, F80
B57: 200741586 | C57: BMW | D57: 3 Series | E57: 2016 | F57: 340i xDrive | G57: 340i xDrive 4dr Sedan AWD (3.0L 6cyl Turbo 8A) | H57: 47800 | I57: https://www.edmunds.com/assets/m/bmw/3-series/2016/oem/2016_bmw_3-series_sedan_340i_fq_oem_6_815.jpg;https://media.ed.edmunds-media.com/bmw/3-series/2016/evox/2016_bmw_3-series_sedan_320i_pr_evox_1_175.jpg;https://media.ed.edmunds-media.com/bmw/3-series/2016/evox/2016_bmw_3-series_sedan_328i-sulev_pr_evox_1_175.jpg;https://media.ed.edmunds-media.com/bmw/3-series/2016/evox/2016_bmw_3-series_sedan_340i_pr_evox_1_175.jpg;https://media.ed.edmunds-media.com/bmw/3-series/2016/oem/2016_bmw_3-series_sedan_340i_rq_oem_2_175.jpg; | J57: Sedan | K57: 182.4 | L57: 71.3 | M57: 56.5 | N57: 110.6 | O57: 3720 | P57: I6 | Q57: 3 | R57: 320 | S57: 5500 | T57: 330 | U57: 1380 | V57: all wheel drive | W57: 8-speed shiftable automatic | X57: gas | Y57: premium unleaded (required) | Z57: 15.8 | AA57: 26 | AB57: 22/33 MPG | AC57: 347.6/521.4 mi. | AD57: Europe/Germany | AE57: Compact car | AF57: F30, F31, F80
B58: 200741594 | C58: BMW | D58: 3 Series | E58: 2016 | F58: 328d | G58: 328d 4dr Sedan (2.0L 4cyl Turbodiesel 8A) | H58: 39850 | I58: https://www.edmunds.com/assets/m/bmw/3-series/2016/oem/2016_bmw_3-series_sedan_340i_fq_oem_6_815.jpg;https://media.ed.edmunds-media.com/bmw/3-series/2016/evox/2016_bmw_3-series_sedan_320i_pr_evox_1_175.jpg;https://media.ed.edmunds-media.com/bmw/3-series/2016/evox/2016_bmw_3-series_sedan_328i-sulev_pr_evox_1_175.jpg;https://media.ed.edmunds-media.com/bmw/3-series/2016/evox/2016_bmw_3-series_sedan_340i_pr_evox_1_175.jpg;https://media.ed.edmunds-media.com/bmw/3-series/2016/oem/2016_bmw_3-series_sedan_340i_rq_oem_2_175.jpg; | J58: Sedan | K58: 182.4 | L58: 71.3 | M58: 56.3 | N58: 110.6 | O58: 3510 | P58: I4 | Q58: 2 | R58: 180 | S58: 4000 | T58: 280 | U58: 1750 | V58: rear wheel drive | W58: 8-speed shiftable automatic | X58: diesel | Y58: diesel fuel | Z58: 15 | AA58: 36 | AB58: 32/42 MPG | AC58: 480.0/630.0 mi. | AD58: Europe/Germany | AE58: Compact car | AF58: F30, F31, F80
B59: 200741588 | C59: BMW | D59: 3 Series | E59: 2016 | F59: 328d xDrive | G59: 328d xDrive 4dr Sedan AWD (2.0L 4cyl Turbodiesel 8A) | H59: 41850 | I59: https://www.edmunds.com/assets/m/bmw/3-series/2016/oem/2016_bmw_3-series_sedan_340i_fq_oem_6_815.jpg;https://media.ed.edmunds-media.com/bmw/3-series/2016/evox/2016_bmw_3-series_sedan_320i_pr_evox_1_175.jpg;https://media.ed.edmunds-media.com/bmw/3-series/2016/evox/2016_bmw_3-series_sedan_328i-sulev_pr_evox_1_175.jpg;https://media.ed.edmunds-media.com/bmw/3-series/2016/evox/2016_bmw_3-series_sedan_340i_pr_evox_1_175.jpg;https://media.ed.edmunds-media.com/bmw/3-series/2016/oem/2016_bmw_3-series_sedan_340i_rq_oem_2_175.jpg; | J59: Sedan | K59: 182.4 | L59: 71.3 | M59: 56.5 | N59: 110.6 | O59: 3695 | P59: I4 | Q59: 2 | R59: 180 | S59: 4000 | T59: 280 | U59: 1750 | V59: all wheel drive | W59: 8-speed shiftable automatic | X59: diesel | Y59: diesel fuel | Z59: 15 | AA59: 34 | AB59: 30/40 MPG | AC59: 450.0/600.0 mi. | AD59: Europe/Germany | AE59: Compact car | AF59: F30, F31, F80
B60: 200741589 | C60: BMW | D60: 3 Series | E60: 2016 | F60: 328d xDrive | G60: 328d xDrive 4dr Wagon AWD (2.0L 4cyl Turbodiesel 8A) | H60: 44150 | I60: https://www.edmunds.com/assets/m/bmw/3-series/2016/oem/2016_bmw_3-series_sedan_340i_fq_oem_6_815.jpg;https://media.ed.edmunds-media.com/bmw/3-series/2016/evox/2016_bmw_3-series_sedan_320i_pr_evox_1_175.jpg;https://media.ed.edmunds-media.com/bmw/3-series/2016/evox/2016_bmw_3-series_sedan_328i-sulev_pr_evox_1_175.jpg;https://media.ed.edmunds-media.com/bmw/3-series/2016/evox/2016_bmw_3-series_sedan_340i_pr_evox_1_175.jpg;https://media.ed.edmunds-media.com/bmw/3-series/2016/oem/2016_bmw_3-series_sedan_340i_rq_oem_2_175.jpg; | J60: Wagon | K60: 182.4 | L60: 71.3 | M60: 56.3 | N60: 110.6 | O60: 3895 | P60: I4 | Q60: 2 | R60: 180 | S60: 4000 | T60: 280 | U60: 1750 | V60: all wheel drive | W60: 8-speed shiftable automatic | X60: diesel | Y60: diesel fuel | Z60: 15 | AA60: 34 | AB60: 30/40 MPG | AC60: 450.0/600.0 mi. | AD60: Europe/Germany | AE60: Compact car | AF60: F30, F31, F80
B61: 200741585 | C61: BMW | D61: 3 Series | E61: 2016 | F61: 328i xDrive | G61: 328i xDrive 4dr Wagon AWD (2.0L 4cyl Turbo 8A) | H61: 42650 | I61: https://www.edmunds.com/assets/m/bmw/3-series/2016/oem/2016_bmw_3-series_sedan_340i_fq_oem_6_815.jpg;https://media.ed.edmunds-media.com/bmw/3-series/2016/evox/2016_bmw_3-series_sedan_320i_pr_evox_1_175.jpg;https://media.ed.edmunds-media.com/bmw/3-series/2016/evox/2016_bmw_3-series_sedan_328i-sulev_pr_evox_1_175.jpg;https://media.ed.edmunds-media.com/bmw/3-series/2016/evox/2016_bmw_3-series_sedan_340i_pr_evox_1_175.jpg;https://media.ed.edmunds-media.com/bmw/3-series/2016/oem/2016_bmw_3-series_sedan_340i_rq_oem_2_175.jpg; | J61: Wagon | K61: 182.4 | L61: 71.3 | M61: 56.5 | N61: 110.6 | O61: 3825 | P61: I4 | Q61: 2 | R61: 240 | S61: 5000 | T61: 255 | U61: 1250 | V61: all wheel drive | W61: 8-speed shiftable automatic | X61: gas | Y61: premium unleaded (required) | Z61: 15.8 | AA61: 26 | AB61: 22/34 MPG | AC61: 347.6/537.2 mi. | AD61: Europe/Germany | AE61: Compact car | AF61: F30, F31, F80
B62: 401638449 | C62: BMW | D62: 3 Series | E62: 2016 | F62: 330e | G62: 330e 4dr Sedan (2.0L 4cyl Turbo gas/electric plug-in hybrid 8A) | H62: 43700 | I62: https://www.edmunds.com/assets/m/bmw/3-series-edrive/2016/oem/2016_bmw_3-series-edrive_sedan_330e_fq_oem_1_815.jpg;https://media.ed.edmunds-media.com/bmw/3-series-edrive/2016/evox/2016_bmw_3-series-edrive_sedan_330e_pr_evox_1_175.jpg;https://media.ed.edmunds-media.com/bmw/3-series-edrive/2016/oem/2016_bmw_3-series-edrive_sedan_330e_fq_oem_2_175.jpg;https://media.ed.edmunds-media.com/bmw/3-series-edrive/2016/oem/2016_bmw_3-series-edrive_sedan_330e_fq_oem_3_175.jpg;https://media.ed.edmunds-media.com/bmw/3-series-edrive/2016/oem/2016_bmw_3-series-edrive_sedan_330e_fq_oem_4_175.jpg; | J62: Sedan | K62: 182.4 | L62: 71.3 | M62: 56.3 | N62: 110.6 | O62: 3915 | P62: I4 | Q62: 2 | R62: 248 | T62: 310 | V62: rear wheel drive | W62: 8-speed shiftable automatic | X62: plug-in hybrid | Y62: premium unleaded (required) | Z62: 10.8 | AA62: 31 | AC62: 0/0 mi. | AD62: Europe/Germany | AE62: Compact car | AF62: F30, F31, F80
B63: 401566521 | C63: BMW | D63: 3 Series | E63: 2016 | F63: M3 | G63: M3 4dr Sedan (3.0L 6cyl Turbo 6M) | H63: 63500 | I63: https://www.edmunds.com/assets/m/bmw/m3/2016/oem/2016_bmw_m3_sedan_base_fq_oem_1_815.jpg;https://media.ed.edmunds-media.com/bmw/m3/2016/evox/2016_bmw_m3_sedan_base_pr_evox_1_175.jpg;https://media.ed.edmunds-media.com/bmw/m3/2016/oem/2016_bmw_m3_sedan_base_fq_oem_2_175.jpg;https://media.ed.edmunds-media.com/bmw/m3/2016/oem/2016_bmw_m3_sedan_base_fq_oem_3_175.jpg;https://media.ed.edmunds-media.com/bmw/m3/2016/oem/2016_bmw_m3_sedan_base_fq_oem_4_175.jpg; | J63: Sedan | K63: 183.9 | L63: 73.9 | M63: 56.3 | N63: 110.7 | O63: 3540 | P63: I6 | Q63: 3 | R63: 425 | S63: 5500 | T63: 406 | U63: 1850 | V63: rear wheel drive | W63: 6-speed manual | X63: gas | Y63: premium unleaded (required) | Z63: 15.8 | AA63: 20 | AB63: 17/26 MPG | AC63: 268.6/410.8 mi. | AD63: Europe/Germany | AE63: Compact car | AF63: F30, F31, F80
B64: 200489817 | C64: BMW | D64: 3 Series | E64: 2014 | F64: 320i | G64: 320i 4dr Sedan (2.0L 4cyl Turbo 8A) | H64: 32750 | I64: https://www.edmunds.com/assets/m/bmw/3-series/2014/oem/2014_bmw_3-series_sedan_320i_fq_oem_1_815.jpg;https://media.ed.edmunds-media.com/bmw/3-series/2014/oem/2014_bmw_3-series_sedan_320i_fq_oem_2_175.jpg;https://media.ed.edmunds-media.com/bmw/3-series/2014/oem/2014_bmw_3-series_sedan_320i_fq_oem_3_175.jpg;https://media.ed.edmunds-media.com/bmw/3-series/2014/oem/2014_bmw_3-series_sedan_320i_rq_oem_1_175.jpg;https://media.ed.edmunds-media.com/bmw/3-series/2014/oem/2014_bmw_3-series_sedan_320i_rq_oem_2_175.jpg; | J64: Sedan | K64: 182.5 | L64: 71.3 | M64: 56.3 | N64: 110.6 | O64: 3295 | P64: I4 | Q64: 2 | R64: 180 | S64: 5000 | T64: 184 | U64: 1250 | V64: rear wheel drive | W64: 8-speed shiftable automatic | X64: gas | Y64: premium unleaded (required) | Z64: 15.8 | AA64: 28 | AB64: 24/36 MPG | AC64: 379.2/568.8 mi. | AD64: Europe/Germany | AE64: Compact car | AF64: F30, F31, F80
B65: 200489818 | C65: BMW | D65: 3 Series | E65: 2014 | F65: 320i xDrive | G65: 320i xDrive 4dr Sedan AWD (2.0L 4cyl Turbo 8A) | H65: 34750 | I65: https://www.edmunds.com/assets/m/bmw/3-series/2014/oem/2014_bmw_3-series_sedan_320i_fq_oem_1_815.jpg;https://media.ed.edmunds-media.com/bmw/3-series/2014/oem/2014_bmw_3-series_sedan_320i_fq_oem_2_175.jpg;https://media.ed.edmunds-media.com/bmw/3-series/2014/oem/2014_bmw_3-series_sedan_320i_fq_oem_3_175.jpg;https://media.ed.edmunds-media.com/bmw/3-series/2014/oem/2014_bmw_3-series_sedan_320i_rq_oem_1_175.jpg;https://media.ed.edmunds-media.com/bmw/3-series/2014/oem/2014_bmw_3-series_sedan_320i_rq_oem_2_175.jpg; | J65: Sedan | K65: 182.5 | L65: 71.3 | M65: 56.3 | N65: 110.6 | O65: 3450 | P65: I4 | Q65: 2 | R65: 180 | S65: 5000 | T65: 199 | U65: 1250 | V65: all wheel drive | W65: 8-speed shiftable automatic | X65: gas | Y65: premium unleaded (required) | Z65: 15.8 | AA65: 27 | AB65: 23/35 MPG | AC65: 363.4/553.0 mi. | AD65: Europe/Germany | AE65: Compact car | AF65: F30, F31, F80
B66: 200489821 | C66: BMW | D66: 3 Series | E66: 2014 | F66: 328i | G66: 328i 4dr Sedan (2.0L 4cyl Turbo 8A) | H66: 37300 | I66: https://www.edmunds.com/assets/m/bmw/3-series/2014/oem/2014_bmw_3-series_sedan_320i_fq_oem_1_815.jpg;https://media.ed.edmunds-media.com/bmw/3-series/2014/oem/2014_bmw_3-series_sedan_320i_fq_oem_2_175.jpg;https://media.ed.edmunds-media.com/bmw/3-series/2014/oem/2014_bmw_3-series_sedan_320i_fq_oem_3_175.jpg;https://media.ed.edmunds-media.com/bmw/3-series/2014/oem/2014_bmw_3-series_sedan_320i_rq_oem_1_175.jpg;https://media.ed.edmunds-media.com/bmw/3-series/2014/oem/2014_bmw_3-series_sedan_320i_rq_oem_2_175.jpg; | J66: Sedan | K66: 182.5 | L66: 71.3 | M66: 56.3 | N66: 110.6 | O66: 3410 | P66: I4 | Q66: 2 | R66: 240 | S66: 5000 | T66: 255 | U66: 1250 | V66: rear wheel drive | W66: 8-speed shiftable automatic | X66: gas | Y66: premium unleaded (required) | Z66: 15.8 | AA66: 27 | AB66: 23/35 MPG | AC66: 363.4/553.0 mi. | AD66: Europe/Germany | AE66: Compact car | AF66: F30, F31, F80
B67: 200489823 | C67: BMW | D67: 3 Series | E67: 2014 | F67: 328i SULEV | G67: 328i SULEV 4dr Sedan (2.0L 4cyl Turbo 8A) | H67: 37300 | I67: https://www.edmunds.com/assets/m/bmw/3-series/2014/oem/2014_bmw_3-series_sedan_320i_fq_oem_1_815.jpg;https://media.ed.edmunds-media.com/bmw/3-series/2014/oem/2014_bmw_3-series_sedan_320i_fq_oem_2_175.jpg;https://media.ed.edmunds-media.com/bmw/3-series/2014/oem/2014_bmw_3-series_sedan_320i_fq_oem_3_175.jpg;https://media.ed.edmunds-media.com/bmw/3-series/2014/oem/2014_bmw_3-series_sedan_320i_rq_oem_1_175.jpg;https://media.ed.edmunds-media.com/bmw/3-series/2014/oem/2014_bmw_3-series_sedan_320i_rq_oem_2_175.jpg; | J67: Sedan | K67: 182.5 | L67: 71.3 | M67: 56.3 | N67: 110.6 | O67: 3420 | P67: I4 | Q67: 2 | R67: 240 | S67: 5000 | T67: 255 | U67: 1250 | V67: rear wheel drive | W67: 8-speed shiftable automatic | X67: gas | Y67: premium unleaded (required) | Z67: 15.8 | AA67: 27 | AB67: 23/35 MPG | AC67: 363.4/553.0 mi. | AD67: Europe/Germany | AE67: Compact car | AF67: F30, F31, F80
B68: 200489825 | C68: BMW | D68: 3 Series | E68: 2014 | F68: 328i xDrive | G68: 328i xDrive 4dr Sedan AWD (2.0L 4cyl Turbo 8A) | H68: 39300 | I68: https://www.edmunds.com/assets/m/bmw/3-series/2014/oem/2014_bmw_3-series_sedan_320i_fq_oem_1_815.jpg;https://media.ed.edmunds-media.com/bmw/3-series/2014/oem/2014_bmw_3-series_sedan_320i_fq_oem_2_175.jpg;https://media.ed.edmunds-media.com/bmw/3-series/2014/oem/2014_bmw_3-series_sedan_320i_fq_oem_3_175.jpg;https://media.ed.edmunds-media.com/bmw/3-series/2014/oem/2014_bmw_3-series_sedan_320i_rq_oem_1_175.jpg;https://media.ed.edmunds-media.com/bmw/3-series/2014/oem/2014_bmw_3-series_sedan_320i_rq_oem_2_175.jpg; | J68: Sedan | K68: 182.5 | L68: 71.3 | M68: 56.3 | N68: 110.6 | O68: 3595 | P68: I4 | Q68: 2 | R68: 240 | S68: 5000 | T68: 255 | U68: 1250 | V68: all wheel drive | W68: 8-speed shiftable automatic | X68: gas | Y68: premium unleaded (required) | Z68: 15.8 | AA68: 26 | AB68: 22/33 MPG | AC68: 347.6/521.4 mi. | AD68: Europe/Germany | AE68: Compact car | AF68: F30, F31, F80
B69: 200489827 | C69: BMW | D69: 3 Series | E69: 2014 | F69: 328i xDrive SULEV | G69: 328i xDrive SULEV 4dr Sedan AWD (2.0L 4cyl Turbo 8A) | H69: 39300 | I69: https://www.edmunds.com/assets/m/bmw/3-series/2014/oem/2014_bmw_3-series_sedan_320i_fq_oem_1_815.jpg;https://media.ed.edmunds-media.com/bmw/3-series/2014/oem/2014_bmw_3-series_sedan_320i_fq_oem_2_175.jpg;https://media.ed.edmunds-media.com/bmw/3-series/2014/oem/2014_bmw_3-series_sedan_320i_fq_oem_3_175.jpg;https://media.ed.edmunds-media.com/bmw/3-series/2014/oem/2014_bmw_3-series_sedan_320i_rq_oem_1_175.jpg;https://media.ed.edmunds-media.com/bmw/3-series/2014/oem/2014_bmw_3-series_sedan_320i_rq_oem_2_175.jpg; | J69: Sedan | K69: 182.5 | L69: 71.3 | M69: 56.3 | N69: 110.6 | O69: 3605 | P69: I4 | Q69: 2 | R69: 240 | S69: 5000 | T69: 255 | U69: 1250 | V69: all wheel drive | W69: 8-speed shiftable automatic | X69: gas | Y69: premium unleaded (required) | Z69: 15.8 | AA69: 26 | AB69: 22/33 MPG | AC69: 347.6/521.4 mi. | AD69: Europe/Germany | AE69: Compact car | AF69: F30, F31, F80
B70: 200489831 | C70: BMW | D70: 3 Series | E70: 2014 | F70: 335i | G70: 335i 4dr Sedan (3.0L 6cyl Turbo 8A) | H70: 43400 | I70: https://www.edmunds.com/assets/m/bmw/3-series/2014/oem/2014_bmw_3-series_sedan_320i_fq_oem_1_815.jpg;https://media.ed.edmunds-media.com/bmw/3-series/2014/oem/2014_bmw_3-series_sedan_320i_fq_oem_2_175.jpg;https://media.ed.edmunds-media.com/bmw/3-series/2014/oem/2014_bmw_3-series_sedan_320i_fq_oem_3_175.jpg;https://media.ed.edmunds-media.com/bmw/3-series/2014/oem/2014_bmw_3-series_sedan_320i_rq_oem_1_175.jpg;https://media.ed.edmunds-media.com/bmw/3-series/2014/oem/2014_bmw_3-series_sedan_320i_rq_oem_2_175.jpg; | J70: Sedan | K70: 182.5 | L70: 71.3 | M70: 56.3 | N70: 110.6 | O70: 3555 | P70: I6 | Q70: 3 | R70: 300 | S70: 5800 | T70: 300 | U70: 1200 | V70: rear wheel drive | W70: 8-speed shiftable automatic | X70: gas | Y70: premium unleaded (required) | Z70: 15.8 | AA70: 25 | AB70: 22/32 MPG | AC70: 347.6/505.6 mi. | AD70: Europe/Germany | AE70: Compact car | AF70: F30, F31, F80
B71: 200489833 | C71: BMW | D71: 3 Series | E71: 2014 | F71: 335i xDrive | G71: 335i xDrive 4dr Sedan AWD (3.0L 6cyl Turbo 8A) | H71: 45400 | I71: https://www.edmunds.com/assets/m/bmw/3-series/2014/oem/2014_bmw_3-series_sedan_320i_fq_oem_1_815.jpg;https://media.ed.edmunds-media.com/bmw/3-series/2014/oem/2014_bmw_3-series_sedan_320i_fq_oem_2_175.jpg;https://media.ed.edmunds-media.com/bmw/3-series/2014/oem/2014_bmw_3-series_sedan_320i_fq_oem_3_175.jpg;https://media.ed.edmunds-media.com/bmw/3-series/2014/oem/2014_bmw_3-series_sedan_320i_rq_oem_1_175.jpg;https://media.ed.edmunds-media.com/bmw/3-series/2014/oem/2014_bmw_3-series_sedan_320i_rq_oem_2_175.jpg; | J71: Sedan | K71: 182.5 | L71: 71.3 | M71: 56.3 | N71: 110.6 | O71: 3710 | P71: I6 | Q71: 3 | R71: 300 | S71: 5800 | T71: 300 | U71: 1200 | V71: all wheel drive | W71: 8-speed shiftable automatic | X71: gas | Y71: premium unleaded (required) | Z71: 15.8 | AA71: 24 | AB71: 20/30 MPG | AC71: 316.0/474.0 mi. | AD71: Europe/Germany | AE71: Compact car | AF71: F30, F31, F80
B72: 200489830 | C72: BMW | D72: 3 Series | E72: 2014 | F72: 328d | G72: 328d 4dr Sedan (2.0L 4cyl Turbodiesel 8A) | H72: 38600 | I72: https://www.edmunds.com/assets/m/bmw/3-series/2014/oem/2014_bmw_3-series_sedan_320i_fq_oem_1_815.jpg;https://media.ed.edmunds-media.com/bmw/3-series/2014/oem/2014_bmw_3-series_sedan_320i_fq_oem_2_175.jpg;https://media.ed.edmunds-media.com/bmw/3-series/2014/oem/2014_bmw_3-series_sedan_320i_fq_oem_3_175.jpg;https://media.ed.edmunds-media.com/bmw/3-series/2014/oem/2014_bmw_3-series_sedan_320i_rq_oem_1_175.jpg;https://media.ed.edmunds-media.com/bmw/3-series/2014/oem/2014_bmw_3-series_sedan_320i_rq_oem_2_175.jpg; | J72: Sedan | K72: 182.5 | L72: 71.3 | M72: 56.3 | N72: 110.6 | O72: 3460 | P72: I4 | Q72: 2 | R72: 181 | S72: 4000 | T72: 280 | U72: 1750 | V72: rear wheel drive | W72: 8-speed shiftable automatic | X72: diesel | Y72: diesel fuel | Z72: 15 | AA72: 37 | AB72: 32/45 MPG | AC72: 480.0/675.0 mi. | AD72: Europe/Germany | AE72: Compact car | AF72: F30, F31, F80
B73: 200489829 | C73: BMW | D73: 3 Series | E73: 2014 | F73: 328d xDrive | G73: 328d xDrive 4dr Sedan AWD (2.0L 4cyl Turbodiesel 8A) | H73: 40600 | I73: https://www.edmunds.com/assets/m/bmw/3-series/2014/oem/2014_bmw_3-series_sedan_320i_fq_oem_1_815.jpg;https://media.ed.edmunds-media.com/bmw/3-series/2014/oem/2014_bmw_3-series_sedan_320i_fq_oem_2_175.jpg;https://media.ed.edmunds-media.com/bmw/3-series/2014/oem/2014_bmw_3-series_sedan_320i_fq_oem_3_175.jpg;https://media.ed.edmunds-media.com/bmw/3-series/2014/oem/2014_bmw_3-series_sedan_320i_rq_oem_1_175.jpg;https://media.ed.edmunds-media.com/bmw/3-series/2014/oem/2014_bmw_3-series_sedan_320i_rq_oem_2_175.jpg; | J73: Sedan | K73: 182.5 | L73: 71.3 | M73: 56.3 | N73: 110.6 | O73: 3620 | P73: I4 | Q73: 2 | R73: 181 | S73: 4000 | T73: 280 | U73: 1750 | V73: all wheel drive | W73: 8-speed shiftable automatic | X73: diesel | Y73: diesel fuel | Z73: 15 | AA73: 35 | AB73: 31/43 MPG | AC73: 465.0/645.0 mi. | AD73: Europe/Germany | AE73: Compact car | AF73: F30, F31, F80
B74: 200489782 | C74: BMW | D74: 3 Series | E74: 2014 | F74: 328d xDrive | G74: 328d xDrive 4dr Wagon AWD (2.0L 4cyl Turbodiesel 8A) | H74: 42950 | I74: https://www.edmunds.com/assets/m/bmw/3-series/2014/oem/2014_bmw_3-series_sedan_320i_fq_oem_1_815.jpg;https://media.ed.edmunds-media.com/bmw/3-series/2014/oem/2014_bmw_3-series_sedan_320i_fq_oem_2_175.jpg;https://media.ed.edmunds-media.com/bmw/3-series/2014/oem/2014_bmw_3-series_sedan_320i_fq_oem_3_175.jpg;https://media.ed.edmunds-media.com/bmw/3-series/2014/oem/2014_bmw_3-series_sedan_320i_rq_oem_1_175.jpg;https://media.ed.edmunds-media.com/bmw/3-series/2014/oem/2014_bmw_3-series_sedan_320i_rq_oem_2_175.jpg; | J74: Wagon | K74: 182 | L74: 71.3 | M74: 56.3 | N74: 110.6 | O74: 3790 | P74: I4 | Q74: 2 | R74: 181 | S74: 4000 | T74: 280 | U74: 1750 | V74: all wheel drive | W74: 8-speed shiftable automatic | X74: diesel | Y74: diesel fuel | Z74: 15 | AA74: 35 | AB74: 31/43 MPG | AC74: 465.0/645.0 mi. | AD74: Europe/Germany | AE74: Compact car | AF74: F30, F31, F80
... B154: 100003668 | C154: BMW | D154: 3 Series | E154: 2002 | F154: 330Ci | G154: 330Ci Rwd 2dr Convertible (3.0L 6cyl 5M) | H154: 42400 | I154: https://www.edmunds.com/assets/m/bmw/3-series/2002/oem/2002_bmw_3-series_sedan_330i_fq_oem_1_500.jpg;https://media.ed.edmunds-media.com/bmw/3-series/2002/evox/2002_bmw_3-series_sedan_325i_pr_evox_1_175.jpg;https://media.ed.edmunds-media.com/bmw/3-series/2002/evox/2002_bmw_3-series_sedan_330i_pr_evox_1_175.jpg;https://media.ed.edmunds-media.com/bmw/3-series/2002/evox/2002_bmw_3-series_sedan_325i_rqn_evox_1_175.jpg;https://media.ed.edmunds-media.com/bmw/3-series/2002/evox/2002_bmw_3-series_sedan_330i_rqn_evox_1_175.jpg; | J154: Convertible | K154: 176.7 | L154: 69.2 | M154: 54 | N154: 107.3 | O154: 3616 | P154: I6 | Q154: 3 | R154: 225 | S154: 5900 | T154: 214 | U154: 3500 | V154: rear wheel drive | W154: 5-speed manual | X154: gas | Y154: premium unleaded (required) | Z154: 16.6 | AA154: 20 | AB154: 17/26 MPG | AC154: 282.2/431.6 mi. | AD154: Europe/Germany | AE154: Compact car | AF154: E46
B155: 100003687 | C155: BMW | D155: 3 Series | E155: 2002 | F155: M3 | G155: M3 2dr Coupe (3.2L 6cyl 6M) | H155: 45900 | I155: https://www.edmunds.com/assets/m/bmw/m3/2001/oem/2001_bmw_m3_convertible_base_fq_oem_1_500.jpg;https://media.ed.edmunds-media.com/bmw/m3/2001/oem/2001_bmw_m3_convertible_base_rq_oem_1_500.jpg;https://media.ed.edmunds-media.com/bmw/m3/2001/oem/2001_bmw_m3_convertible_base_s_oem_1_500.jpg;https://media.ed.edmunds-media.com/bmw/m3/2001/oem/2001_bmw_m3_convertible_base_s_oem_2_500.jpg;https://media.ed.edmunds-media.com/bmw/m3/2001/oem/2001_bmw_m3_convertible_base_f_oem_1_500.jpg; | J155: Coupe | K155: 176.8 | L155: 70.1 | M155: 54 | N155: 107.5 | O155: 3415 | P155: I6 | Q155: 3.2 | R155: 333 | S155: 7900 | T155: 262 | U155: 4900 | V155: rear wheel drive | W155: 6-speed manual | X155: gas | Y155: premium unleaded (required) | Z155: 16.6 | AC155: 0/0 mi. | AD155: Europe/Germany | AE155: Compact car | AF155: E46
B156: 100003686 | C156: BMW | D156: 3 Series | E156: 2002 | F156: M3 | G156: M3 2dr Convertible (3.2L 6cyl 6M) | H156: 53900 | I156: https://www.edmunds.com/assets/m/bmw/m3/2001/oem/2001_bmw_m3_convertible_base_fq_oem_1_500.jpg;https://media.ed.edmunds-media.com/bmw/m3/2001/oem/2001_bmw_m3_convertible_base_rq_oem_1_500.jpg;https://media.ed.edmunds-media.com/bmw/m3/2001/oem/2001_bmw_m3_convertible_base_s_oem_1_500.jpg;https://media.ed.edmunds-media.com/bmw/m3/2001/oem/2001_bmw_m3_convertible_base_s_oem_2_500.jpg;https://media.ed.edmunds-media.com/bmw/m3/2001/oem/2001_bmw_m3_convertible_base_f_oem_1_500.jpg; | J156: Convertible | K156: 176.8 | L156: 70.1 | M156: 53.7 | N156: 107.5 | O156: 3781 | P156: I6 | Q156: 3.2 | R156: 333 | S156: 7900 | T156: 262 | U156: 4900 | V156: rear wheel drive | W156: 6-speed manual | X156: gas | Y156: premium unleaded (required) | Z156: 16.6 | AC156: 0/0 mi. | AD156: Europe/Germany | AE156: Compact car | AF156: E46
B157: 10585 | C157: BMW | D157: 3 Series | E157: 2000 | F157: 323Ci | G157: 323Ci 2dr Coupe | I157: https://www.edmunds.com/assets/m/bmw/3-series/2000/oem/2000_bmw_3-series_wagon_323it_fq_oem_3_500.jpg;https://media.ed.edmunds-media.com/bmw/3-series/2000/evox/2000_bmw_3-series_convertible_323ci_dh_evox_1_500.jpg;https://media.ed.edmunds-media.com/bmw/3-series/2000/evox/2000_bmw_3-series_convertible_323ci_pr_evox_1_815.jpg;https://media.ed.edmunds-media.com/bmw/3-series/2000/evox/2000_bmw_3-series_convertible_323ci_rqn_evox_1_500.jpg;https://media.ed.edmunds-media.com/bmw/3-series/2000/evox/2000_bmw_3-series_convertible_323ci_fqn_evox_1_500.jpg; | J157: Coupe | K157: 176.7 | L157: 69.2 | M157: 54.6 | N157: 107.3 | O157: 3153 | P157: I6 | Q157: 2.5 | R157: 170 | S157: 5500 | T157: 181 | U157: 3500 | V157: rear wheel drive | W157: 5-speed manual | X157: gas | Y157: regular unleaded | Z157: 16.6 | AA157: 21 | AB157: 18/26 MPG | AC157: 298.8/431.6 mi. | AD157: Europe/Germany | AE157: Compact car | AF157: E46
B158: 10586 | C158: BMW | D158: 3 Series | E158: 2000 | F158: 328Ci | G158: 328Ci 2dr Coupe | I158: https://www.edmunds.com/assets/m/bmw/3-series/2000/oem/2000_bmw_3-series_wagon_323it_fq_oem_3_500.jpg;https://media.ed.edmunds-media.com/bmw/3-series/2000/evox/2000_bmw_3-series_convertible_323ci_dh_evox_1_500.jpg;https://media.ed.edmunds-media.com/bmw/3-series/2000/evox/2000_bmw_3-series_convertible_323ci_pr_evox_1_815.jpg;https://media.ed.edmunds-media.com/bmw/3-series/2000/evox/2000_bmw_3-series_convertible_323ci_rqn_evox_1_500.jpg;https://media.ed.edmunds-media.com/bmw/3-series/2000/evox/2000_bmw_3-series_convertible_323ci_fqn_evox_1_500.jpg; | J158: Coupe | K158: 176.7 | L158: 68.5 | M158: 54.6 | N158: 107.3 | O158: 3197 | P158: I6 | Q158: 2.8 | R158: 193 | S158: 5500 | T158: 206 | U158: 3500 | V158: rear wheel drive | W158: 5-speed manual | X158: gas | Y158: regular unleaded | Z158: 16.6 | AA158: 21 | AB158: 18/26 MPG | AC158: 298.8/431.6 mi. | AD158: Europe/Germany | AE158: Compact car | AF158: E46
B159: 13011 | C159: BMW | D159: 3 Series | E159: 2000 | F159: 323Ci | G159: 323Ci 2dr Convertible | I159: https://www.edmunds.com/assets/m/bmw/3-series/2000/oem/2000_bmw_3-series_wagon_323it_fq_oem_3_500.jpg;https://media.ed.edmunds-media.com/bmw/3-series/2000/evox/2000_bmw_3-series_convertible_323ci_dh_evox_1_500.jpg;https://media.ed.edmunds-media.com/bmw/3-series/2000/evox/2000_bmw_3-series_convertible_323ci_pr_evox_1_815.jpg;https://media.ed.edmunds-media.com/bmw/3-series/2000/evox/2000_bmw_3-series_convertible_323ci_rqn_evox_1_500.jpg;https://media.ed.edmunds-media.com/bmw/3-series/2000/evox/2000_bmw_3-series_convertible_323ci_fqn_evox_1_500.jpg; | J159: Convertible | K159: 176.7 | L159: 69.2 | M159: 54 | N159: 107.3 | O159: 3560 | P159: I6 | Q159: 2.5 | R159: 170 | S159: 5500 | T159: 181 | U159: 3500 | V159: rear wheel drive | W159: 5-speed manual | X159: gas | Y159: regular unleaded | Z159: 16.6 | AA159: 19 | AB159: 17/23 MPG | AC159: 282.2/381.8 mi. | AD159: Europe/Germany | AE159: Compact car | AF159: E46
B160: 10587 | C160: BMW | D160: 3 Series | E160: 2000 | F160: 323i | G160: 323i 4dr Sedan | I160: https://www.edmunds.com/assets/m/bmw/3-series/2000/oem/2000_bmw_3-series_wagon_323it_fq_oem_3_500.jpg;https://media.ed.edmunds-media.com/bmw/3-series/2000/evox/2000_bmw_3-series_convertible_323ci_dh_evox_1_500.jpg;https://media.ed.edmunds-media.com/bmw/3-series/2000/evox/2000_bmw_3-series_convertible_323ci_pr_evox_1_815.jpg;https://media.ed.edmunds-media.com/bmw/3-series/2000/evox/2000_bmw_3-series_convertible_323ci_rqn_evox_1_500.jpg;https://media.ed.edmunds-media.com/bmw/3-series/2000/evox/2000_bmw_3-series_convertible_323ci_fqn_evox_1_500.jpg; | J160: Sedan | K160: 176 | L160: 68.5 | M160: 55.7 | N160: 107.3 | O160: 3153 | P160: I6 | Q160: 2.5 | R160: 170 | S160: 5500 | T160: 181 | U160: 3500 | V160: rear wheel drive | W160: 5-speed manual | X160: gas | Y160: regular unleaded | Z160: 16.6 | AA160: 21 | AB160: 18/26 MPG | AC160: 298.8/431.6 mi. | AD160: Europe/Germany | AE160: Compact car | AF160: E46
B161: 10588 | C161: BMW | D161: 3 Series | E161: 2000 | F161: 328i | G161: 328i 4dr Sedan | I161: https://www.edmunds.com/assets/m/bmw/3-series/2000/oem/2000_bmw_3-series_wagon_323it_fq_oem_3_500.jpg;https://media.ed.edmunds-media.com/bmw/3-series/2000/evox/2000_bmw_3-series_convertible_323ci_dh_evox_1_500.jpg;https://media.ed.edmunds-media.com/bmw/3-series/2000/evox/2000_bmw_3-series_convertible_323ci_pr_evox_1_815.jpg;https://media.ed.edmunds-media.com/bmw/3-series/2000/evox/2000_bmw_3-series_convertible_323ci_rqn_evox_1_500.jpg;https://media.ed.edmunds-media.com/bmw/3-series/2000/evox/2000_bmw_3-series_convertible_323ci_fqn_evox_1_500.jpg; | J161: Sedan | K161: 176 | L161: 68.5 | M161: 55.7 | N161: 107.3 | O161: 3197 | P161: I6 | Q161: 2.8 | R161: 193 | S161: 5500 | T161: 206 | U161: 3500 | V161: rear wheel drive | W161: 5-speed manual | X161: gas | Y161: regular unleaded | Z161: 16.6 | AA161: 21 | AB161: 18/26 MPG | AC161: 298.8/431.6 mi. | AD161: Europe/Germany | AE161: Compact car | AF161: E46
B162: 13012 | C162: BMW | D162: 3 Series | E162: 2000 | F162: 323iT | G162: 323iT 4dr Wagon | I162: https://www.edmunds.com/assets/m/bmw/3-series/2000/oem/2000_bmw_3-series_wagon_323it_fq_oem_3_500.jpg;https://media.ed.edmunds-media.com/bmw/3-series/2000/evox/2000_bmw_3-series_convertible_323ci_dh_evox_1_500.jpg;https://media.ed.edmunds-media.com/bmw/3-series/2000/evox/2000_bmw_3-series_convertible_323ci_pr_evox_1_815.jpg;https://media.ed.edmunds-media.com/bmw/3-series/2000/evox/2000_bmw_3-series_convertible_323ci_rqn_evox_1_500.jpg;https://media.ed.edmunds-media.com/bmw/3-series/2000/evox/2000_bmw_3-series_convertible_323ci_fqn_evox_1_500.jpg; | J162: Wagon | K162: 176.3 | L162: 68.5 | M162: 55.5 | N162: 107.3 | O162: 3351 | P162: I6 | Q162: 2.5 | R162: 170 | S162: 5500 | T162: 181 | U162: 3500 | V162: rear wheel drive | W162: 5-speed manual | X162: gas | Y162: regular unleaded | Z162: 16.6 | AA162: 21 | AB162: 18/26 MPG | AC162: 298.8/431.6 mi. | AD162: Europe/Germany | AE162: Compact car | AF162: E46
B163: 17321 | C163: BMW | D163: 3 Series | E163: 1998 | F163: 318i | G163: 318i 4dr Sedan | I163: https://www.edmunds.com/assets/m/bmw/3-series/1998/oem/1998_bmw_3-series_sedan_318i_fq_oem_1_500.jpg; | J163: Sedan | K163: 174.5 | L163: 66.9 | M163: 54.8 | N163: 106.3 | O163: 2954 | P163: I4 | Q163: 1.9 | R163: 138 | S163: 6000 | T163: 133 | U163: 4300 | V163: rear wheel drive | W163: 5-speed manual | X163: gas | Y163: regular unleaded | Z163: 16.4 | AA163: 24 | AB163: 20/29 MPG | AC163: 328.0/475.6 mi. | AD163: Europe/Germany | AE163: Compact car | AF163: E36
B164: 17326 | C164: BMW | D164: 3 Series | E164: 1998 | F164: 328i | G164: 328i 4dr Sedan | I164: https://www.edmunds.com/assets/m/bmw/3-series/1998/oem/1998_bmw_3-series_sedan_318i_fq_oem_1_500.jpg; | J164: Sedan | K164: 176 | L164: 68.5 | M164: 55.7 | N164: 107.3 | O164: 3197 | P164: I6 | Q164: 2.8 | R164: 193 | S164: 5500 | T164: 206 | U164: 3500 | V164: rear wheel drive | W164: 5-speed manual | X164: gas | Y164: regular unleaded | Z164: 16.6 | AA164: 20 | AB164: 17/26 MPG | AC164: 282.2/431.6 mi. | AD164: Europe/Germany | AE164: Compact car | AF164: E36
B165: 17323 | C165: BMW | D165: 3 Series | E165: 1998 | F165: 318ti | G165: 318ti 2dr Hatchback | I165: https://www.edmunds.com/assets/m/bmw/3-series/1998/oem/1998_bmw_3-series_sedan_318i_fq_oem_1_500.jpg; | J165: Hatchback | K165: 165.7 | L165: 67.3 | M165: 54.8 | N165: 106.3 | O165: 2778 | P165: I4 | Q165: 1.9 | R165: 138 | S165: 6000 | T165: 133 | U165: 4300 | V165: rear wheel drive | W165: 5-speed manual | X165: gas | Y165: regular unleaded | Z165: 14.5 | AA165: 24 | AB165: 20/29 MPG | AC165: 290.0/420.5 mi. | AD165: Europe/Germany | AE165: Compact car | AF165: E36
B166: 17324 | C166: BMW | D166: 3 Series | E166: 1998 | F166: 323i | G166: 323i 2dr Convertible | I166: https://www.edmunds.com/assets/m/bmw/3-series/1998/oem/1998_bmw_3-series_sedan_318i_fq_oem_1_500.jpg; | J166: Convertible | K166: 174.5 | L166: 67.3 | M166: 53.1 | N166: 106.3 | O166: 3296 | P166: I6 | Q166: 2.5 | R166: 168 | S166: 5500 | T166: 181 | U166: 3950 | V166: rear wheel drive | W166: 5-speed manual | X166: gas | Y166: regular unleaded | Z166: 16.4 | AA166: 21 | AB166: 18/27 MPG | AC166: 295.2/442.8 mi. | AD166: Europe/Germany | AE166: Compact car | AF166: E36
B167: 17328 | C167: BMW | D167: 3 Series | E167: 1998 | F167: 328i | G167: 328i 2dr Convertible | I167: https://www.edmunds.com/assets/m/bmw/3-series/1998/oem/1998_bmw_3-series_sedan_318i_fq_oem_1_500.jpg; | J167: Convertible | K167: 174.5 | L167: 67.3 | M167: 53.1 | N167: 106.3 | O167: 3395 | P167: I6 | Q167: 2.8 | R167: 190 | S167: 5300 | T167: 206 | U167: 3950 | V167: rear wheel drive | W167: 5-speed manual | X167: gas | Y167: regular unleaded | Z167: 16.4 | AA167: 20 | AB167: 17/26 MPG | AC167: 278.8/426.4 mi. | AD167: Europe/Germany | AE167: Compact car | AF167: E36
B168: 17325 | C168: BMW | D168: 3 Series | E168: 1998 | F168: 323is | G168: 323is 2dr Coupe | I168: https://www.edmunds.com/assets/m/bmw/3-series/1998/oem/1998_bmw_3-series_sedan_318i_fq_oem_1_500.jpg; | J168: Coupe | K168: 174.5 | L168: 67.3 | M168: 53.8 | N168: 106.3 | O168: 3075 | P168: I6 | Q168: 2.5 | R168: 168 | S168: 5500 | T168: 181 | U168: 3950 | V168: rear wheel drive | W168: 5-speed manual | X168: gas | Y168: regular unleaded | Z168: 16.4 | AA168: 21 | AB168: 18/27 MPG | AC168: 295.2/442.8 mi. | AD168: Europe/Germany | AE168: Compact car | AF168: E36
... B199: 231 | C199: BMW | D199: 3 Series | E199: 1990 | F199: M3 | G199: M3 2dr Coupe | I199: https://www.edmunds.com/assets/m/bmw/m3/1991/oem/1991_bmw_m3_coupe_base_fq_oem_1_500.jpg; | J199: Coupe | K199: 171.1 | L199: 66.1 | M199: 53.9 | N199: 101 | O199: 2865 | P199: I4 | Q199: 2.3 | R199: 192 | S199: 6750 | T199: 170 | U199: 4750 | V199: rear wheel drive | W199: 5-speed manual | X199: gas | Y199: regular unleaded | Z199: 14.5 | AA199: 18 | AB199: 15/26 MPG | AC199: 217.5/377.0 mi. | AD199: Europe/Germany | AE199: Compact car | AF199: E30
B200: SAMPLE: Ford F-150 (best-selling American truck)
B201: 401969481 | C201: Ford | D201: F-150 | E201: 2024 | F201: King Ranch | G201: King Ranch 4dr SuperCrew 4WD 5.5 ft. SB (3.5L 6cyl Turbo 10A) | H201: 73735 | I201: https://media.ed.edmunds-media.com/ford/f-150/2024/oem/2024_ford_f-150_crew-cab-pickup_lariat_fq_oem_1_815.jpg;https://media.ed.edmunds-media.com/ford/f-150/2024/oem/2024_ford_f-150_crew-cab-pickup_lariat_rq_oem_1_815.jpg;https://media.ed.edmunds-media.com/ford/f-150/2024/oem/2024_ford_f-150_crew-cab-pickup_lariat_s_oem_1_815.jpg;https://media.ed.edmunds-media.com/ford/f-150/2024/oem/2024_ford_f-150_crew-cab-pickup_platinum_fq_oem_1_815.jpg;https://media.ed.edmunds-media.com/ford/f-150/2024/oem/2024_ford_f-150_crew-cab-pickup_platinum_fq_oem_2_815.jpg; | J201: Truck (SuperCrew) | K201: 232 | L201: 79.9 | M201: 77.1 | N201: 145.4 | O201: 5096 | P201: V6 | Q201: 3.5 | R201: 400 | S201: 6000 | T201: 500 | U201: 3100 | V201: four wheel drive | W201: 10-speed shiftable automatic | X201: gas | Y201: regular unleaded | Z201: 36 | AA201: 19 | AB201: 16/24 MPG | AC201: 576.0/864.0 mi. | AD201: America/United States | AE201: Full-size pickup truck | AF201: 14th gen
B202: 402011927 | C202: Ford | D202: F-150 | E202: 2024 | F202: XL | G202: XL 2dr Regular Cab 8 ft. LB (2.7L 6cyl Turbo 10A) | H202: 36870 | I202: https://media.ed.edmunds-media.com/ford/f-150/2024/oem/2024_ford_f-150_crew-cab-pickup_lariat_fq_oem_1_815.jpg;https://media.ed.edmunds-media.com/ford/f-150/2024/oem/2024_ford_f-150_crew-cab-pickup_lariat_rq_oem_1_815.jpg;https://media.ed.edmunds-media.com/ford/f-150/2024/oem/2024_ford_f-150_crew-cab-pickup_lariat_s_oem_1_815.jpg;https://media.ed.edmunds-media.com/ford/f-150/2024/oem/2024_ford_f-150_crew-cab-pickup_platinum_fq_oem_1_815.jpg;https://media.ed.edmunds-media.com/ford/f-150/2024/oem/2024_ford_f-150_crew-cab-pickup_platinum_fq_oem_2_815.jpg; | J202: Truck (Regular Cab) | K202: 228.1 | L202: 79.9 | M202: 75 | N202: 141.5 | O202: 4396 | P202: V6 | Q202: 2.7 | R202: 325 | S202: 5000 | T202: 400 | U202: 3000 | V202: rear wheel drive | W202: 10-speed shiftable automatic | X202: gas | Y202: regular unleaded | Z202: 36 | AA202: 21 | AB202: 19/25 MPG | AC202: 684.0/900.0 mi. | AD202: America/United States | AE202: Full-size pickup truck | AF202: 14th gen
B203: 402011925 | C203: Ford | D203: F-150 | E203: 2024 | F203: XLT | G203: XLT 4dr SuperCab 6.5 ft. SB (2.7L 6cyl Turbo 10A) | H203: 47620 | I203: https://media.ed.edmunds-media.com/ford/f-150/2024/oem/2024_ford_f-150_crew-cab-pickup_lariat_fq_oem_1_815.jpg;https://media.ed.edmunds-media.com/ford/f-150/2024/oem/2024_ford_f-150_crew-cab-pickup_lariat_rq_oem_1_815.jpg;https://media.ed.edmunds-media.com/ford/f-150/2024/oem/2024_ford_f-150_crew-cab-pickup_lariat_s_oem_1_815.jpg;https://media.ed.edmunds-media.com/ford/f-150/2024/oem/2024_ford_f-150_crew-cab-pickup_platinum_fq_oem_1_815.jpg;https://media.ed.edmunds-media.com/ford/f-150/2024/oem/2024_ford_f-150_crew-cab-pickup_platinum_fq_oem_2_815.jpg; | J203: Truck (SuperCab) | K203: 232 | L203: 79.9 | M203: 75.3 | N203: 145.4 | O203: 4641 | P203: V6 | Q203: 2.7 | R203: 325 | S203: 5000 | T203: 400 | U203: 3000 | V203: rear wheel drive | W203: 10-speed shiftable automatic | X203: gas | Y203: regular unleaded | Z203: 36 | AA203: 21 | AB203: 19/25 MPG | AC203: 684.0/900.0 mi. | AD203: America/United States | AE203: Full-size pickup truck | AF203: 14th gen
B204: 402011926 | C204: Ford | D204: F-150 | E204: 2024 | F204: XL | G204: XL 4dr SuperCab 4WD 6.5 ft. SB (2.7L 6cyl Turbo 10A) | H204: 44980 | I204: https://media.ed.edmunds-media.com/ford/f-150/2024/oem/2024_ford_f-150_crew-cab-pickup_lariat_fq_oem_1_815.jpg;https://media.ed.edmunds-media.com/ford/f-150/2024/oem/2024_ford_f-150_crew-cab-pickup_lariat_rq_oem_1_815.jpg;https://media.ed.edmunds-media.com/ford/f-150/2024/oem/2024_ford_f-150_crew-cab-pickup_lariat_s_oem_1_815.jpg;https://media.ed.edmunds-media.com/ford/f-150/2024/oem/2024_ford_f-150_crew-cab-pickup_platinum_fq_oem_1_815.jpg;https://media.ed.edmunds-media.com/ford/f-150/2024/oem/2024_ford_f-150_crew-cab-pickup_platinum_fq_oem_2_815.jpg; | J204: Truck (SuperCab) | K204: 232 | L204: 79.9 | M204: 77.1 | N204: 145.4 | O204: 4895 | P204: V6 | Q204: 2.7 | R204: 325 | S204: 5000 | T204: 400 | U204: 3000 | V204: four wheel drive | W204: 10-speed shiftable automatic | X204: gas | Y204: regular unleaded | Z204: 36 | AA204: 20 | AB204: 18/23 MPG | AC204: 648.0/828.0 mi. | AD204: America/United States | AE204: Full-size pickup truck | AF204: 14th gen
B205: 402011923 | C205: Ford | D205: F-150 | E205: 2024 | F205: XL | G205: XL 4dr SuperCrew 4WD 6.5 ft. SB (5.0L 8cyl 10A) | H205: 49405 | I205: https://media.ed.edmunds-media.com/ford/f-150/2024/oem/2024_ford_f-150_crew-cab-pickup_lariat_fq_oem_1_815.jpg;https://media.ed.edmunds-media.com/ford/f-150/2024/oem/2024_ford_f-150_crew-cab-pickup_lariat_rq_oem_1_815.jpg;https://media.ed.edmunds-media.com/ford/f-150/2024/oem/2024_ford_f-150_crew-cab-pickup_lariat_s_oem_1_815.jpg;https://media.ed.edmunds-media.com/ford/f-150/2024/oem/2024_ford_f-150_crew-cab-pickup_platinum_fq_oem_1_815.jpg;https://media.ed.edmunds-media.com/ford/f-150/2024/oem/2024_ford_f-150_crew-cab-pickup_platinum_fq_oem_2_815.jpg; | J205: Truck (SuperCrew) | K205: 243.9 | L205: 79.9 | M205: 77.5 | N205: 157.2 | O205: 5122 | P205: V8 | Q205: 5 | R205: 400 | S205: 6000 | T205: 410 | U205: 4250 | V205: four wheel drive | W205: 10-speed shiftable automatic | X205: flex-fuel (FFV) | Y205: flex-fuel (unleaded/E85) | Z205: 36 | AA205: 19 | AB205: 16/24 MPG | AC205: 576.0/864.0 mi. | AD205: America/United States | AE205: Full-size pickup truck | AF205: 14th gen
B206: 402011924 | C206: Ford | D206: F-150 | E206: 2024 | F206: Platinum | G206: Platinum 4dr SuperCrew 4WD 5.5 ft. SB (3.5L 6cyl Turbo 10A) | H206: 73735 | I206: https://media.ed.edmunds-media.com/ford/f-150/2024/oem/2024_ford_f-150_crew-cab-pickup_lariat_fq_oem_1_815.jpg;https://media.ed.edmunds-media.com/ford/f-150/2024/oem/2024_ford_f-150_crew-cab-pickup_lariat_rq_oem_1_815.jpg;https://media.ed.edmunds-media.com/ford/f-150/2024/oem/2024_ford_f-150_crew-cab-pickup_lariat_s_oem_1_815.jpg;https://media.ed.edmunds-media.com/ford/f-150/2024/oem/2024_ford_f-150_crew-cab-pickup_platinum_fq_oem_1_815.jpg;https://media.ed.edmunds-media.com/ford/f-150/2024/oem/2024_ford_f-150_crew-cab-pickup_platinum_fq_oem_2_815.jpg; | J206: Truck (SuperCrew) | K206: 232 | L206: 79.9 | M206: 77.1 | N206: 145.4 | O206: 5096 | P206: V6 | Q206: 3.5 | R206: 400 | S206: 6000 | T206: 500 | U206: 3100 | V206: four wheel drive | W206: 10-speed shiftable automatic | X206: gas | Y206: regular unleaded | Z206: 36 | AA206: 19 | AB206: 16/24 MPG | AC206: 576.0/864.0 mi. | AD206: America/United States | AE206: Full-size pickup truck | AF206: 14th gen
B207: 402011921 | C207: Ford | D207: F-150 | E207: 2024 | F207: Lariat | G207: Lariat 4dr SuperCrew 4WD 6.5 ft. SB (5.0L 8cyl 10A) | H207: 65800 | I207: https://media.ed.edmunds-media.com/ford/f-150/2024/oem/2024_ford_f-150_crew-cab-pickup_lariat_fq_oem_1_815.jpg;https://media.ed.edmunds-media.com/ford/f-150/2024/oem/2024_ford_f-150_crew-cab-pickup_lariat_rq_oem_1_815.jpg;https://media.ed.edmunds-media.com/ford/f-150/2024/oem/2024_ford_f-150_crew-cab-pickup_lariat_s_oem_1_815.jpg;https://media.ed.edmunds-media.com/ford/f-150/2024/oem/2024_ford_f-150_crew-cab-pickup_platinum_fq_oem_1_815.jpg;https://media.ed.edmunds-media.com/ford/f-150/2024/oem/2024_ford_f-150_crew-cab-pickup_platinum_fq_oem_2_815.jpg; | J207: Truck (SuperCrew) | K207: 243.9 | L207: 79.9 | M207: 77.5 | N207: 157.2 | O207: 5122 | P207: V8 | Q207: 5 | R207: 400 | S207: 6000 | T207: 410 | U207: 4250 | V207: four wheel drive | W207: 10-speed shiftable automatic | X207: flex-fuel (FFV) | Y207: flex-fuel (unleaded/E85) | Z207: 36 | AA207: 19 | AB207: 16/24 MPG | AC207: 576.0/864.0 mi. | AD207: America/United States | AE207: Full-size pickup truck | AF207: 14th gen
B208: 402011922 | C208: Ford | D208: F-150 | E208: 2024 | F208: XLT | G208: XLT 4dr SuperCrew 5.5 ft. SB (2.7L 6cyl Turbo 10A) | H208: 49980 | I208: https://media.ed.edmunds-media.com/ford/f-150/2024/oem/2024_ford_f-150_crew-cab-pickup_lariat_fq_oem_1_815.jpg;https://media.ed.edmunds-media.com/ford/f-150/2024/oem/2024_ford_f-150_crew-cab-pickup_lariat_rq_oem_1_815.jpg;https://media.ed.edmunds-media.com/ford/f-150/2024/oem/2024_ford_f-150_crew-cab-pickup_lariat_s_oem_1_815.jpg;https://media.ed.edmunds-media.com/ford/f-150/2024/oem/2024_ford_f-150_crew-cab-pickup_platinum_fq_oem_1_815.jpg;https://media.ed.edmunds-media.com/ford/f-150/2024/oem/2024_ford_f-150_crew-cab-pickup_platinum_fq_oem_2_815.jpg; | J208: Truck (SuperCrew) | K208: 232 | L208: 79.9 | M208: 75.4 | N208: 145.4 | O208: 4687 | P208: V6 | Q208: 2.7 | R208: 325 | S208: 5000 | T208: 400 | U208: 3000 | V208: rear wheel drive | W208: 10-speed shiftable automatic | X208: gas | Y208: regular unleaded | Z208: 36 | AA208: 21 | AB208: 19/25 MPG | AC208: 684.0/900.0 mi. | AD208: America/United States | AE208: Full-size pickup truck | AF208: 14th gen
B209: 402011911 | C209: Ford | D209: F-150 | E209: 2024 | F209: XLT | G209: XLT 4dr SuperCab 4WD 6.5 ft. SB (2.7L 6cyl Turbo 10A) | H209: 51420 | I209: https://media.ed.edmunds-media.com/ford/f-150/2024/oem/2024_ford_f-150_crew-cab-pickup_lariat_fq_oem_1_815.jpg;https://media.ed.edmunds-media.com/ford/f-150/2024/oem/2024_ford_f-150_crew-cab-pickup_lariat_rq_oem_1_815.jpg;https://media.ed.edmunds-media.com/ford/f-150/2024/oem/2024_ford_f-150_crew-cab-pickup_lariat_s_oem_1_815.jpg;https://media.ed.edmunds-media.com/ford/f-150/2024/oem/2024_ford_f-150_crew-cab-pickup_platinum_fq_oem_1_815.jpg;https://media.ed.edmunds-media.com/ford/f-150/2024/oem/2024_ford_f-150_crew-cab-pickup_platinum_fq_oem_2_815.jpg; | J209: Truck (SuperCab) | K209: 232 | L209: 79.9 | M209: 77.1 | N209: 145.4 | O209: 4895 | P209: V6 | Q209: 2.7 | R209: 325 | S209: 5000 | T209: 400 | U209: 3000 | V209: four wheel drive | W209: 10-speed shiftable automatic | X209: gas | Y209: regular unleaded | Z209: 36 | AA209: 20 | AB209: 18/23 MPG | AC209: 648.0/828.0 mi. | AD209: America/United States | AE209: Full-size pickup truck | AF209: 14th gen
B210: 402011910 | C210: Ford | D210: F-150 | E210: 2024 | F210: XL | G210: XL 2dr Regular Cab 6.5 ft. SB (5.0L 8cyl 10A) | H210: 36770 | I210: https://media.ed.edmunds-media.com/ford/f-150/2024/oem/2024_ford_f-150_crew-cab-pickup_lariat_fq_oem_1_815.jpg;https://media.ed.edmunds-media.com/ford/f-150/2024/oem/2024_ford_f-150_crew-cab-pickup_lariat_rq_oem_1_815.jpg;https://media.ed.edmunds-media.com/ford/f-150/2024/oem/2024_ford_f-150_crew-cab-pickup_lariat_s_oem_1_815.jpg;https://media.ed.edmunds-media.com/ford/f-150/2024/oem/2024_ford_f-150_crew-cab-pickup_platinum_fq_oem_1_815.jpg;https://media.ed.edmunds-media.com/ford/f-150/2024/oem/2024_ford_f-150_crew-cab-pickup_platinum_fq_oem_2_815.jpg; | J210: Truck (Regular Cab) | K210: 209.4 | L210: 79.9 | M210: 75.4 | N210: 122.8 | O210: 4353 | P210: V8 | Q210: 5 | R210: 400 | S210: 6000 | T210: 410 | U210: 4250 | V210: rear wheel drive | W210: 10-speed shiftable automatic | X210: flex-fuel (FFV) | Y210: flex-fuel (unleaded/E85) | Z210: 23 | AA210: 19 | AB210: 16/24 MPG | AC210: 368.0/552.0 mi. | AD210: America/United States | AE210: Full-size pickup truck | AF210: 14th gen
B211: 402011912 | C211: Ford | D211: F-150 | E211: 2024 | F211: King Ranch | G211: King Ranch 4dr SuperCrew 4WD 6.5 ft. SB (3.5L 6cyl Turbo 10A) | H211: 74040 | I211: https://media.ed.edmunds-media.com/ford/f-150/2024/oem/2024_ford_f-150_crew-cab-pickup_lariat_fq_oem_1_815.jpg;https://media.ed.edmunds-media.com/ford/f-150/2024/oem/2024_ford_f-150_crew-cab-pickup_lariat_rq_oem_1_815.jpg;https://media.ed.edmunds-media.com/ford/f-150/2024/oem/2024_ford_f-150_crew-cab-pickup_lariat_s_oem_1_815.jpg;https://media.ed.edmunds-media.com/ford/f-150/2024/oem/2024_ford_f-150_crew-cab-pickup_platinum_fq_oem_1_815.jpg;https://media.ed.edmunds-media.com/ford/f-150/2024/oem/2024_ford_f-150_crew-cab-pickup_platinum_fq_oem_2_815.jpg; | J211: Truck (SuperCrew) | K211: 243.9 | L211: 79.9 | M211: 77.5 | N211: 157.2 | O211: 5143 | P211: V6 | Q211: 3.5 | R211: 400 | S211: 6000 | T211: 500 | U211: 3100 | V211: four wheel drive | W211: 10-speed shiftable automatic | X211: gas | Y211: regular unleaded | Z211: 36 | AA211: 19 | AB211: 16/24 MPG | AC211: 576.0/864.0 mi. | AD211: America/United States | AE211: Full-size pickup truck | AF211: 14th gen
B212: 402011909 | C212: Ford | D212: F-150 | E212: 2024 | F212: XLT | G212: XLT 4dr SuperCrew 4WD 5.5 ft. SB (2.7L 6cyl Turbo 10A) | H212: 53840 | I212: https://media.ed.edmunds-media.com/ford/f-150/2024/oem/2024_ford_f-150_crew-cab-pickup_lariat_fq_oem_1_815.jpg;https://media.ed.edmunds-media.com/ford/f-150/2024/oem/2024_ford_f-150_crew-cab-pickup_lariat_rq_oem_1_815.jpg;https://media.ed.edmunds-media.com/ford/f-150/2024/oem/2024_ford_f-150_crew-cab-pickup_lariat_s_oem_1_815.jpg;https://media.ed.edmunds-media.com/ford/f-150/2024/oem/2024_ford_f-150_crew-cab-pickup_platinum_fq_oem_1_815.jpg;https://media.ed.edmunds-media.com/ford/f-150/2024/oem/2024_ford_f-150_crew-cab-pickup_platinum_fq_oem_2_815.jpg; | J212: Truck (SuperCrew) | K212: 232 | L212: 79.9 | M212: 77.1 | N212: 145.4 | O212: 4941 | P212: V6 | Q212: 2.7 | R212: 325 | S212: 5000 | T212: 400 | U212: 3000 | V212: four wheel drive | W212: 10-speed shiftable automatic | X212: gas | Y212: regular unleaded | Z212: 36 | AA212: 20 | AB212: 18/23 MPG | AC212: 648.0/828.0 mi. | AD212: America/United States | AE212: Full-size pickup truck | AF212: 14th gen
... B270: 401822615 | C270: Ford | D270: F-150 | E270: 2020 | F270: Limited | G270: Limited 4dr SuperCrew 4WD 5.5 ft. SB (3.5L 6cyl Turbo 10A) | H270: 71160 | I270: https://www.edmunds.com/assets/m/ford/f-150/2019/oem/2019_ford_f-150_crew-cab-pickup_king-ranch_fq_oem_1_815.jpg;https://media.ed.edmunds-media.com/ford/f-150/2019/oem/2019_ford_f-150_crew-cab-pickup_lariat_fq_oem_1_175.jpg;https://media.ed.edmunds-media.com/ford/f-150/2019/oem/2019_ford_f-150_crew-cab-pickup_lariat_fq_oem_2_175.jpg;https://media.ed.edmunds-media.com/ford/f-150/2019/oem/2019_ford_f-150_crew-cab-pickup_lariat_rq_oem_1_175.jpg;https://media.ed.edmunds-media.com/ford/f-150/2019/oem/2019_ford_f-150_crew-cab-pickup_limited_fq_oem_1_175.jpg; | J270: Truck (SuperCrew) | K270: 231.9 | L270: 79.9 | M270: 77.2 | N270: 145 | O270: 4917 | P270: V6 | Q270: 3.5 | R270: 450 | S270: 5000 | T270: 510 | U270: 3500 | V270: four wheel drive | W270: 10-speed shiftable automatic | X270: gas | Y270: regular unleaded | Z270: 36 | AA270: 19 | AB270: 17/21 MPG | AC270: 612.0/756.0 mi. | AD270: America/United States | AE270: Full-size pickup truck | AF270: 13th gen
B271: 200706662 | C271: Ford | D271: F-150 | E271: 2015 | F271: XL | G271: XL 2dr Regular Cab 6.5 ft. SB (3.5L 6cyl 6A) | H271: 26030 | I271: https://www.edmunds.com/assets/m/ford/f-150/2015/oem/2015_ford_f-150_crew-cab-pickup_king-ranch_fq_oem_1_815.jpg;https://media.ed.edmunds-media.com/ford/f-150/2015/evox/2015_ford_f-150_crew-cab-pickup_xlt_pr_evox_1_175.jpg;https://media.ed.edmunds-media.com/ford/f-150/2015/oem/2015_ford_f-150_crew-cab-pickup_king-ranch_fq_oem_2_175.jpg;https://media.ed.edmunds-media.com/ford/f-150/2015/oem/2015_ford_f-150_crew-cab-pickup_king-ranch_fq_oem_3_175.jpg;https://media.ed.edmunds-media.com/ford/f-150/2015/oem/2015_ford_f-150_crew-cab-pickup_lariat_fq_oem_1_175.jpg; | J271: Truck (Regular Cab) | K271: 209.3 | L271: 79.9 | M271: 75.2 | N271: 122.4 | P271: V6 | Q271: 3.5 | R271: 282 | S271: 6250 | T271: 253 | U271: 4250 | V271: rear wheel drive | W271: 6-speed shiftable automatic | X271: flex-fuel (FFV) | Y271: flex-fuel (unleaded/E85) | Z271: 23 | AA271: 20 | AB271: 18/25 MPG | AC271: 414.0/575.0 mi. | AD271: America/United States | AE271: Full-size pickup truck | AF271: 13th gen
B272: 200706668 | C272: Ford | D272: F-150 | E272: 2015 | F272: XL | G272: XL 2dr Regular Cab 8 ft. LB (3.5L 6cyl 6A) | H272: 26330 | I272: https://www.edmunds.com/assets/m/ford/f-150/2015/oem/2015_ford_f-150_crew-cab-pickup_king-ranch_fq_oem_1_815.jpg;https://media.ed.edmunds-media.com/ford/f-150/2015/evox/2015_ford_f-150_crew-cab-pickup_xlt_pr_evox_1_175.jpg;https://media.ed.edmunds-media.com/ford/f-150/2015/oem/2015_ford_f-150_crew-cab-pickup_king-ranch_fq_oem_2_175.jpg;https://media.ed.edmunds-media.com/ford/f-150/2015/oem/2015_ford_f-150_crew-cab-pickup_king-ranch_fq_oem_3_175.jpg;https://media.ed.edmunds-media.com/ford/f-150/2015/oem/2015_ford_f-150_crew-cab-pickup_lariat_fq_oem_1_175.jpg; | J272: Truck (Regular Cab) | K272: 227.9 | L272: 79.9 | M272: 74.8 | N272: 141.1 | P272: V6 | Q272: 3.5 | R272: 282 | S272: 6250 | T272: 253 | U272: 4250 | V272: rear wheel drive | W272: 6-speed shiftable automatic | X272: flex-fuel (FFV) | Y272: flex-fuel (unleaded/E85) | Z272: 26 | AA272: 20 | AB272: 18/25 MPG | AC272: 468.0/650.0 mi. | AD272: America/United States | AE272: Full-size pickup truck | AF272: 13th gen
B273: 200706665 | C273: Ford | D273: F-150 | E273: 2015 | F273: XL | G273: XL 2dr Regular Cab 4WD 6.5 ft. SB (3.5L 6cyl 6A) | H273: 30675 | I273: https://www.edmunds.com/assets/m/ford/f-150/2015/oem/2015_ford_f-150_crew-cab-pickup_king-ranch_fq_oem_1_815.jpg;https://media.ed.edmunds-media.com/ford/f-150/2015/evox/2015_ford_f-150_crew-cab-pickup_xlt_pr_evox_1_175.jpg;https://media.ed.edmunds-media.com/ford/f-150/2015/oem/2015_ford_f-150_crew-cab-pickup_king-ranch_fq_oem_2_175.jpg;https://media.ed.edmunds-media.com/ford/f-150/2015/oem/2015_ford_f-150_crew-cab-pickup_king-ranch_fq_oem_3_175.jpg;https://media.ed.edmunds-media.com/ford/f-150/2015/oem/2015_ford_f-150_crew-cab-pickup_lariat_fq_oem_1_175.jpg; | J273: Truck (Regular Cab) | K273: 209.3 | L273: 79.9 | M273: 76.7 | N273: 122.4 | P273: V6 | Q273: 3.5 | R273: 282 | S273: 6250 | T273: 253 | U273: 4250 | V273: four wheel drive | W273: 6-speed shiftable automatic | X273: flex-fuel (FFV) | Y273: flex-fuel (unleaded/E85) | Z273: 26 | AA273: 19 | AB273: 17/23 MPG | AC273: 442.0/598.0 mi. | AD273: America/United States | AE273: Full-size pickup truck | AF273: 13th gen
B274: 200706669 | C274: Ford | D274: F-150 | E274: 2015 | F274: XL | G274: XL 2dr Regular Cab 4WD 8 ft. LB (3.5L 6cyl 6A) | H274: 30975 | I274: https://www.edmunds.com/assets/m/ford/f-150/2015/oem/2015_ford_f-150_crew-cab-pickup_king-ranch_fq_oem_1_815.jpg;https://media.ed.edmunds-media.com/ford/f-150/2015/evox/2015_ford_f-150_crew-cab-pickup_xlt_pr_evox_1_175.jpg;https://media.ed.edmunds-media.com/ford/f-150/2015/oem/2015_ford_f-150_crew-cab-pickup_king-ranch_fq_oem_2_175.jpg;https://media.ed.edmunds-media.com/ford/f-150/2015/oem/2015_ford_f-150_crew-cab-pickup_king-ranch_fq_oem_3_175.jpg;https://media.ed.edmunds-media.com/ford/f-150/2015/oem/2015_ford_f-150_crew-cab-pickup_lariat_fq_oem_1_175.jpg; | J274: Truck (Regular Cab) | K274: 227.9 | L274: 79.9 | M274: 76.6 | N274: 141.1 | P274: V6 | Q274: 3.5 | R274: 282 | S274: 6250 | T274: 253 | U274: 4250 | V274: four wheel drive | W274: 6-speed shiftable automatic | X274: flex-fuel (FFV) | Y274: flex-fuel (unleaded/E85) | Z274: 36 | AA274: 19 | AB274: 17/23 MPG | AC274: 612.0/828.0 mi. | AD274: America/United States | AE274: Full-size pickup truck | AF274: 13th gen
...

Sheet Statistics makes
B2: Total number of models, years and trims, by make and year
B3: Compiled in Excel by Teoalida © cardatabase.teoalida.com
B5: Make | C5: Country | D5: Coverage | E5: Models | F5: Model years | G5: Model trims | H5: Number of model trims by year
H6: 1990 | I6: 1991 | J6: 1992 | K6: 1993 | L6: 1994 | M6: 1995 | N6: 1996 | O6: 1997 | P6: 1998 | Q6: 1999 | R6: 2000 | S6: 2001 | T6: 2002 | U6: 2003 | V6: 2004 | W6: 2005 | X6: 2006 | Y6: 2007 | Z6: 2008 | AA6: 2009 | AB6: 2010 | AC6: 2011 | AD6: 2012 | AE6: 2013 | AF6: 2014 | AG6: 2015 | AH6: 2016 | AI6: 2017 | AJ6: 2018 | AK6: 2019 | AL6: 2020 | AM6: 2021 | AN6: 2022 | AO6: 2023 | AP6: 2024 | AQ6: 2025 | AR6: 2026 | AS6: 2027 | AT6: 2028 | AU6: 2029
B7: =COUNTA(B8:B75) -> 68 | C7: =COUNTA(C8:C75) -> 68 | D7: =COUNTIF(D8:D75,"*_") -> 48 | E7: =SUM(E8:E75) -> 1193 | F7: =SUM(F8:F75) -> 10518 | G7: =SUM(G8:G75) -> 71603 | H7: =SUM(H8:H75) -> 1203 | I7: =SUM(I8:I75) -> 1212 | J7: =SUM(J8:J75) -> 1176 | K7: =SUM(K8:K75) -> 1159 | L7: =SUM(L8:L75) -> 1091 | ... AU7: =SUM(AU8:AU75) -> 0
B8: Bugatti | C8: Europe/France | D8: 2006-2009 | E8: 1 | F8: 4 | G8: 6 | H8: 0 | I8: 0 | J8: 0 | K8: 0 | L8: 0 | M8: 0 | N8: 0 | O8: 0 | P8: 0 | Q8: 0 | R8: 0 | S8: 0 | T8: 0 | U8: 0 | V8: 0 | W8: 0 | X8: 1 | Y8: 1 | Z8: 2 | AA8: 2 | AB8: 0 | AC8: 0 | AD8: 0 | AE8: 0 | AF8: 0 | AG8: 0 | AH8: 0 | AI8: 0 | AJ8: 0 | AK8: 0 | AL8: 0 | AM8: 0 | AN8: 0 | AO8: 0 | AP8: 0 | AQ8: 0 | AR8: 0 | AS8: 0 | AT8: 0 | AU8: 0
B9: Audi | C9: Europe/Germany | D9: 1990-____ | E9: 51 | F9: 488 | G9: 1847 | H9: 11 | I9: 11 | J9: 9 | K9: 10 | L9: 11 | M9: 10 | N9: 7 | O9: 11 | P9: 13 | Q9: 11 | R9: 16 | S9: 22 | T9: 33 | U9: 30 | V9: 37 | W9: 57 | X9: 38 | Y9: 37 | Z9: 57 | AA9: 46 | AB9: 39 | AC9: 43 | AD9: 45 | AE9: 82 | AF9: 87 | AG9: 108 | AH9: 90 | AI9: 82 | AJ9: 119 | AK9: 87 | AL9: 96 | AM9: 106 | AN9: 127 | AO9: 127 | AP9: 125 | AQ9: 7 | AR9: 0 | AS9: 0 | AT9: 0 | AU9: 0
B10: BMW | C10: Europe/Germany | D10: 1990-____ | E10: 40 | F10: 403 | G10: 1777 | H10: 12 | I10: 16 | J10: 14 | K10: 13 | L10: 17 | M10: 19 | N10: 14 | O10: 18 | P10: 18 | Q10: 21 | R10: 23 | S10: 32 | T10: 30 | U10: 31 | V10: 29 | W10: 28 | X10: 34 | Y10: 34 | Z10: 44 | AA10: 41 | AB10: 50 | AC10: 60 | AD10: 63 | AE10: 78 | AF10: 88 | AG10: 114 | AH10: 97 | AI10: 89 | AJ10: 88 | AK10: 79 | AL10: 98 | AM10: 82 | AN10: 84 | AO10: 87 | AP10: 91 | AQ10: 41 | AR10: 0 | AS10: 0 | AT10: 0 | AU10: 0
B11: Maybach | C11: Europe/Germany | D11: 2004-2012 | E11: 1 | F11: 22 | G11: 37 | H11: 0 | I11: 0 | J11: 0 | K11: 0 | L11: 0 | M11: 0 | N11: 0 | O11: 0 | P11: 0 | Q11: 0 | R11: 0 | S11: 0 | T11: 0 | U11: 0 | V11: 2 | W11: 2 | X11: 3 | Y11: 4 | Z11: 4 | AA11: 5 | AB11: 7 | AC11: 5 | AD11: 5 | AE11: 0 | AF11: 0 | AG11: 0 | AH11: 0 | AI11: 0 | AJ11: 0 | AK11: 0 | AL11: 0 | AM11: 0 | AN11: 0 | AO11: 0 | AP11: 0 | AQ11: 0 | AR11: 0 | AS11: 0 | AT11: 0 | AU11: 0
B12: Mercedes-Benz | C12: Europe/Germany | D12: 1990-____ | E12: 47 | F12: 421 | G12: 2199 | H12: 17 | I12: 18 | J12: 18 | K12: 22 | L12: 18 | M12: 20 | N12: 15 | O12: 17 | P12: 23 | Q12: 26 | R12: 23 | S12: 28 | T12: 34 | U12: 44 | V12: 46 | W12: 50 | X12: 50 | Y12: 47 | Z12: 54 | AA12: 50 | AB12: 53 | AC12: 60 | AD12: 70 | AE12: 73 | AF12: 78 | AG12: 88 | AH12: 91 | AI12: 131 | AJ12: 124 | AK12: 141 | AL12: 133 | AM12: 149 | AN12: 131 | AO12: 149 | AP12: 108 | AQ12: 0 | AR12: 0 | AS12: 0 | AT12: 0 | AU12: 0
B13: Mini | C13: Europe/Germany | D13: 2002-____ | E13: 11 | F13: 81 | G13: 327 | H13: 0 | I13: 0 | J13: 0 | K13: 0 | L13: 0 | M13: 0 | N13: 0 | O13: 0 | P13: 0 | Q13: 0 | R13: 0 | S13: 0 | T13: 2 | U13: 2 | V13: 2 | W13: 4 | X13: 5 | Y13: 4 | Z13: 6 | AA13: 9 | AB13: 9 | AC13: 12 | AD13: 18 | AE13: 23 | AF13: 22 | AG13: 22 | AH13: 17 | AI13: 17 | AJ13: 19 | AK13: 19 | AL13: 18 | AM13: 23 | AN13: 22 | AO13: 35 | AP13: 17 | AQ13: 0 | AR13: 0 | AS13: 0 | AT13: 0 | AU13: 0
B14: Porsche | C14: Europe/Germany | D14: 1990-____ | E14: 11 | F14: 154 | G14: 1092 | H14: 9 | I14: 10 | J14: 10 | K14: 11 | L14: 14 | M14: 7 | N14: 7 | O14: 8 | P14: 6 | Q14: 5 | R14: 6 | S14: 12 | T14: 15 | U14: 17 | V14: 18 | W14: 18 | X14: 18 | Y14: 16 | Z14: 29 | AA14: 23 | AB14: 29 | AC14: 35 | AD14: 44 | AE14: 31 | AF14: 40 | AG14: 47 | AH14: 56 | AI14: 45 | AJ14: 59 | AK14: 54 | AL14: 54 | AM14: 71 | AN14: 90 | AO14: 94 | AP14: 65 | AQ14: 19 | AR14: 0 | AS14: 0 | AT14: 0 | AU14: 0
B15: Smart | C15: Europe/Germany | D15: 2008-2019 | E15: 2 | F15: 12 | G15: 61 | H15: 0 | I15: 0 | J15: 0 | K15: 0 | L15: 0 | M15: 0 | N15: 0 | O15: 0 | P15: 0 | Q15: 0 | R15: 0 | S15: 0 | T15: 0 | U15: 0 | V15: 0 | W15: 0 | X15: 0 | Y15: 0 | Z15: 3 | AA15: 5 | AB15: 5 | AC15: 3 | AD15: 3 | AE15: 5 | AF15: 5 | AG15: 5 | AH15: 5 | AI15: 12 | AJ15: 5 | AK15: 5 | AL15: 0 | AM15: 0 | AN15: 0 | AO15: 0 | AP15: 0 | AQ15: 0 | AR15: 0 | AS15: 0 | AT15: 0 | AU15: 0
B16: Volkswagen | C16: Europe/Germany | D16: 1990-____ | E16: 35 | F16: 317 | G16: 2991 | H16: 26 | I16: 23 | J16: 18 | K16: 15 | L16: 10 | M16: 18 | N16: 17 | O16: 22 | P16: 20 | Q16: 34 | R16: 34 | S16: 84 | T16: 85 | U16: 91 | V16: 87 | W16: 89 | X16: 55 | Y16: 65 | Z16: 85 | AA16: 89 | AB16: 106 | AC16: 125 | AD16: 239 | AE16: 324 | AF16: 240 | AG16: 223 | AH16: 147 | AI16: 81 | AJ16: 75 | AK16: 97 | AL16: 84 | AM16: 94 | AN16: 63 | AO16: 73 | AP16: 53 | AQ16: 0 | AR16: 0 | AS16: 0 | AT16: 0 | AU16: 0
B17: Alfa Romeo | C17: Europe/Italy | D17: 2015-____ | E17: 4 | F17: 22 | G17: 138 | H17: 0 | I17: 0 | J17: 0 | K17: 0 | L17: 0 | M17: 0 | N17: 0 | O17: 0 | P17: 0 | Q17: 0 | R17: 0 | S17: 0 | T17: 0 | U17: 0 | V17: 0 | W17: 0 | X17: 0 | Y17: 0 | Z17: 0 | AA17: 0 | AB17: 0 | AC17: 0 | AD17: 0 | AE17: 0 | AF17: 0 | AG17: 3 | AH17: 2 | AI17: 6 | AJ17: 19 | AK17: 22 | AL17: 23 | AM17: 12 | AN17: 12 | AO17: 16 | AP17: 23 | AQ17: 0 | AR17: 0 | AS17: 0 | AT17: 0 | AU17: 0
B18: Ferrari | C18: Europe/Italy | D18: 2001-____ | E18: 17 | F18: 65 | G18: 116 | H18: 0 | I18: 0 | J18: 0 | K18: 0 | L18: 0 | M18: 0 | N18: 0 | O18: 0 | P18: 0 | Q18: 0 | R18: 0 | S18: 8 | T18: 8 | U18: 9 | V18: 7 | W18: 8 | X18: 7 | Y18: 9 | Z18: 8 | AA18: 9 | AB18: 4 | AC18: 5 | AD18: 4 | AE18: 5 | AF18: 6 | AG18: 6 | AH18: 4 | AI18: 2 | AJ18: 4 | AK18: 3 | AL18: 0 | AM18: 0 | AN18: 0 | AO18: 0 | AP18: 0 | AQ18: 0 | AR18: 0 | AS18: 0 | AT18: 0 | AU18: 0
B19: Fiat | C19: Europe/Italy | D19: 2012-____ | E19: 4 | F19: 35 | G19: 160 | H19: 0 | I19: 0 | J19: 0 | K19: 0 | L19: 0 | M19: 0 | N19: 0 | O19: 0 | P19: 0 | Q19: 0 | R19: 0 | S19: 0 | T19: 0 | U19: 0 | V19: 0 | W19: 0 | X19: 0 | Y19: 0 | Z19: 0 | AA19: 0 | AB19: 0 | AC19: 0 | AD19: 6 | AE19: 9 | AF19: 14 | AG19: 17 | AH19: 26 | AI19: 19 | AJ19: 21 | AK19: 22 | AL19: 12 | AM19: 4 | AN19: 5 | AO19: 2 | AP19: 3 | AQ19: 0 | AR19: 0 | AS19: 0 | AT19: 0 | AU19: 0
... B33: Toyota | C33: Asia/Japan | D33: 1990-____ | E33: 54 | F33: 627 | G33: 4565 | H33: 47 | I33: 49 | J33: 50 | K33: 52 | L33: 55 | M33: 71 | N33: 58 | O33: 53 | P33: 52 | Q33: 44 | R33: 58 | S33: 83 | T33: 87 | U33: 109 | V33: 124 | W33: 123 | X33: 132 | Y33: 155 | Z33: 162 | AA33: 166 | AB33: 153 | AC33: 140 | AD33: 155 | AE33: 159 | AF33: 184 | AG33: 173 | AH33: 192 | AI33: 208 | AJ33: 206 | AK33: 182 | AL33: 197 | AM33: 194 | AN33: 224 | AO33: 227 | AP33: 229 | AQ33: 12 | AR33: 0 | AS33: 0 | AT33: 0 | AU33: 0
B34: Spyker | C34: Europe/Netherlands | D34: 2009 | E34: 1 | F34: 1 | G34: 4 | H34: 0 | I34: 0 | J34: 0 | K34: 0 | L34: 0 | M34: 0 | N34: 0 | O34: 0 | P34: 0 | Q34: 0 | R34: 0 | S34: 0 | T34: 0 | U34: 0 | V34: 0 | W34: 0 | X34: 0 | Y34: 0 | Z34: 0 | AA34: 4 | AB34: 0 | AC34: 0 | AD34: 0 | AE34: 0 | AF34: 0 | AG34: 0 | AH34: 0 | AI34: 0 | AJ34: 0 | AK34: 0 | AL34: 0 | AM34: 0 | AN34: 0 | AO34: 0 | AP34: 0 | AQ34: 0 | AR34: 0 | AS34: 0 | AT34: 0 | AU34: 0
B35: Daewoo | C35: Asia/South Korea | D35: 1999-2002 | E35: 3 | F35: 12 | G35: 44 | H35: 0 | I35: 0 | J35: 0 | K35: 0 | L35: 0 | M35: 0 | N35: 0 | O35: 0 | P35: 0 | Q35: 15 | R35: 10 | S35: 12 | T35: 7 | U35: 0 | V35: 0 | W35: 0 | X35: 0 | Y35: 0 | Z35: 0 | AA35: 0 | AB35: 0 | AC35: 0 | AD35: 0 | AE35: 0 | AF35: 0 | AG35: 0 | AH35: 0 | AI35: 0 | AJ35: 0 | AK35: 0 | AL35: 0 | AM35: 0 | AN35: 0 | AO35: 0 | AP35: 0 | AQ35: 0 | AR35: 0 | AS35: 0 | AT35: 0 | AU35: 0
B36: Genesis | C36: Asia/South Korea | D36: 2017-____ | E36: 8 | F36: 38 | G36: 145 | H36: 0 | I36: 0 | J36: 0 | K36: 0 | L36: 0 | M36: 0 | N36: 0 | O36: 0 | P36: 0 | Q36: 0 | R36: 0 | S36: 0 | T36: 0 | U36: 0 | V36: 0 | W36: 0 | X36: 0 | Y36: 0 | Z36: 0 | AA36: 0 | AB36: 0 | AC36: 0 | AD36: 0 | AE36: 0 | AF36: 0 | AG36: 0 | AH36: 0 | AI36: 7 | AJ36: 10 | AK36: 19 | AL36: 15 | AM36: 17 | AN36: 28 | AO36: 18 | AP36: 18 | AQ36: 13 | AR36: 0 | AS36: 0 | AT36: 0 | AU36: 0
B37: Hyundai | C37: Asia/South Korea | D37: 1990-____ | E37: 41 | F37: 317 | G37: 1750 | H37: 10 | I37: 13 | J37: 10 | K37: 11 | L37: 12 | M37: 13 | N37: 12 | O37: 13 | P37: 14 | Q37: 11 | R37: 8 | S37: 27 | T37: 23 | U37: 36 | V37: 35 | W37: 44 | X37: 40 | Y37: 77 | Z37: 62 | AA37: 48 | AB37: 66 | AC37: 67 | AD37: 72 | AE37: 84 | AF37: 81 | AG37: 69 | AH37: 71 | AI37: 78 | AJ37: 87 | AK37: 91 | AL37: 83 | AM37: 88 | AN37: 102 | AO37: 102 | AP37: 89 | AQ37: 1 | AR37: 0 | AS37: 0 | AT37: 0 | AU37: 0
B38: Kia | C38: Asia/South Korea | D38: 1994-____ | E38: 31 | F38: 258 | G38: 1361 | H38: 0 | I38: 0 | J38: 0 | K38: 0 | L38: 3 | M38: 9 | N38: 7 | O38: 7 | P38: 6 | Q38: 8 | R38: 10 | S38: 26 | T38: 26 | U38: 22 | V38: 30 | W38: 33 | X38: 38 | Y38: 40 | Z38: 43 | AA38: 53 | AB38: 42 | AC38: 48 | AD38: 50 | AE38: 47 | AF38: 49 | AG38: 56 | AH38: 63 | AI38: 63 | AJ38: 78 | AK38: 71 | AL38: 75 | AM38: 79 | AN38: 86 | AO38: 92 | AP38: 91 | AQ38: 10 | AR38: 0 | AS38: 0 | AT38: 0 | AU38: 0
B39: Polestar | C39: Europe/Sweden | D39: 2020-____ | E39: 0 | F39: 6 | G39: 12 | H39: 0 | I39: 0 | J39: 0 | K39: 0 | L39: 0 | M39: 0 | N39: 0 | O39: 0 | P39: 0 | Q39: 0 | R39: 0 | S39: 0 | T39: 0 | U39: 0 | V39: 0 | W39: 0 | X39: 0 | Y39: 0 | Z39: 0 | AA39: 0 | AB39: 0 | AC39: 0 | AD39: 0 | AE39: 0 | AF39: 0 | AG39: 0 | AH39: 0 | AI39: 0 | AJ39: 0 | AK39: 0 | AL39: 1 | AM39: 2 | AN39: 2 | AO39: 2 | AP39: 5 | AQ39: 0 | AR39: 0 | AS39: 0 | AT39: 0 | AU39: 0
B40: Saab | C40: Europe/Sweden | D40: 1990-2011 | E40: 6 | F40: 53 | G40: 315 | H40: 12 | I40: 14 | J40: 13 | K40: 17 | L40: 15 | M40: 12 | N40: 12 | O40: 16 | P40: 7 | Q40: 13 | R40: 15 | S40: 13 | T40: 11 | U40: 10 | V40: 10 | W40: 15 | X40: 14 | Y40: 12 | Z40: 15 | AA40: 23 | AB40: 10 | AC40: 18 | AD40: 18 | AE40: 0 | AF40: 0 | AG40: 0 | AH40: 0 | AI40: 0 | AJ40: 0 | AK40: 0 | AL40: 0 | AM40: 0 | AN40: 0 | AO40: 0 | AP40: 0 | AQ40: 0 | AR40: 0 | AS40: 0 | AT40: 0 | AU40: 0
B41: Volvo | C41: Europe/Sweden | D41: 1990-____ | E41: 23 | F41: 237 | G41: 1015 | H41: 17 | I41: 16 | J41: 12 | K41: 12 | L41: 12 | M41: 14 | N41: 12 | O41: 12 | P41: 15 | Q41: 15 | R41: 20 | S41: 18 | T41: 18 | U41: 19 | V41: 27 | W41: 24 | X41: 22 | Y41: 20 | Z41: 23 | AA41: 24 | AB41: 21 | AC41: 19 | AD41: 15 | AE41: 15 | AF41: 12 | AG41: 59 | AH41: 70 | AI41: 32 | AJ41: 41 | AK41: 49 | AL41: 57 | AM41: 63 | AN41: 72 | AO41: 78 | AP41: 60 | AQ41: 0 | AR41: 0 | AS41: 0 | AT41: 0 | AU41: 0
B42: Aston Martin | C42: United Kingdom | D42: 2001-____ | E42: 19 | F42: 76 | G42: 236 | H42: 0 | I42: 0 | J42: 0 | K42: 0 | L42: 0 | M42: 0 | N42: 0 | O42: 0 | P42: 0 | Q42: 0 | R42: 0 | S42: 2 | T42: 3 | U42: 5 | V42: 1 | W42: 6 | X42: 5 | Y42: 6 | Z42: 9 | AA42: 10 | AB42: 13 | AC42: 23 | AD42: 38 | AE42: 10 | AF42: 13 | AG42: 20 | AH42: 22 | AI42: 8 | AJ42: 4 | AK42: 7 | AL42: 8 | AM42: 9 | AN42: 9 | AO42: 3 | AP42: 1 | AQ42: 1 | AR42: 0 | AS42: 0 | AT42: 0 | AU42: 0
B43: Bentley | C43: United Kingdom | D43: 2001-____ | E43: 19 | F43: 106 | G43: 277 | H43: 0 | I43: 0 | J43: 0 | K43: 0 | L43: 0 | M43: 0 | N43: 0 | O43: 0 | P43: 0 | Q43: 0 | R43: 0 | S43: 7 | T43: 9 | U43: 7 | V43: 4 | W43: 4 | X43: 6 | Y43: 7 | Z43: 8 | AA43: 11 | AB43: 9 | AC43: 7 | AD43: 7 | AE43: 9 | AF43: 10 | AG43: 12 | AH43: 12 | AI43: 18 | AJ43: 14 | AK43: 5 | AL43: 10 | AM43: 13 | AN43: 15 | AO43: 32 | AP43: 41 | AQ43: 0 | AR43: 0 | AS43: 0 | AT43: 0 | AU43: 0
B44: INEOS | C44: United Kingdom | D44: 2024-____ | E44: 1 | F44: 1 | G44: 3 | H44: 0 | I44: 0 | J44: 0 | K44: 0 | L44: 0 | M44: 0 | N44: 0 | O44: 0 | P44: 0 | Q44: 0 | R44: 0 | S44: 0 | T44: 0 | U44: 0 | V44: 0 | W44: 0 | X44: 0 | Y44: 0 | Z44: 0 | AA44: 0 | AB44: 0 | AC44: 0 | AD44: 0 | AE44: 0 | AF44: 0 | AG44: 0 | AH44: 0 | AI44: 0 | AJ44: 0 | AK44: 0 | AL44: 0 | AM44: 0 | AN44: 0 | AO44: 0 | AP44: 3 | AQ44: 0 | AR44: 0 | AS44: 0 | AT44: 0 | AU44: 0
B45: Jaguar | C45: United Kingdom | D45: 1990-____ | E45: 10 | F45: 116 | G45: 767 | H45: 7 | I45: 5 | J45: 6 | K45: 5 | L45: 7 | M45: 8 | N45: 5 | O45: 6 | P45: 6 | Q45: 6 | R45: 11 | S45: 13 | T45: 16 | U45: 14 | V45: 12 | W45: 16 | X45: 15 | Y45: 14 | Z45: 14 | AA45: 13 | AB45: 8 | AC45: 15 | AD45: 16 | AE45: 23 | AF45: 26 | AG45: 28 | AH45: 29 | AI45: 75 | AJ45: 124 | AK45: 106 | AL45: 50 | AM45: 19 | AN45: 18 | AO45: 15 | AP45: 13 | AQ45: 3 | AR45: 0 | AS45: 0 | AT45: 0 | AU45: 0
B46: Land Rover | C46: United Kingdom | D46: 1990-____ | E46: 11 | F46: 136 | G46: 672 | H46: 2 | I46: 3 | J46: 3 | K46: 3 | L46: 4 | M46: 5 | N46: 5 | O46: 9 | P46: 6 | Q46: 6 | R46: 5 | S46: 5 | T46: 6 | U46: 8 | V46: 7 | W46: 6 | X46: 7 | Y46: 7 | Z46: 8 | AA46: 6 | AB46: 6 | AC46: 6 | AD46: 8 | AE46: 24 | AF46: 38 | AG46: 40 | AH46: 32 | AI46: 36 | AJ46: 51 | AK46: 52 | AL46: 54 | AM46: 53 | AN46: 61 | AO46: 54 | AP46: 46 | AQ46: 0 | AR46: 0 | AS46: 0 | AT46: 0 | AU46: 0
... B56: Eagle | C56: America/United States | D56: 1990-1997 | E56: 4 | F56: 24 | G56: 97 | H56: 11 | I56: 10 | J56: 13 | K56: 13 | L56: 15 | M56: 12 | N56: 13 | O56: 6 | P56: 4 | Q56: 0 | R56: 0 | S56: 0 | T56: 0 | U56: 0 | V56: 0 | W56: 0 | X56: 0 | Y56: 0 | Z56: 0 | AA56: 0 | AB56: 0 | AC56: 0 | AD56: 0 | AE56: 0 | AF56: 0 | AG56: 0 | AH56: 0 | AI56: 0 | AJ56: 0 | AK56: 0 | AL56: 0 | AM56: 0 | AN56: 0 | AO56: 0 | AP56: 0 | AQ56: 0 | AR56: 0 | AS56: 0 | AT56: 0 | AU56: 0
B57: Fisker | C57: America/United States | D57: 2012 | E57: 2 | F57: 3 | G57: 9 | H57: 0 | I57: 0 | J57: 0 | K57: 0 | L57: 0 | M57: 0 | N57: 0 | O57: 0 | P57: 0 | Q57: 0 | R57: 0 | S57: 0 | T57: 0 | U57: 0 | V57: 0 | W57: 0 | X57: 0 | Y57: 0 | Z57: 0 | AA57: 0 | AB57: 0 | AC57: 0 | AD57: 3 | AE57: 0 | AF57: 0 | AG57: 0 | AH57: 0 | AI57: 0 | AJ57: 0 | AK57: 0 | AL57: 0 | AM57: 0 | AN57: 0 | AO57: 3 | AP57: 3 | AQ57: 0 | AR57: 0 | AS57: 0 | AT57: 0 | AU57: 0
B58: Ford | C58: America/United States | D58: 1990-____ | E58: 70 | F58: 699 | G58: 9000 | H58: 168 | I58: 161 | J58: 170 | K58: 160 | L58: 160 | M58: 159 | N58: 169 | O58: 181 | P58: 142 | Q58: 199 | R58: 183 | S58: 229 | T58: 288 | U58: 328 | V58: 317 | W58: 289 | X58: 271 | Y58: 283 | Z58: 310 | AA58: 297 | AB58: 252 | AC58: 254 | AD58: 245 | AE58: 249 | AF58: 262 | AG58: 286 | AH58: 288 | AI58: 305 | AJ58: 315 | AK58: 317 | AL58: 355 | AM58: 384 | AN58: 386 | AO58: 362 | AP58: 268 | AQ58: 8 | AR58: 0 | AS58: 0 | AT58: 0 | AU58: 0
B59: Geo | C59: America/United States | D59: 1990-1997 | E59: 4 | F59: 28 | G59: 112 | H59: 16 | I59: 18 | J59: 17 | K59: 15 | L59: 10 | M59: 11 | N59: 14 | O59: 11 | P59: 0 | Q59: 0 | R59: 0 | S59: 0 | T59: 0 | U59: 0 | V59: 0 | W59: 0 | X59: 0 | Y59: 0 | Z59: 0 | AA59: 0 | AB59: 0 | AC59: 0 | AD59: 0 | AE59: 0 | AF59: 0 | AG59: 0 | AH59: 0 | AI59: 0 | AJ59: 0 | AK59: 0 | AL59: 0 | AM59: 0 | AN59: 0 | AO59: 0 | AP59: 0 | AQ59: 0 | AR59: 0 | AS59: 0 | AT59: 0 | AU59: 0
B60: GMC | C60: America/United States | D60: 1990-____ | E60: 41 | F60: 415 | G60: 5537 | H60: 123 | I60: 125 | J60: 133 | K60: 138 | L60: 131 | M60: 131 | N60: 154 | O60: 151 | P60: 139 | Q60: 166 | R60: 158 | S60: 117 | T60: 120 | U60: 101 | V60: 172 | W60: 174 | X60: 199 | Y60: 319 | Z60: 175 | AA60: 171 | AB60: 160 | AC60: 178 | AD60: 178 | AE60: 166 | AF60: 127 | AG60: 172 | AH60: 171 | AI60: 169 | AJ60: 170 | AK60: 153 | AL60: 165 | AM60: 151 | AN60: 181 | AO60: 148 | AP60: 151 | AQ60: 0 | AR60: 0 | AS60: 0 | AT60: 0 | AU60: 0
B61: Hummer | C61: America/United States | D61: 2001-2010 | E61: 6 | F61: 24 | G61: 45 | H61: 0 | I61: 0 | J61: 0 | K61: 0 | L61: 0 | M61: 0 | N61: 0 | O61: 0 | P61: 0 | Q61: 0 | R61: 0 | S61: 4 | T61: 3 | U61: 3 | V61: 3 | W61: 2 | X61: 5 | Y61: 4 | Z61: 5 | AA61: 7 | AB61: 9 | AC61: 0 | AD61: 0 | AE61: 0 | AF61: 0 | AG61: 0 | AH61: 0 | AI61: 0 | AJ61: 0 | AK61: 0 | AL61: 0 | AM61: 0 | AN61: 0 | AO61: 0 | AP61: 0 | AQ61: 0 | AR61: 0 | AS61: 0 | AT61: 0 | AU61: 0
B62: Jeep | C62: America/United States | D62: 1990-____ | E62: 19 | F62: 177 | G62: 1551 | H62: 31 | I62: 31 | J62: 33 | K62: 22 | L62: 22 | M62: 21 | N62: 15 | O62: 20 | P62: 24 | Q62: 19 | R62: 19 | S62: 19 | T62: 21 | U62: 16 | V62: 37 | W62: 16 | X62: 23 | Y62: 33 | Z62: 33 | AA62: 33 | AB62: 35 | AC62: 28 | AD62: 32 | AE62: 26 | AF62: 35 | AG62: 66 | AH62: 79 | AI62: 95 | AJ62: 76 | AK62: 70 | AL62: 99 | AM62: 112 | AN62: 105 | AO62: 116 | AP62: 89 | AQ62: 0 | AR62: 0 | AS62: 0 | AT62: 0 | AU62: 0
B63: Karma | C63: America/United States | D63: 2021-____ | E63: 2 | F63: 3 | G63: 7 | H63: 0 | I63: 0 | J63: 0 | K63: 0 | L63: 0 | M63: 0 | N63: 0 | O63: 0 | P63: 0 | Q63: 0 | R63: 0 | S63: 0 | T63: 0 | U63: 0 | V63: 0 | W63: 0 | X63: 0 | Y63: 0 | Z63: 0 | AA63: 0 | AB63: 0 | AC63: 0 | AD63: 0 | AE63: 0 | AF63: 0 | AG63: 0 | AH63: 0 | AI63: 0 | AJ63: 0 | AK63: 0 | AL63: 0 | AM63: 5 | AN63: 2 | AO63: 0 | AP63: 0 | AQ63: 0 | AR63: 0 | AS63: 0 | AT63: 0 | AU63: 0
B64: Lincoln | C64: America/United States | D64: 1990-____ | E64: 18 | F64: 159 | G64: 635 | H64: 7 | I64: 7 | J64: 7 | K64: 6 | L64: 6 | M64: 6 | N64: 6 | O64: 6 | P64: 8 | Q64: 6 | R64: 10 | S64: 10 | T64: 26 | U64: 20 | V64: 16 | W64: 17 | X64: 12 | Y64: 18 | Z64: 14 | AA64: 12 | AB64: 16 | AC64: 19 | AD64: 14 | AE64: 14 | AF64: 14 | AG64: 21 | AH64: 35 | AI64: 46 | AJ64: 48 | AK64: 45 | AL64: 38 | AM64: 27 | AN64: 27 | AO64: 27 | AP64: 19 | AQ64: 5 | AR64: 0 | AS64: 0 | AT64: 0 | AU64: 0
B65: Lucid | C65: America/United States | D65: 2022-____ | E65: 1 | F65: 2 | G65: 9 | H65: 0 | I65: 0 | J65: 0 | K65: 0 | L65: 0 | M65: 0 | N65: 0 | O65: 0 | P65: 0 | Q65: 0 | R65: 0 | S65: 0 | T65: 0 | U65: 0 | V65: 0 | W65: 0 | X65: 0 | Y65: 0 | Z65: 0 | AA65: 0 | AB65: 0 | AC65: 0 | AD65: 0 | AE65: 0 | AF65: 0 | AG65: 0 | AH65: 0 | AI65: 0 | AJ65: 0 | AK65: 0 | AL65: 0 | AM65: 0 | AN65: 5 | AO65: 4 | AP65: 0 | AQ65: 0 | AR65: 0 | AS65: 0 | AT65: 0 | AU65: 0
B66: Mercury | C66: America/United States | D66: 1990-2011 | E66: 16 | F66: 130 | G66: 455 | H66: 19 | I66: 24 | J66: 18 | K66: 17 | L66: 18 | M66: 16 | N66: 17 | O66: 19 | P66: 17 | Q66: 18 | R66: 17 | S66: 15 | T66: 24 | U66: 24 | V66: 24 | W66: 33 | X66: 28 | Y66: 25 | Z66: 26 | AA66: 28 | AB66: 16 | AC66: 12 | AD66: 0 | AE66: 0 | AF66: 0 | AG66: 0 | AH66: 0 | AI66: 0 | AJ66: 0 | AK66: 0 | AL66: 0 | AM66: 0 | AN66: 0 | AO66: 0 | AP66: 0 | AQ66: 0 | AR66: 0 | AS66: 0 | AT66: 0 | AU66: 0
B67: Oldsmobile | C67: America/United States | D67: 1990-2004 | E67: 18 | F67: 102 | G67: 309 | H67: 34 | I67: 32 | J67: 25 | K67: 24 | L67: 25 | M67: 15 | N67: 14 | O67: 17 | P67: 17 | Q67: 22 | R67: 13 | S67: 19 | T67: 21 | U67: 16 | V67: 15 | W67: 0 | X67: 0 | Y67: 0 | Z67: 0 | AA67: 0 | AB67: 0 | AC67: 0 | AD67: 0 | AE67: 0 | AF67: 0 | AG67: 0 | AH67: 0 | AI67: 0 | AJ67: 0 | AK67: 0 | AL67: 0 | AM67: 0 | AN67: 0 | AO67: 0 | AP67: 0 | AQ67: 0 | AR67: 0 | AS67: 0 | AT67: 0 | AU67: 0
B68: Panoz | C68: America/United States | D68: 2002-2006 | E68: 1 | F68: 5 | G68: 20 | H68: 0 | I68: 0 | J68: 0 | K68: 0 | L68: 0 | M68: 0 | N68: 0 | O68: 0 | P68: 0 | Q68: 0 | R68: 0 | S68: 0 | T68: 1 | U68: 1 | V68: 6 | W68: 6 | X68: 6 | Y68: 0 | Z68: 0 | AA68: 0 | AB68: 0 | AC68: 0 | AD68: 0 | AE68: 0 | AF68: 0 | AG68: 0 | AH68: 0 | AI68: 0 | AJ68: 0 | AK68: 0 | AL68: 0 | AM68: 0 | AN68: 0 | AO68: 0 | AP68: 0 | AQ68: 0 | AR68: 0 | AS68: 0 | AT68: 0 | AU68: 0
B69: Plymouth | C69: America/United States | D69: 2009-2001 | E69: 10 | F69: 60 | G69: 219 | H69: 35 | I69: 29 | J69: 28 | K69: 26 | L69: 24 | M69: 14 | N69: 11 | O69: 12 | P69: 15 | Q69: 15 | R69: 8 | S69: 2 | T69: 0 | U69: 0 | V69: 0 | W69: 0 | X69: 0 | Y69: 0 | Z69: 0 | AA69: 0 | AB69: 0 | AC69: 0 | AD69: 0 | AE69: 0 | AF69: 0 | AG69: 0 | AH69: 0 | AI69: 0 | AJ69: 0 | AK69: 0 | AL69: 0 | AM69: 0 | AN69: 0 | AO69: 0 | AP69: 0 | AQ69: 0 | AR69: 0 | AS69: 0 | AT69: 0 | AU69: 0
... B75: VinFast | C75: Asia/Vietnam | D75: 2023-____ | E75: 1 | F75: 1 | G75: 2 | H75: 0 | I75: 0 | J75: 0 | K75: 0 | L75: 0 | M75: 0 | N75: 0 | O75: 0 | P75: 0 | Q75: 0 | R75: 0 | S75: 0 | T75: 0 | U75: 0 | V75: 0 | W75: 0 | X75: 0 | Y75: 0 | Z75: 0 | AA75: 0 | AB75: 0 | AC75: 0 | AD75: 0 | AE75: 0 | AF75: 0 | AG75: 0 | AH75: 0 | AI75: 0 | AJ75: 0 | AK75: 0 | AL75: 0 | AM75: 0 | AN75: 0 | AO75: 2 | AP75: 0 | AQ75: 0 | AR75: 0 | AS75: 0 | AT75: 0 | AU75: 0
B77: Biggest makes (at least 200 model years or at least 1000 model trims) for making the chart
B79: Make | C79: Country | D79: Coverage | E79: Models | F79: Model years | G79: Model trims | H79: Number of trims by year
H80: 1990 | I80: 1991 | J80: 1992 | K80: 1993 | L80: 1994 | M80: 1995 | N80: 1996 | O80: 1997 | P80: 1998 | Q80: 1999 | R80: 2000 | S80: 2001 | T80: 2002 | U80: 2003 | V80: 2004 | W80: 2005 | X80: 2006 | Y80: 2007 | Z80: 2008 | AA80: 2009 | AB80: 2010 | AC80: 2011 | AD80: 2012 | AE80: 2013 | AF80: 2014 | AG80: 2015 | AH80: 2016 | AI80: 2017 | AJ80: 2018 | AK80: 2019 | AL80: 2020 | AM80: 2021 | AN80: 2022 | AO80: 2023 | AP80: 2024 | AQ80: 2015 | AR80: 2016 | AS80: 2017 | AT80: 2018 | AU80: 2019
B81: Audi | C81: Europe/Germany | D81: 1990-____ | E81: =E9 -> 51 | F81: =F9 -> 488 | G81: =G9 -> 1847 | H81: =H9 -> 11 | I81: =I9 -> 11 | J81: =J9 -> 9 | K81: =K9 -> 10 | L81: =L9 -> 11 | ... AU81: =AU9 -> 0
B82: BMW | C82: Europe/Germany | D82: 1990-____ | E82: =E10 -> 40 | F82: =F10 -> 403 | G82: =G10 -> 1777 | H82: =H10 -> 12 | I82: =I10 -> 16 | J82: =J10 -> 14 | K82: =K10 -> 13 | L82: =L10 -> 17 | ... AU82: =AU10 -> 0
B83: Cadillac | C83: America/United States | D83: 1990-____ | E83: =E52 -> 39 | F83: =F52 -> 281 | G83: =G52 -> 1221 | H83: =H52 -> 13 | I83: =I52 -> 12 | J83: =J52 -> 11 | K83: =K52 -> 10 | L83: =L52 -> 7 | ... AU83: =AU52 -> 0
B84: Chevrolet | C84: America/United States | D84: 1990-____ | E84: =E53 -> 80 | F84: =F53 -> 757 | G84: =G53 -> 7548 | H84: =H53 -> 166 | I84: =I53 -> 162 | J84: =J53 -> 163 | K84: =K53 -> 147 | L84: =L53 -> 138 | ... AU84: =AU53 -> 0
B85: Dodge | C85: America/United States | D85: 1990-____ | E85: =E55 -> 39 | F85: =F55 -> 380 | G85: =G55 -> 3010 | H85: =H55 -> 136 | I85: =I55 -> 148 | J85: =J55 -> 127 | K85: =K55 -> 123 | L85: =L55 -> 92 | ... AU85: =AU55 -> 0
B86: Ford | C86: America/United States | D86: 1990-____ | E86: =E58 -> 70 | F86: =F58 -> 699 | G86: =G58 -> 9000 | H86: =H58 -> 168 | I86: =I58 -> 161 | J86: =J58 -> 170 | K86: =K58 -> 160 | L86: =L58 -> 160 | ... AU86: =AU58 -> 0
B87: GMC | C87: America/United States | D87: 1990-____ | E87: =E60 -> 41 | F87: =F60 -> 415 | G87: =G60 -> 5537 | H87: =H60 -> 123 | I87: =I60 -> 125 | J87: =J60 -> 133 | K87: =K60 -> 138 | L87: =L60 -> 131 | ... AU87: =AU60 -> 0
B88: Honda | C88: Asia/Japan | D88: 1990-____ | E88: =E23 -> 24 | F88: =F23 -> 293 | G88: =G23 -> 2751 | H88: =H23 -> 19 | I88: =I23 -> 22 | J88: =J23 -> 17 | K88: =K23 -> 26 | L88: =L23 -> 28 | ... AU88: =AU23 -> 0
B89: Hyundai | C89: Asia/South Korea | D89: 1990-____ | E89: =E37 -> 41 | F89: =F37 -> 317 | G89: =G37 -> 1750 | H89: =H37 -> 10 | I89: =I37 -> 13 | J89: =J37 -> 10 | K89: =K37 -> 11 | L89: =L37 -> 12 | ... AU89: =AU37 -> 0
B90: Jeep | C90: America/United States | D90: 1990-____ | E90: =E62 -> 19 | F90: =F62 -> 177 | G90: =G62 -> 1551 | H90: =H62 -> 31 | I90: =I62 -> 31 | J90: =J62 -> 33 | K90: =K62 -> 22 | L90: =L62 -> 22 | ... AU90: =AU62 -> 0
B91: Kia | C91: Asia/South Korea | D91: 1994-____ | E91: =E38 -> 31 | F91: =F38 -> 258 | G91: =G38 -> 1361 | H91: =H38 -> 0 | I91: =I38 -> 0 | J91: =J38 -> 0 | K91: =K38 -> 0 | L91: =L38 -> 3 | ... AU91: =AU38 -> 0
B92: Mazda | C92: Asia/Japan | D92: 1990-____ | E92: =E27 -> 29 | F92: =F27 -> 284 | G92: =G27 -> 1688 | H92: =H27 -> 33 | I92: =I27 -> 32 | J92: =J27 -> 26 | K92: =K27 -> 28 | L92: =L27 -> 36 | ... AU92: =AU27 -> 0
B93: Mercedes-Benz | C93: Europe/Germany | D93: 1990-____ | E93: =E12 -> 47 | F93: =F12 -> 421 | G93: =G12 -> 2199 | H93: =H12 -> 17 | I93: =I12 -> 18 | J93: =J12 -> 18 | K93: =K12 -> 22 | L93: =L12 -> 18 | ... AU93: =AU12 -> 0
B94: Mitsubishi | C94: Asia/Japan | D94: 1990-____ | E94: =E28 -> 24 | F94: =F28 -> 252 | G94: =G28 -> 1173 | H94: =H28 -> 31 | I94: =I28 -> 28 | J94: =J28 -> 35 | K94: =K28 -> 35 | L94: =L28 -> 32 | ... AU94: =AU28 -> 0
B95: Nissan | C95: Asia/Japan | D95: 1990-____ | E95: =E29 -> 39 | F95: =F29 -> 465 | G95: =G29 -> 3654 | H95: =H29 -> 33 | I95: =I29 -> 32 | J95: =J29 -> 33 | K95: =K29 -> 37 | L95: =L29 -> 35 | ... AU95: =AU29 -> 0
B96: Ram | C96: America/United States | D96: 2011-____ | E96: =E71 -> 6 | F96: =F71 -> 83 | G96: =G71 -> 2051 | H96: =H71 -> 0 | I96: =I71 -> 0 | J96: =J71 -> 0 | K96: =K71 -> 0 | L96: =L71 -> 0 | ... AU96: =AU71 -> 0
B97: Subaru | C97: Asia/Japan | D97: 1990-____ | E97: =E31 -> 17 | F97: =F31 -> 195 | G97: =G31 -> 1630 | H97: =H31 -> 25 | I97: =I31 -> 22 | J97: =J31 -> 21 | K97: =K31 -> 33 | L97: =L31 -> 25 | ... AU97: =AU31 -> 0
B98: Toyota | C98: Asia/Japan | D98: 1990-____ | E98: =E33 -> 54 | F98: =F33 -> 627 | G98: =G33 -> 4565 | H98: =H33 -> 47 | I98: =I33 -> 49 | J98: =J33 -> 50 | K98: =K33 -> 52 | L98: =L33 -> 55 | ... AU98: =AU33 -> 0
B99: Volkswagen | C99: Europe/Germany | D99: 1990-____ | E99: =E16 -> 35 | F99: =F16 -> 317 | G99: =G16 -> 2991 | H99: =H16 -> 26 | I99: =I16 -> 23 | J99: =J16 -> 18 | K99: =K16 -> 15 | L99: =L16 -> 10 | ... AU99: =AU16 -> 0
A101: =A100+1 -> 1
A102: =A101+1 -> 2
A103: =A102+1 -> 3
A104: =A103+1 -> 4
A105: =A104+1 -> 5
A106: =A105+1 -> 6
A107: =A106+1 -> 7
A108: =A107+1 -> 8
A109: =A108+1 -> 9
A110: =A109+1 -> 10
A111: =A110+1 -> 11
A112: =A111+1 -> 12
... A140: =A139+1 -> 40

Sheet Statistics years
B2: Year | D2: 1990 | E2: 1991 | F2: 1992 | G2: 1993 | H2: 1994 | I2: 1995 | J2: 1996 | K2: 1997 | L2: 1998 | M2: 1999 | N2: 2000 | O2: 2001 | P2: 2002 | Q2: 2003 | R2: 2004 | S2: 2005 | T2: 2006 | U2: 2007 | V2: 2008 | W2: 2009 | X2: 2010 | Y2: 2011 | Z2: 2012 | AA2: 2013 | AB2: 2014 | AC2: 2015 | AD2: 2016 | AE2: 2017 | AF2: 2018 | AG2: 2019 | AH2: 2020 | AI2: 2021 | AJ2: 2022 | AK2: 2023 | AL2: 2024 | AM2: 2025 | AN2: 2026 | AO2: 2027 | AP2: 2028 | AQ2: 2029
B3: Model years | C3: =SUM(D3:AQ3) -> #REF! | D3: =COUNTIF(DATABASE!#REF!,D2) -> #REF! | E3: =COUNTIF(DATABASE!#REF!,E2) -> #REF! | F3: =COUNTIF(DATABASE!#REF!,F2) -> #REF! | G3: =COUNTIF(DATABASE!#REF!,G2) -> #REF! | H3: =COUNTIF(DATABASE!#REF!,H2) -> #REF! | I3: =COUNTIF(DATABASE!#REF!,I2) -> #REF! | J3: =COUNTIF(DATABASE!#REF!,J2) -> #REF! | K3: =COUNTIF(DATABASE!#REF!,K2) -> #REF! | ... AQ3: =COUNTIF(DATABASE!#REF!,AQ2) -> #REF!
B4: Model trims | C4: =SUM(D4:AQ4) -> 629 | D4: =COUNTIF(DATABASE!$E:$E,D2) -> 33 | E4: =COUNTIF(DATABASE!$E:$E,E2) -> 0 | F4: =COUNTIF(DATABASE!$E:$E,F2) -> 6 | G4: =COUNTIF(DATABASE!$E:$E,G2) -> 0 | H4: =COUNTIF(DATABASE!$E:$E,H2) -> 6 | I4: =COUNTIF(DATABASE!$E:$E,I2) -> 43 | J4: =COUNTIF(DATABASE!$E:$E,J2) -> 8 | K4: =COUNTIF(DATABASE!$E:$E,K2) -> 0 | ... AQ4: =COUNTIF(DATABASE!$E:$E,AQ2) -> 0
B6: Total number of vehicles by year, at each update
B7: Compiled in Excel by Teoalida © cardatabase.teoalida.com
B9: 42248 | C9: =SUM(D9:AQ9) -> 46813 | D9: 1201 | E9: 1204 | F9: 1170 | G9: 1150 | H9: 1091 | I9: 1109 | J9: 1095 | K9: 1118 | L9: 1075 | M9: 1238 | N9: 1239 | O9: 1518 | P9: 1658 | Q9: 1696 | R9: 1988 | S9: 1982 | T9: 2017 | U9: 2374 | V9: 2387 | W9: 2234 | X9: 2089 | Y9: 2174 | Z9: 2370 | AA9: 2487 | AB9: 2433 | AC9: 2745 | AD9: 1971 | AE9: 0 | AF9: 0 | AG9: 0 | AH9: 0 | AI9: 0 | AJ9: 0 | AK9: 0 | AL9: 0 | AS9: Recreated database using import.io (previously I had database made by someone else in March 2014, which I could not update)
B10: 42491 | C10: =SUM(D10:AQ10) -> 47860 | D10: 1201 | E10: 1205 | F10: 1170 | G10: 1150 | H10: 1091 | I10: 1109 | J10: 1095 | K10: 1118 | L10: 1075 | M10: 1238 | N10: 1239 | O10: 1520 | P10: 1658 | Q10: 1696 | R10: 1992 | S10: 1982 | T10: 2017 | U10: 2374 | V10: 2387 | W10: 2234 | X10: 2089 | Y10: 2174 | Z10: 2370 | AA10: 2485 | AB10: 2432 | AC10: 2801 | AD10: 2679 | AE10: 279 | AF10: 0 | AG10: 0 | AH10: 0 | AI10: 0 | AJ10: 0 | AK10: 0 | AL10: 0
B11: 42614 | C11: =SUM(D11:AQ11) -> 49078 | D11: 1201 | E11: 1205 | F11: 1170 | G11: 1150 | H11: 1091 | I11: 1109 | J11: 1095 | K11: 1118 | L11: 1075 | M11: 1238 | N11: 1239 | O11: 1520 | P11: 1658 | Q11: 1696 | R11: 1992 | S11: 1982 | T11: 2017 | U11: 2374 | V11: 2387 | W11: 2234 | X11: 2089 | Y11: 2176 | Z11: 2372 | AA11: 2491 | AB11: 2438 | AC11: 2836 | AD11: 2755 | AE11: 1370 | AF11: 0 | AG11: 0 | AH11: 0 | AI11: 0 | AJ11: 0 | AK11: 0 | AL11: 0
B12: 42795 | C12: =SUM(D12:AQ12) -> 50468 | D12: 1201 | E12: 1205 | F12: 1170 | G12: 1150 | H12: 1091 | I12: 1109 | J12: 1095 | K12: 1118 | L12: 1075 | M12: 1238 | N12: 1239 | O12: 1520 | P12: 1658 | Q12: 1696 | R12: 1992 | S12: 1982 | T12: 2017 | U12: 2374 | V12: 2387 | W12: 2234 | X12: 2089 | Y12: 2176 | Z12: 2372 | AA12: 2491 | AB12: 2439 | AC12: 2839 | AD12: 2806 | AE12: 2705 | AF12: 0 | AG12: 0 | AH12: 0 | AI12: 0 | AJ12: 0 | AK12: 0 | AL12: 0
B13: 42880 | C13: =SUM(D13:AQ13) -> 50772 | D13: 1201 | E13: 1205 | F13: 1170 | G13: 1150 | H13: 1091 | I13: 1109 | J13: 1095 | K13: 1118 | L13: 1075 | M13: 1238 | N13: 1239 | O13: 1520 | P13: 1658 | Q13: 1696 | R13: 1992 | S13: 1982 | T13: 2017 | U13: 2374 | V13: 2387 | W13: 2234 | X13: 2089 | Y13: 2176 | Z13: 2372 | AA13: 2491 | AB13: 2439 | AC13: 2839 | AD13: 2804 | AE13: 2716 | AF13: 295 | AG13: 0 | AH13: 0 | AI13: 0 | AJ13: 0 | AK13: 0 | AL13: 0
B14: 42961 | C14: =SUM(D14:AQ14) -> 51716 | D14: 1201 | E14: 1205 | F14: 1170 | G14: 1149 | H14: 1091 | I14: 1109 | J14: 1095 | K14: 1118 | L14: 1075 | M14: 1238 | N14: 1239 | O14: 1520 | P14: 1658 | Q14: 1696 | R14: 1992 | S14: 1982 | T14: 2017 | U14: 2373 | V14: 2387 | W14: 2234 | X14: 2089 | Y14: 2176 | Z14: 2372 | AA14: 2491 | AB14: 2439 | AC14: 2853 | AD14: 2822 | AE14: 2833 | AF14: 1092 | AG14: 0 | AH14: 0 | AI14: 0 | AJ14: 0 | AK14: 0 | AL14: 0
B15: 43045 | C15: =SUM(D15:AQ15) -> 52607 | D15: 1201 | E15: 1205 | F15: 1170 | G15: 1149 | H15: 1091 | I15: 1109 | J15: 1095 | K15: 1118 | L15: 1075 | M15: 1238 | N15: 1239 | O15: 1520 | P15: 1658 | Q15: 1696 | R15: 1992 | S15: 1982 | T15: 2017 | U15: 2373 | V15: 2387 | W15: 2234 | X15: 2089 | Y15: 2176 | Z15: 2372 | AA15: 2491 | AB15: 2439 | AC15: 2853 | AD15: 2825 | AE15: 2870 | AF15: 1943 | AG15: 0 | AH15: 0 | AI15: 0 | AJ15: 0 | AK15: 0 | AL15: 0
B16: 43171 | C16: =SUM(D16:AQ16) -> 53367 | D16: 1201 | E16: 1205 | F16: 1170 | G16: 1149 | H16: 1091 | I16: 1109 | J16: 1095 | K16: 1118 | L16: 1075 | M16: 1238 | N16: 1239 | O16: 1520 | P16: 1658 | Q16: 1696 | R16: 1992 | S16: 1982 | T16: 2017 | U16: 2373 | V16: 2387 | W16: 2234 | X16: 2089 | Y16: 2176 | Z16: 2372 | AA16: 2491 | AB16: 2439 | AC16: 2853 | AD16: 2825 | AE16: 2881 | AF16: 2670 | AG16: 22 | AH16: 0 | AI16: 0 | AJ16: 0 | AK16: 0 | AL16: 0
B17: 43181 | C17: =SUM(D17:AQ17) -> 54030 | D17: 1203 | E17: 1212 | F17: 1176 | G17: 1159 | H17: 1091 | I17: 1109 | J17: 1096 | K17: 1123 | L17: 1075 | M17: 1239 | N17: 1239 | O17: 1522 | P17: 1672 | Q17: 1717 | R17: 2018 | S17: 2006 | T17: 2037 | U17: 2391 | V17: 2402 | W17: 2266 | X17: 2099 | Y17: 2196 | Z17: 2393 | AA17: 2499 | AB17: 2489 | AC17: 2877 | AD17: 2880 | AE17: 2955 | AF17: 2827 | AG17: 62 | AH17: 0 | AI17: 0 | AJ17: 0 | AK17: 0 | AL17: 0 | AS17: Manually checked every car model and found over 600 missing trims
B18: 43273 | C18: =SUM(D18:AQ18) -> 54487 | D18: 1203 | E18: 1212 | F18: 1176 | G18: 1159 | H18: 1091 | I18: 1109 | J18: 1096 | K18: 1123 | L18: 1075 | M18: 1239 | N18: 1239 | O18: 1522 | P18: 1672 | Q18: 1717 | R18: 2018 | S18: 2006 | T18: 2037 | U18: 2391 | V18: 2402 | W18: 2266 | X18: 2099 | Y18: 2196 | Z18: 2393 | AA18: 2499 | AB18: 2489 | AC18: 2877 | AD18: 2880 | AE18: 2955 | AF18: 2829 | AG18: 517 | AH18: 0 | AI18: 0 | AJ18: 0 | AK18: 0 | AL18: 0
B19: 43363 | C19: =SUM(D19:AQ19) -> 55377 | D19: 1203 | E19: 1212 | F19: 1176 | G19: 1159 | H19: 1091 | I19: 1109 | J19: 1096 | K19: 1123 | L19: 1075 | M19: 1239 | N19: 1239 | O19: 1522 | P19: 1672 | Q19: 1717 | R19: 2018 | S19: 2006 | T19: 2037 | U19: 2391 | V19: 2402 | W19: 2266 | X19: 2099 | Y19: 2196 | Z19: 2393 | AA19: 2499 | AB19: 2489 | AC19: 2877 | AD19: 2881 | AE19: 2956 | AF19: 2891 | AG19: 1343 | AH19: 0 | AI19: 0 | AJ19: 0 | AK19: 0 | AL19: 0
B20: 43414 | C20: =SUM(D20:AQ20) -> 55762 | D20: 1203 | E20: 1212 | F20: 1176 | G20: 1159 | H20: 1091 | I20: 1109 | J20: 1096 | K20: 1123 | L20: 1075 | M20: 1239 | N20: 1239 | O20: 1522 | P20: 1672 | Q20: 1717 | R20: 2018 | S20: 2006 | T20: 2037 | U20: 2391 | V20: 2402 | W20: 2266 | X20: 2099 | Y20: 2196 | Z20: 2393 | AA20: 2499 | AB20: 2489 | AC20: 2877 | AD20: 2881 | AE20: 2957 | AF20: 2911 | AG20: 1707 | AH20: 0 | AI20: 0 | AJ20: 0 | AK20: 0 | AL20: 0
B21: 43501 | C21: =SUM(D21:AQ21) -> 56384 | D21: 1203 | E21: 1212 | F21: 1176 | G21: 1159 | H21: 1091 | I21: 1109 | J21: 1096 | K21: 1123 | L21: 1075 | M21: 1239 | N21: 1239 | O21: 1522 | P21: 1672 | Q21: 1717 | R21: 2018 | S21: 2006 | T21: 2037 | U21: 2391 | V21: 2402 | W21: 2266 | X21: 2099 | Y21: 2196 | Z21: 2393 | AA21: 2499 | AB21: 2489 | AC21: 2877 | AD21: 2881 | AE21: 2959 | AF21: 2933 | AG21: 2300 | AH21: 5 | AI21: 0 | AJ21: 0 | AK21: 0 | AL21: 0
B22: 43595 | C22: =SUM(D22:AQ22) -> 57169 | D22: 1203 | E22: 1212 | F22: 1176 | G22: 1159 | H22: 1091 | I22: 1109 | J22: 1096 | K22: 1123 | L22: 1075 | M22: 1239 | N22: 1239 | O22: 1522 | P22: 1672 | Q22: 1717 | R22: 2018 | S22: 2006 | T22: 2037 | U22: 2391 | V22: 2402 | W22: 2277 | X22: 2099 | Y22: 2196 | Z22: 2394 | AA22: 2503 | AB22: 2489 | AC22: 2877 | AD22: 2882 | AE22: 2972 | AF22: 3046 | AG22: 2783 | AH22: 164 | AI22: 0 | AJ22: 0 | AK22: 0 | AL22: 0 | AS22: Used a new scraping software and found about 100 missing trims
B23: 43683 | C23: =SUM(D23:AQ23) -> 57708 | D23: 1203 | E23: 1212 | F23: 1176 | G23: 1159 | H23: 1091 | I23: 1109 | J23: 1096 | K23: 1123 | L23: 1075 | M23: 1239 | N23: 1239 | O23: 1522 | P23: 1672 | Q23: 1717 | R23: 2018 | S23: 2006 | T23: 2037 | U23: 2391 | V23: 2402 | W23: 2277 | X23: 2099 | Y23: 2196 | Z23: 2394 | AA23: 2503 | AB23: 2489 | AC23: 2877 | AD23: 2882 | AE23: 2972 | AF23: 3050 | AG23: 2929 | AH23: 553 | AI23: 0 | AJ23: 0 | AK23: 0 | AL23: 0
B24: 43692 | C24: =SUM(D24:AQ24) -> 58044 | D24: 1203 | E24: 1212 | F24: 1176 | G24: 1159 | H24: 1091 | I24: 1109 | J24: 1096 | K24: 1123 | L24: 1075 | M24: 1239 | N24: 1239 | O24: 1522 | P24: 1672 | Q24: 1717 | R24: 2018 | S24: 2006 | T24: 2037 | U24: 2391 | V24: 2402 | W24: 2277 | X24: 2099 | Y24: 2196 | Z24: 2394 | AA24: 2503 | AB24: 2489 | AC24: 2877 | AD24: 2882 | AE24: 2972 | AF24: 3055 | AG24: 2954 | AH24: 859 | AI24: 0 | AJ24: 0 | AK24: 0 | AL24: 0
B25: 43712 | C25: =SUM(D25:AQ25) -> 58305 | D25: 1203 | E25: 1212 | F25: 1176 | G25: 1159 | H25: 1091 | I25: 1109 | J25: 1096 | K25: 1123 | L25: 1075 | M25: 1239 | N25: 1239 | O25: 1522 | P25: 1672 | Q25: 1717 | R25: 2018 | S25: 2006 | T25: 2037 | U25: 2391 | V25: 2402 | W25: 2277 | X25: 2099 | Y25: 2196 | Z25: 2394 | AA25: 2503 | AB25: 2489 | AC25: 2877 | AD25: 2882 | AE25: 2972 | AF25: 3055 | AG25: 2958 | AH25: 1116 | AI25: 0 | AJ25: 0 | AK25: 0 | AL25: 0
B26: 43725 | C26: =SUM(D26:AQ26) -> 58415 | D26: 1203 | E26: 1212 | F26: 1176 | G26: 1159 | H26: 1091 | I26: 1109 | J26: 1096 | K26: 1123 | L26: 1075 | M26: 1239 | N26: 1239 | O26: 1522 | P26: 1672 | Q26: 1717 | R26: 2018 | S26: 2006 | T26: 2037 | U26: 2391 | V26: 2402 | W26: 2277 | X26: 2099 | Y26: 2196 | Z26: 2394 | AA26: 2503 | AB26: 2489 | AC26: 2877 | AD26: 2882 | AE26: 2972 | AF26: 3055 | AG26: 2961 | AH26: 1223 | AI26: 0 | AJ26: 0 | AK26: 0 | AL26: 0
B27: 43730 | C27: =SUM(D27:AQ27) -> 58480 | D27: 1203 | E27: 1212 | F27: 1176 | G27: 1159 | H27: 1091 | I27: 1109 | J27: 1096 | K27: 1123 | L27: 1075 | M27: 1239 | N27: 1239 | O27: 1522 | P27: 1672 | Q27: 1717 | R27: 2018 | S27: 2006 | T27: 2037 | U27: 2391 | V27: 2402 | W27: 2277 | X27: 2099 | Y27: 2196 | Z27: 2394 | AA27: 2503 | AB27: 2489 | AC27: 2877 | AD27: 2882 | AE27: 2972 | AF27: 3055 | AG27: 2949 | AH27: 1300 | AI27: 0 | AJ27: 0 | AK27: 0 | AL27: 0
B28: 43790 | C28: =SUM(D28:AQ28) -> 59051 | D28: 1203 | E28: 1212 | F28: 1176 | G28: 1159 | H28: 1091 | I28: 1109 | J28: 1096 | K28: 1123 | L28: 1075 | M28: 1239 | N28: 1239 | O28: 1522 | P28: 1672 | Q28: 1717 | R28: 2018 | S28: 2006 | T28: 2037 | U28: 2391 | V28: 2402 | W28: 2277 | X28: 2099 | Y28: 2196 | Z28: 2394 | AA28: 2503 | AB28: 2489 | AC28: 2877 | AD28: 2882 | AE28: 2972 | AF28: 3055 | AG28: 2961 | AH28: 1859 | AI28: 0 | AJ28: 0 | AK28: 0 | AL28: 0
B29: 43803 | C29: =SUM(D29:AQ29) -> 59121 | D29: 1203 | E29: 1212 | F29: 1176 | G29: 1159 | H29: 1091 | I29: 1109 | J29: 1096 | K29: 1123 | L29: 1075 | M29: 1239 | N29: 1239 | O29: 1522 | P29: 1672 | Q29: 1717 | R29: 2018 | S29: 2006 | T29: 2037 | U29: 2391 | V29: 2402 | W29: 2277 | X29: 2099 | Y29: 2196 | Z29: 2394 | AA29: 2503 | AB29: 2489 | AC29: 2877 | AD29: 2882 | AE29: 2972 | AF29: 3055 | AG29: 2964 | AH29: 1926 | AI29: 0 | AJ29: 0 | AK29: 0 | AL29: 0
B30: 43813 | C30: =SUM(D30:AQ30) -> 59303 | D30: 1203 | E30: 1212 | F30: 1176 | G30: 1159 | H30: 1091 | I30: 1109 | J30: 1096 | K30: 1123 | L30: 1075 | M30: 1239 | N30: 1239 | O30: 1522 | P30: 1672 | Q30: 1717 | R30: 2018 | S30: 2006 | T30: 2037 | U30: 2391 | V30: 2402 | W30: 2277 | X30: 2099 | Y30: 2196 | Z30: 2394 | AA30: 2503 | AB30: 2489 | AC30: 2877 | AD30: 2882 | AE30: 2972 | AF30: 3055 | AG30: 2963 | AH30: 2109 | AI30: 0 | AJ30: 0 | AK30: 0 | AL30: 0
B31: 43831 | C31: =SUM(D31:AQ31) -> 59387 | D31: 1203 | E31: 1212 | F31: 1176 | G31: 1159 | H31: 1091 | I31: 1109 | J31: 1096 | K31: 1123 | L31: 1075 | M31: 1239 | N31: 1239 | O31: 1522 | P31: 1672 | Q31: 1717 | R31: 2018 | S31: 2006 | T31: 2037 | U31: 2391 | V31: 2402 | W31: 2277 | X31: 2099 | Y31: 2196 | Z31: 2394 | AA31: 2503 | AB31: 2489 | AC31: 2877 | AD31: 2882 | AE31: 2972 | AF31: 3055 | AG31: 2963 | AH31: 2193 | AI31: 0 | AJ31: 0 | AK31: 0 | AL31: 0
B32: 43875 | C32: =SUM(D32:AQ32) -> 59599 | D32: 1203 | E32: 1212 | F32: 1176 | G32: 1159 | H32: 1091 | I32: 1109 | J32: 1096 | K32: 1123 | L32: 1075 | M32: 1239 | N32: 1239 | O32: 1522 | P32: 1672 | Q32: 1717 | R32: 2018 | S32: 2006 | T32: 2037 | U32: 2391 | V32: 2402 | W32: 2277 | X32: 2099 | Y32: 2196 | Z32: 2394 | AA32: 2503 | AB32: 2489 | AC32: 2877 | AD32: 2882 | AE32: 2972 | AF32: 3055 | AG32: 2969 | AH32: 2393 | AI32: 6 | AJ32: 0 | AK32: 0 | AL32: 0 | AS32: As May 2020 I found that one MY 2020 trim been duplicated since February 2020 update (at least), so I removed 1 MY 2020 trim from February onward
B33: 43903 | C33: =SUM(D33:AQ33) -> 59795 | D33: 1203 | E33: 1212 | F33: 1176 | G33: 1159 | H33: 1091 | I33: 1109 | J33: 1096 | K33: 1123 | L33: 1075 | M33: 1239 | N33: 1239 | O33: 1522 | P33: 1672 | Q33: 1717 | R33: 2018 | S33: 2006 | T33: 2037 | U33: 2391 | V33: 2402 | W33: 2277 | X33: 2099 | Y33: 2196 | Z33: 2394 | AA33: 2503 | AB33: 2489 | AC33: 2877 | AD33: 2882 | AE33: 2972 | AF33: 3055 | AG33: 2970 | AH33: 2571 | AI33: 23 | AJ33: 0 | AK33: 0 | AL33: 0
B34: 43913 | C34: =SUM(D34:AQ34) -> 59815 | D34: 1203 | E34: 1212 | F34: 1176 | G34: 1159 | H34: 1091 | I34: 1109 | J34: 1096 | K34: 1123 | L34: 1075 | M34: 1239 | N34: 1239 | O34: 1522 | P34: 1672 | Q34: 1717 | R34: 2018 | S34: 2006 | T34: 2037 | U34: 2391 | V34: 2402 | W34: 2277 | X34: 2099 | Y34: 2196 | Z34: 2394 | AA34: 2503 | AB34: 2489 | AC34: 2877 | AD34: 2882 | AE34: 2972 | AF34: 3055 | AG34: 2973 | AH34: 2588 | AI34: 23 | AJ34: 0 | AK34: 0 | AL34: 0
B35: 43923 | C35: =SUM(D35:AQ35) -> 59852 | D35: 1203 | E35: 1212 | F35: 1176 | G35: 1159 | H35: 1091 | I35: 1109 | J35: 1096 | K35: 1123 | L35: 1075 | M35: 1239 | N35: 1239 | O35: 1522 | P35: 1672 | Q35: 1717 | R35: 2018 | S35: 2006 | T35: 2037 | U35: 2391 | V35: 2402 | W35: 2277 | X35: 2099 | Y35: 2196 | Z35: 2394 | AA35: 2503 | AB35: 2489 | AC35: 2877 | AD35: 2882 | AE35: 2972 | AF35: 3055 | AG35: 2973 | AH35: 2625 | AI35: 23 | AJ35: 0 | AK35: 0 | AL35: 0
B36: 43928 | C36: =SUM(D36:AQ36) -> 59876 | D36: 1203 | E36: 1212 | F36: 1176 | G36: 1159 | H36: 1091 | I36: 1109 | J36: 1096 | K36: 1123 | L36: 1075 | M36: 1239 | N36: 1239 | O36: 1522 | P36: 1672 | Q36: 1717 | R36: 2018 | S36: 2006 | T36: 2037 | U36: 2391 | V36: 2402 | W36: 2277 | X36: 2099 | Y36: 2196 | Z36: 2394 | AA36: 2503 | AB36: 2489 | AC36: 2877 | AD36: 2882 | AE36: 2972 | AF36: 3055 | AG36: 2973 | AH36: 2649 | AI36: 23 | AJ36: 0 | AK36: 0 | AL36: 0
B37: 43936 | C37: =SUM(D37:AQ37) -> 59888 | D37: 1203 | E37: 1212 | F37: 1176 | G37: 1159 | H37: 1091 | I37: 1109 | J37: 1096 | K37: 1123 | L37: 1075 | M37: 1239 | N37: 1239 | O37: 1522 | P37: 1672 | Q37: 1717 | R37: 2018 | S37: 2006 | T37: 2037 | U37: 2391 | V37: 2402 | W37: 2277 | X37: 2099 | Y37: 2196 | Z37: 2394 | AA37: 2503 | AB37: 2489 | AC37: 2877 | AD37: 2882 | AE37: 2972 | AF37: 3055 | AG37: 2973 | AH37: 2661 | AI37: 23 | AJ37: 0 | AK37: 0 | AL37: 0
B38: 43942 | C38: =SUM(D38:AQ38) -> 59913 | D38: 1203 | E38: 1212 | F38: 1176 | G38: 1159 | H38: 1091 | I38: 1109 | J38: 1096 | K38: 1123 | L38: 1075 | M38: 1239 | N38: 1239 | O38: 1522 | P38: 1672 | Q38: 1717 | R38: 2018 | S38: 2006 | T38: 2037 | U38: 2391 | V38: 2402 | W38: 2277 | X38: 2099 | Y38: 2196 | Z38: 2394 | AA38: 2503 | AB38: 2489 | AC38: 2877 | AD38: 2882 | AE38: 2972 | AF38: 3055 | AG38: 2973 | AH38: 2686 | AI38: 23 | AJ38: 0 | AK38: 0 | AL38: 0
B39: 43949 | C39: =SUM(D39:AQ39) -> 59948 | D39: 1203 | E39: 1212 | F39: 1176 | G39: 1159 | H39: 1091 | I39: 1109 | J39: 1096 | K39: 1123 | L39: 1075 | M39: 1239 | N39: 1239 | O39: 1522 | P39: 1672 | Q39: 1717 | R39: 2018 | S39: 2006 | T39: 2037 | U39: 2392 | V39: 2402 | W39: 2277 | X39: 2099 | Y39: 2196 | Z39: 2394 | AA39: 2503 | AB39: 2489 | AC39: 2877 | AD39: 2882 | AE39: 2972 | AF39: 3055 | AG39: 2973 | AH39: 2700 | AI39: 43 | AJ39: 0 | AK39: 0 | AL39: 0
B40: 43955 | C40: =SUM(D40:AQ40) -> 59988 | D40: 1203 | E40: 1212 | F40: 1176 | G40: 1159 | H40: 1091 | I40: 1109 | J40: 1096 | K40: 1123 | L40: 1075 | M40: 1239 | N40: 1239 | O40: 1522 | P40: 1672 | Q40: 1717 | R40: 2018 | S40: 2006 | T40: 2037 | U40: 2392 | V40: 2402 | W40: 2277 | X40: 2099 | Y40: 2196 | Z40: 2394 | AA40: 2503 | AB40: 2489 | AC40: 2877 | AD40: 2882 | AE40: 2972 | AF40: 3057 | AG40: 2977 | AH40: 2714 | AI40: 63 | AJ40: 0 | AK40: 0 | AL40: 0
B41: 43963 | C41: =SUM(D41:AQ41) -> 60002 | D41: 1203 | E41: 1212 | F41: 1176 | G41: 1159 | H41: 1091 | I41: 1109 | J41: 1096 | K41: 1123 | L41: 1075 | M41: 1239 | N41: 1239 | O41: 1522 | P41: 1672 | Q41: 1717 | R41: 2018 | S41: 2006 | T41: 2037 | U41: 2392 | V41: 2402 | W41: 2277 | X41: 2099 | Y41: 2196 | Z41: 2394 | AA41: 2503 | AB41: 2489 | AC41: 2877 | AD41: 2882 | AE41: 2972 | AF41: 3057 | AG41: 2977 | AH41: 2721 | AI41: 70 | AJ41: 0 | AK41: 0 | AL41: 0
B42: 43969 | C42: =SUM(D42:AQ42) -> 60029 | D42: 1203 | E42: 1212 | F42: 1176 | G42: 1159 | H42: 1091 | I42: 1109 | J42: 1096 | K42: 1123 | L42: 1075 | M42: 1239 | N42: 1239 | O42: 1522 | P42: 1672 | Q42: 1717 | R42: 2018 | S42: 2006 | T42: 2037 | U42: 2392 | V42: 2402 | W42: 2277 | X42: 2099 | Y42: 2196 | Z42: 2394 | AA42: 2503 | AB42: 2489 | AC42: 2877 | AD42: 2882 | AE42: 2972 | AF42: 3057 | AG42: 2981 | AH42: 2724 | AI42: 90 | AJ42: 0 | AK42: 0 | AL42: 0
B43: 44011 | C43: =SUM(D43:AQ43) -> 60186 | D43: 1203 | E43: 1212 | F43: 1176 | G43: 1159 | H43: 1091 | I43: 1109 | J43: 1096 | K43: 1123 | L43: 1075 | M43: 1239 | N43: 1239 | O43: 1522 | P43: 1672 | Q43: 1717 | R43: 2018 | S43: 2006 | T43: 2037 | U43: 2392 | V43: 2402 | W43: 2277 | X43: 2099 | Y43: 2196 | Z43: 2394 | AA43: 2503 | AB43: 2489 | AC43: 2877 | AD43: 2882 | AE43: 2972 | AF43: 3057 | AG43: 2981 | AH43: 2824 | AI43: 147 | AJ43: 0 | AK43: 0 | AL43: 0
B44: 44026 | C44: =SUM(D44:AQ44) -> 60232 | D44: 1203 | E44: 1212 | F44: 1176 | G44: 1159 | H44: 1091 | I44: 1109 | J44: 1096 | K44: 1123 | L44: 1075 | M44: 1239 | N44: 1239 | O44: 1522 | P44: 1672 | Q44: 1717 | R44: 2018 | S44: 2006 | T44: 2037 | U44: 2392 | V44: 2402 | W44: 2277 | X44: 2099 | Y44: 2196 | Z44: 2394 | AA44: 2503 | AB44: 2489 | AC44: 2877 | AD44: 2882 | AE44: 2972 | AF44: 3057 | AG44: 2981 | AH44: 2826 | AI44: 191 | AJ44: 0 | AK44: 0 | AL44: 0
... B51: 44127 | C51: =SUM(D51:AQ51) -> 61181 | D51: 1203 | E51: 1212 | F51: 1176 | G51: 1159 | H51: 1091 | I51: 1109 | J51: 1096 | K51: 1123 | L51: 1075 | M51: 1239 | N51: 1239 | O51: 1522 | P51: 1672 | Q51: 1717 | R51: 2018 | S51: 2006 | T51: 2037 | U51: 2392 | V51: 2402 | W51: 2277 | X51: 2099 | Y51: 2196 | Z51: 2394 | AA51: 2503 | AB51: 2489 | AC51: 2877 | AD51: 2882 | AE51: 2973 | AF51: 3059 | AG51: 2987 | AH51: 2862 | AI51: 1095 | AJ51: 0 | AK51: 0 | AL51: 0
B52: 44136 | C52: =SUM(D52:AQ52) -> 61286 | D52: 1203 | E52: 1212 | F52: 1176 | G52: 1159 | H52: 1091 | I52: 1109 | J52: 1096 | K52: 1123 | L52: 1075 | M52: 1239 | N52: 1239 | O52: 1522 | P52: 1672 | Q52: 1717 | R52: 2018 | S52: 2006 | T52: 2037 | U52: 2392 | V52: 2402 | W52: 2277 | X52: 2099 | Y52: 2196 | Z52: 2394 | AA52: 2503 | AB52: 2489 | AC52: 2877 | AD52: 2882 | AE52: 2973 | AF52: 3059 | AG52: 2987 | AH52: 2867 | AI52: 1195 | AJ52: 0 | AK52: 0 | AL52: 0 | AS52: Tried scraping 2019-2021 only
B53: 44143 | C53: =SUM(D53:AQ53) -> 61387 | D53: 1203 | E53: 1212 | F53: 1176 | G53: 1159 | H53: 1091 | I53: 1109 | J53: 1096 | K53: 1123 | L53: 1075 | M53: 1239 | N53: 1239 | O53: 1522 | P53: 1672 | Q53: 1717 | R53: 2018 | S53: 2006 | T53: 2037 | U53: 2392 | V53: 2402 | W53: 2277 | X53: 2099 | Y53: 2196 | Z53: 2394 | AA53: 2503 | AB53: 2489 | AC53: 2877 | AD53: 2882 | AE53: 2973 | AF53: 3059 | AG53: 2987 | AH53: 2867 | AI53: 1296 | AJ53: 0 | AK53: 0 | AL53: 0 | AS53: Tried scraping 2019-2021 only
B54: 44159 | C54: =SUM(D54:AQ54) -> 61559 | D54: 1203 | E54: 1212 | F54: 1176 | G54: 1159 | H54: 1091 | I54: 1109 | J54: 1096 | K54: 1123 | L54: 1075 | M54: 1239 | N54: 1239 | O54: 1522 | P54: 1672 | Q54: 1717 | R54: 2018 | S54: 2006 | T54: 2037 | U54: 2392 | V54: 2402 | W54: 2277 | X54: 2099 | Y54: 2196 | Z54: 2394 | AA54: 2503 | AB54: 2489 | AC54: 2877 | AD54: 2882 | AE54: 2973 | AF54: 3059 | AG54: 2988 | AH54: 2869 | AI54: 1465 | AJ54: 0 | AK54: 0 | AL54: 0 | AS54: Tried scraping 2019-2021 only
B55: 44164 | C55: =SUM(D55:AQ55) -> 61590 | D55: 1203 | E55: 1212 | F55: 1176 | G55: 1159 | H55: 1091 | I55: 1109 | J55: 1096 | K55: 1123 | L55: 1075 | M55: 1239 | N55: 1239 | O55: 1522 | P55: 1672 | Q55: 1717 | R55: 2018 | S55: 2006 | T55: 2037 | U55: 2392 | V55: 2402 | W55: 2277 | X55: 2099 | Y55: 2196 | Z55: 2394 | AA55: 2503 | AB55: 2489 | AC55: 2877 | AD55: 2882 | AE55: 2973 | AF55: 3060 | AG55: 2988 | AH55: 2869 | AI55: 1495 | AJ55: 0 | AK55: 0 | AL55: 0 | AS55: Tried scraping 2017-2021
B56: 44210 | C56: =SUM(D56:AQ56) -> 62023 | D56: 1203 | E56: 1212 | F56: 1176 | G56: 1159 | H56: 1091 | I56: 1109 | J56: 1096 | K56: 1123 | L56: 1075 | M56: 1239 | N56: 1239 | O56: 1522 | P56: 1672 | Q56: 1717 | R56: 2018 | S56: 2006 | T56: 2037 | U56: 2392 | V56: 2402 | W56: 2277 | X56: 2099 | Y56: 2196 | Z56: 2394 | AA56: 2503 | AB56: 2489 | AC56: 2877 | AD56: 2882 | AE56: 2973 | AF56: 3060 | AG56: 2988 | AH56: 2871 | AI56: 1926 | AJ56: 0 | AK56: 0 | AL56: 0
B57: 44216 | C57: =SUM(D57:AQ57) -> 62046 | D57: 1203 | E57: 1212 | F57: 1176 | G57: 1159 | H57: 1091 | I57: 1109 | J57: 1096 | K57: 1123 | L57: 1075 | M57: 1239 | N57: 1239 | O57: 1522 | P57: 1672 | Q57: 1717 | R57: 2018 | S57: 2006 | T57: 2037 | U57: 2392 | V57: 2402 | W57: 2277 | X57: 2099 | Y57: 2196 | Z57: 2394 | AA57: 2503 | AB57: 2489 | AC57: 2877 | AD57: 2882 | AE57: 2973 | AF57: 3060 | AG57: 2988 | AH57: 2871 | AI57: 1949 | AJ57: 0 | AK57: 0 | AL57: 0
B58: 44219 | C58: =SUM(D58:AQ58) -> 62071 | D58: 1203 | E58: 1212 | F58: 1176 | G58: 1159 | H58: 1091 | I58: 1109 | J58: 1096 | K58: 1123 | L58: 1075 | M58: 1239 | N58: 1239 | O58: 1522 | P58: 1672 | Q58: 1717 | R58: 2018 | S58: 2006 | T58: 2037 | U58: 2392 | V58: 2402 | W58: 2277 | X58: 2099 | Y58: 2196 | Z58: 2394 | AA58: 2503 | AB58: 2489 | AC58: 2877 | AD58: 2882 | AE58: 2973 | AF58: 3060 | AG58: 2988 | AH58: 2871 | AI58: 1974 | AJ58: 0 | AK58: 0 | AL58: 0 | AS58: Tried scraping on 30 January too but haven't found anything more than 23 January scraping
B59: 44234 | C59: =SUM(D59:AQ59) -> 62150 | D59: 1203 | E59: 1212 | F59: 1176 | G59: 1159 | H59: 1091 | I59: 1109 | J59: 1096 | K59: 1123 | L59: 1075 | M59: 1239 | N59: 1239 | O59: 1522 | P59: 1672 | Q59: 1717 | R59: 2018 | S59: 2006 | T59: 2037 | U59: 2392 | V59: 2402 | W59: 2277 | X59: 2099 | Y59: 2196 | Z59: 2394 | AA59: 2503 | AB59: 2489 | AC59: 2877 | AD59: 2882 | AE59: 2973 | AF59: 3060 | AG59: 2988 | AH59: 2871 | AI59: 2053 | AJ59: 0 | AK59: 0 | AL59: 0
B60: 44243 | C60: =SUM(D60:AQ60) -> 62153 | D60: 1203 | E60: 1212 | F60: 1176 | G60: 1159 | H60: 1091 | I60: 1109 | J60: 1096 | K60: 1123 | L60: 1075 | M60: 1239 | N60: 1239 | O60: 1522 | P60: 1672 | Q60: 1717 | R60: 2018 | S60: 2006 | T60: 2037 | U60: 2392 | V60: 2402 | W60: 2277 | X60: 2099 | Y60: 2196 | Z60: 2394 | AA60: 2503 | AB60: 2489 | AC60: 2877 | AD60: 2882 | AE60: 2973 | AF60: 3060 | AG60: 2988 | AH60: 2871 | AI60: 2056 | AJ60: 0 | AK60: 0 | AL60: 0
B61: 44248 | C61: =SUM(D61:AQ61) -> 62225 | D61: 1203 | E61: 1212 | F61: 1176 | G61: 1159 | H61: 1091 | I61: 1109 | J61: 1096 | K61: 1123 | L61: 1075 | M61: 1239 | N61: 1239 | O61: 1522 | P61: 1672 | Q61: 1717 | R61: 2018 | S61: 2006 | T61: 2037 | U61: 2392 | V61: 2402 | W61: 2277 | X61: 2099 | Y61: 2196 | Z61: 2394 | AA61: 2503 | AB61: 2489 | AC61: 2877 | AD61: 2882 | AE61: 2973 | AF61: 3060 | AG61: 2988 | AH61: 2871 | AI61: 2128 | AJ61: 0 | AK61: 0 | AL61: 0
B62: 44255 | C62: =SUM(D62:AQ62) -> 62272 | D62: 1203 | E62: 1212 | F62: 1176 | G62: 1159 | H62: 1091 | I62: 1109 | J62: 1096 | K62: 1123 | L62: 1075 | M62: 1239 | N62: 1239 | O62: 1522 | P62: 1672 | Q62: 1717 | R62: 2018 | S62: 2006 | T62: 2037 | U62: 2392 | V62: 2402 | W62: 2277 | X62: 2099 | Y62: 2196 | Z62: 2394 | AA62: 2503 | AB62: 2489 | AC62: 2877 | AD62: 2882 | AE62: 2973 | AF62: 3060 | AG62: 2988 | AH62: 2871 | AI62: 2164 | AJ62: 11 | AK62: 0 | AL62: 0
B63: 44269 | C63: =SUM(D63:AQ63) -> 62376 | D63: 1203 | E63: 1212 | F63: 1176 | G63: 1159 | H63: 1091 | I63: 1109 | J63: 1096 | K63: 1123 | L63: 1075 | M63: 1239 | N63: 1239 | O63: 1522 | P63: 1672 | Q63: 1717 | R63: 2018 | S63: 2006 | T63: 2037 | U63: 2392 | V63: 2402 | W63: 2277 | X63: 2099 | Y63: 2196 | Z63: 2394 | AA63: 2503 | AB63: 2489 | AC63: 2877 | AD63: 2882 | AE63: 2973 | AF63: 3060 | AG63: 2988 | AH63: 2875 | AI63: 2251 | AJ63: 24 | AK63: 0 | AL63: 0
B64: 44276 | C64: =SUM(D64:AQ64) -> 62402 | D64: 1203 | E64: 1212 | F64: 1176 | G64: 1159 | H64: 1091 | I64: 1109 | J64: 1096 | K64: 1123 | L64: 1075 | M64: 1239 | N64: 1239 | O64: 1522 | P64: 1672 | Q64: 1717 | R64: 2018 | S64: 2006 | T64: 2037 | U64: 2392 | V64: 2402 | W64: 2277 | X64: 2099 | Y64: 2196 | Z64: 2394 | AA64: 2503 | AB64: 2489 | AC64: 2877 | AD64: 2882 | AE64: 2973 | AF64: 3060 | AG64: 2988 | AH64: 2875 | AI64: 2277 | AJ64: 24 | AK64: 0 | AL64: 0
B65: 44283 | C65: =SUM(D65:AQ65) -> 62441 | D65: 1203 | E65: 1212 | F65: 1176 | G65: 1159 | H65: 1091 | I65: 1109 | J65: 1096 | K65: 1123 | L65: 1075 | M65: 1239 | N65: 1239 | O65: 1522 | P65: 1672 | Q65: 1717 | R65: 2018 | S65: 2006 | T65: 2037 | U65: 2392 | V65: 2402 | W65: 2277 | X65: 2099 | Y65: 2196 | Z65: 2394 | AA65: 2503 | AB65: 2489 | AC65: 2877 | AD65: 2882 | AE65: 2973 | AF65: 3060 | AG65: 2988 | AH65: 2875 | AI65: 2316 | AJ65: 24 | AK65: 0 | AL65: 0
B66: 44329 | C66: =SUM(D66:AQ66) -> 62686 | D66: 1203 | E66: 1212 | F66: 1176 | G66: 1159 | H66: 1091 | I66: 1109 | J66: 1096 | K66: 1123 | L66: 1075 | M66: 1239 | N66: 1239 | O66: 1522 | P66: 1672 | Q66: 1717 | R66: 2018 | S66: 2006 | T66: 2037 | U66: 2392 | V66: 2402 | W66: 2277 | X66: 2099 | Y66: 2196 | Z66: 2394 | AA66: 2503 | AB66: 2489 | AC66: 2877 | AD66: 2882 | AE66: 2973 | AF66: 3060 | AG66: 2988 | AH66: 2876 | AI66: 2522 | AJ66: 62 | AK66: 0 | AL66: 0
B67: 44352 | C67: =SUM(D67:AQ67) -> 62865 | D67: 1203 | E67: 1212 | F67: 1176 | G67: 1159 | H67: 1091 | I67: 1109 | J67: 1096 | K67: 1123 | L67: 1075 | M67: 1239 | N67: 1239 | O67: 1522 | P67: 1672 | Q67: 1717 | R67: 2018 | S67: 2006 | T67: 2037 | U67: 2392 | V67: 2402 | W67: 2277 | X67: 2099 | Y67: 2196 | Z67: 2394 | AA67: 2503 | AB67: 2489 | AC67: 2877 | AD67: 2882 | AE67: 2973 | AF67: 3060 | AG67: 2993 | AH67: 2882 | AI67: 2654 | AJ67: 98 | AK67: 0 | AL67: 0
B68: 44387 | C68: =SUM(D68:AQ68) -> 63087 | D68: 1203 | E68: 1212 | F68: 1176 | G68: 1159 | H68: 1091 | I68: 1109 | J68: 1096 | K68: 1123 | L68: 1075 | M68: 1239 | N68: 1239 | O68: 1522 | P68: 1672 | Q68: 1717 | R68: 2018 | S68: 2006 | T68: 2037 | U68: 2392 | V68: 2402 | W68: 2277 | X68: 2099 | Y68: 2196 | Z68: 2394 | AA68: 2503 | AB68: 2489 | AC68: 2877 | AD68: 2882 | AE68: 2973 | AF68: 3060 | AG68: 2993 | AH68: 2886 | AI68: 2701 | AJ68: 269 | AK68: 0 | AL68: 0
B69: 44416 | C69: =SUM(D69:AQ69) -> 63310 | D69: 1203 | E69: 1212 | F69: 1176 | G69: 1159 | H69: 1091 | I69: 1109 | J69: 1096 | K69: 1123 | L69: 1075 | M69: 1239 | N69: 1239 | O69: 1522 | P69: 1672 | Q69: 1717 | R69: 2018 | S69: 2006 | T69: 2037 | U69: 2392 | V69: 2402 | W69: 2277 | X69: 2099 | Y69: 2196 | Z69: 2394 | AA69: 2503 | AB69: 2489 | AC69: 2877 | AD69: 2882 | AE69: 2973 | AF69: 3060 | AG69: 2993 | AH69: 2886 | AI69: 2704 | AJ69: 489 | AK69: 0 | AL69: 0
B70: 44455 | C70: =SUM(D70:AQ70) -> 63754 | D70: 1203 | E70: 1212 | F70: 1176 | G70: 1159 | H70: 1091 | I70: 1109 | J70: 1096 | K70: 1123 | L70: 1075 | M70: 1239 | N70: 1239 | O70: 1522 | P70: 1672 | Q70: 1717 | R70: 2018 | S70: 2006 | T70: 2037 | U70: 2392 | V70: 2402 | W70: 2277 | X70: 2099 | Y70: 2196 | Z70: 2394 | AA70: 2503 | AB70: 2489 | AC70: 2877 | AD70: 2882 | AE70: 2973 | AF70: 3060 | AG70: 2993 | AH70: 2886 | AI70: 2718 | AJ70: 919 | AK70: 0 | AL70: 0
B71: 44517 | C71: =SUM(D71:AQ71) -> 64350 | D71: 1203 | E71: 1212 | F71: 1176 | G71: 1159 | H71: 1091 | I71: 1109 | J71: 1096 | K71: 1123 | L71: 1075 | M71: 1239 | N71: 1239 | O71: 1522 | P71: 1672 | Q71: 1717 | R71: 2018 | S71: 2006 | T71: 2037 | U71: 2392 | V71: 2402 | W71: 2277 | X71: 2099 | Y71: 2196 | Z71: 2394 | AA71: 2503 | AB71: 2489 | AC71: 2877 | AD71: 2882 | AE71: 2973 | AF71: 3060 | AG71: 2993 | AH71: 2886 | AI71: 2726 | AJ71: 1507 | AK71: 0 | AL71: 0
B72: 44524 | C72: =SUM(D72:AQ72) -> 64366 | D72: 1203 | E72: 1212 | F72: 1176 | G72: 1159 | H72: 1091 | I72: 1109 | J72: 1096 | K72: 1123 | L72: 1075 | M72: 1239 | N72: 1239 | O72: 1522 | P72: 1672 | Q72: 1717 | R72: 2018 | S72: 2006 | T72: 2037 | U72: 2392 | V72: 2402 | W72: 2277 | X72: 2099 | Y72: 2196 | Z72: 2394 | AA72: 2503 | AB72: 2489 | AC72: 2877 | AD72: 2882 | AE72: 2971 | AF72: 3060 | AG72: 2991 | AH72: 2877 | AI72: 2725 | AJ72: 1537 | AK72: 0 | AL72: 0 | AS72: Full scrap 1990-2022
B73: 44541 | C73: =SUM(D73:AQ73) -> 64490 | D73: 1203 | E73: 1212 | F73: 1176 | G73: 1159 | H73: 1091 | I73: 1109 | J73: 1096 | K73: 1123 | L73: 1075 | M73: 1239 | N73: 1239 | O73: 1522 | P73: 1672 | Q73: 1717 | R73: 2018 | S73: 2006 | T73: 2037 | U73: 2392 | V73: 2402 | W73: 2277 | X73: 2099 | Y73: 2196 | Z73: 2394 | AA73: 2503 | AB73: 2489 | AC73: 2877 | AD73: 2882 | AE73: 2971 | AF73: 3060 | AG73: 2991 | AH73: 2877 | AI73: 2758 | AJ73: 1628
B74: 44551 | C74: =SUM(D74:AQ74) -> 64575 | D74: 1203 | E74: 1212 | F74: 1176 | G74: 1159 | H74: 1091 | I74: 1109 | J74: 1096 | K74: 1123 | L74: 1075 | M74: 1239 | N74: 1239 | O74: 1522 | P74: 1672 | Q74: 1717 | R74: 2018 | S74: 2006 | T74: 2037 | U74: 2392 | V74: 2402 | W74: 2277 | X74: 2099 | Y74: 2196 | Z74: 2394 | AA74: 2503 | AB74: 2489 | AC74: 2877 | AD74: 2882 | AE74: 2971 | AF74: 3060 | AG74: 2991 | AH74: 2877 | AI74: 2760 | AJ74: 1711 | AK74: 0 | AL74: 0
B75: 44562 | C75: =SUM(D75:AQ75) -> 64688 | D75: 1203 | E75: 1212 | F75: 1176 | G75: 1159 | H75: 1091 | I75: 1109 | J75: 1096 | K75: 1123 | L75: 1075 | M75: 1239 | N75: 1239 | O75: 1522 | P75: 1672 | Q75: 1717 | R75: 2018 | S75: 2006 | T75: 2037 | U75: 2392 | V75: 2402 | W75: 2277 | X75: 2099 | Y75: 2196 | Z75: 2394 | AA75: 2503 | AB75: 2489 | AC75: 2877 | AD75: 2882 | AE75: 2971 | AF75: 3060 | AG75: 2991 | AH75: 2877 | AI75: 2760 | AJ75: 1824 | AK75: 0 | AL75: 0
B76: 44569 | C76: =SUM(D76:AQ76) -> 64832 | D76: 1203 | E76: 1212 | F76: 1176 | G76: 1159 | H76: 1091 | I76: 1109 | J76: 1096 | K76: 1123 | L76: 1075 | M76: 1239 | N76: 1239 | O76: 1522 | P76: 1672 | Q76: 1717 | R76: 2018 | S76: 2006 | T76: 2037 | U76: 2392 | V76: 2402 | W76: 2277 | X76: 2099 | Y76: 2196 | Z76: 2394 | AA76: 2503 | AB76: 2489 | AC76: 2877 | AD76: 2882 | AE76: 2971 | AF76: 3060 | AG76: 2991 | AH76: 2877 | AI76: 2760 | AJ76: 1968 | AK76: 0 | AL76: 0
B77: 44579 | C77: =SUM(D77:AQ77) -> 64885 | D77: 1203 | E77: 1212 | F77: 1176 | G77: 1159 | H77: 1091 | I77: 1109 | J77: 1096 | K77: 1123 | L77: 1075 | M77: 1239 | N77: 1239 | O77: 1522 | P77: 1672 | Q77: 1717 | R77: 2018 | S77: 2006 | T77: 2037 | U77: 2392 | V77: 2402 | W77: 2277 | X77: 2099 | Y77: 2196 | Z77: 2394 | AA77: 2503 | AB77: 2489 | AC77: 2877 | AD77: 2882 | AE77: 2971 | AF77: 3060 | AG77: 2991 | AH77: 2877 | AI77: 2760 | AJ77: 2021 | AK77: 0 | AL77: 0
B78: 44587 | C78: =SUM(D78:AQ78) -> 64976 | D78: 1203 | E78: 1212 | F78: 1176 | G78: 1159 | H78: 1091 | I78: 1109 | J78: 1096 | K78: 1123 | L78: 1075 | M78: 1239 | N78: 1239 | O78: 1522 | P78: 1672 | Q78: 1717 | R78: 2018 | S78: 2006 | T78: 2037 | U78: 2392 | V78: 2402 | W78: 2277 | X78: 2099 | Y78: 2196 | Z78: 2394 | AA78: 2503 | AB78: 2489 | AC78: 2877 | AD78: 2882 | AE78: 2971 | AF78: 3060 | AG78: 2991 | AH78: 2877 | AI78: 2760 | AJ78: 2112 | AK78: 0 | AL78: 0
B79: 44593 | C79: =SUM(D79:AQ79) -> 65093 | D79: 1203 | E79: 1212 | F79: 1176 | G79: 1159 | H79: 1091 | I79: 1109 | J79: 1096 | K79: 1123 | L79: 1075 | M79: 1239 | N79: 1239 | O79: 1522 | P79: 1672 | Q79: 1717 | R79: 2018 | S79: 2006 | T79: 2037 | U79: 2392 | V79: 2402 | W79: 2277 | X79: 2099 | Y79: 2196 | Z79: 2394 | AA79: 2503 | AB79: 2489 | AC79: 2877 | AD79: 2882 | AE79: 2971 | AF79: 3060 | AG79: 2991 | AH79: 2877 | AI79: 2760 | AJ79: 2229 | AK79: 0 | AL79: 0
B80: 44605 | C80: =SUM(D80:AQ80) -> 65198 | D80: 1203 | E80: 1212 | F80: 1176 | G80: 1159 | H80: 1091 | I80: 1109 | J80: 1096 | K80: 1123 | L80: 1075 | M80: 1239 | N80: 1239 | O80: 1522 | P80: 1672 | Q80: 1717 | R80: 2018 | S80: 2006 | T80: 2037 | U80: 2392 | V80: 2402 | W80: 2277 | X80: 2099 | Y80: 2196 | Z80: 2394 | AA80: 2503 | AB80: 2489 | AC80: 2877 | AD80: 2882 | AE80: 2971 | AF80: 3060 | AG80: 2991 | AH80: 2879 | AI80: 2762 | AJ80: 2330 | AK80: 0 | AL80: 0
B81: 44619 | C81: =SUM(D81:AQ81) -> 65318 | D81: 1203 | E81: 1212 | F81: 1176 | G81: 1159 | H81: 1091 | I81: 1109 | J81: 1096 | K81: 1123 | L81: 1075 | M81: 1239 | N81: 1239 | O81: 1522 | P81: 1672 | Q81: 1717 | R81: 2018 | S81: 2006 | T81: 2037 | U81: 2392 | V81: 2402 | W81: 2277 | X81: 2099 | Y81: 2196 | Z81: 2394 | AA81: 2503 | AB81: 2489 | AC81: 2877 | AD81: 2882 | AE81: 2971 | AF81: 3060 | AG81: 2991 | AH81: 2879 | AI81: 2766 | AJ81: 2446 | AK81: 0 | AL81: 0
B82: 44626 | C82: =SUM(D82:AQ82) -> 65372 | D82: 1203 | E82: 1212 | F82: 1176 | G82: 1159 | H82: 1091 | I82: 1109 | J82: 1096 | K82: 1123 | L82: 1075 | M82: 1239 | N82: 1239 | O82: 1522 | P82: 1672 | Q82: 1717 | R82: 2018 | S82: 2006 | T82: 2037 | U82: 2392 | V82: 2402 | W82: 2277 | X82: 2099 | Y82: 2196 | Z82: 2394 | AA82: 2503 | AB82: 2489 | AC82: 2877 | AD82: 2882 | AE82: 2971 | AF82: 3060 | AG82: 2991 | AH82: 2879 | AI82: 2768 | AJ82: 2498 | AK82: 0 | AL82: 0
B83: 44633 | C83: =SUM(D83:AQ83) -> 65436 | D83: 1203 | E83: 1212 | F83: 1176 | G83: 1159 | H83: 1091 | I83: 1109 | J83: 1096 | K83: 1123 | L83: 1075 | M83: 1239 | N83: 1239 | O83: 1522 | P83: 1672 | Q83: 1717 | R83: 2018 | S83: 2006 | T83: 2037 | U83: 2392 | V83: 2402 | W83: 2277 | X83: 2099 | Y83: 2196 | Z83: 2394 | AA83: 2503 | AB83: 2489 | AC83: 2877 | AD83: 2882 | AE83: 2971 | AF83: 3060 | AG83: 2991 | AH83: 2879 | AI83: 2782 | AJ83: 2548 | AK83: 0 | AL83: 0
B84: 44637 | C84: =SUM(D84:AQ84) -> 65456 | D84: 1203 | E84: 1212 | F84: 1176 | G84: 1159 | H84: 1091 | I84: 1109 | J84: 1096 | K84: 1123 | L84: 1075 | M84: 1239 | N84: 1239 | O84: 1522 | P84: 1672 | Q84: 1717 | R84: 2018 | S84: 2006 | T84: 2037 | U84: 2392 | V84: 2402 | W84: 2277 | X84: 2099 | Y84: 2196 | Z84: 2394 | AA84: 2503 | AB84: 2489 | AC84: 2877 | AD84: 2882 | AE84: 2971 | AF84: 3060 | AG84: 2991 | AH84: 2879 | AI84: 2782 | AJ84: 2567 | AK84: 1 | AL84: 0
B85: 44654 | C85: =SUM(D85:AQ85) -> 65513 | D85: 1203 | E85: 1212 | F85: 1176 | G85: 1159 | H85: 1091 | I85: 1109 | J85: 1096 | K85: 1123 | L85: 1075 | M85: 1239 | N85: 1239 | O85: 1522 | P85: 1672 | Q85: 1717 | R85: 2018 | S85: 2006 | T85: 2037 | U85: 2392 | V85: 2402 | W85: 2277 | X85: 2099 | Y85: 2196 | Z85: 2394 | AA85: 2503 | AB85: 2489 | AC85: 2877 | AD85: 2882 | AE85: 2971 | AF85: 3060 | AG85: 2991 | AH85: 2879 | AI85: 2786 | AJ85: 2611 | AK85: 10 | AL85: 0
... B87: 44675 | C87: =SUM(D87:AQ87) -> 65636 | D87: 1203 | E87: 1212 | F87: 1176 | G87: 1159 | H87: 1091 | I87: 1109 | J87: 1096 | K87: 1123 | L87: 1075 | M87: 1239 | N87: 1239 | O87: 1522 | P87: 1672 | Q87: 1717 | R87: 2018 | S87: 2006 | T87: 2037 | U87: 2392 | V87: 2402 | W87: 2277 | X87: 2099 | Y87: 2196 | Z87: 2394 | AA87: 2503 | AB87: 2489 | AC87: 2877 | AD87: 2882 | AE87: 2971 | AF87: 3060 | AG87: 2991 | AH87: 2879 | AI87: 2788 | AJ87: 2661 | AK87: 81 | AL87: 0
B88: 44703 | C88: =SUM(D88:AQ88) -> 65806 | D88: 1203 | E88: 1212 | F88: 1176 | G88: 1159 | H88: 1091 | I88: 1109 | J88: 1096 | K88: 1123 | L88: 1075 | M88: 1239 | N88: 1239 | O88: 1522 | P88: 1672 | Q88: 1717 | R88: 2018 | S88: 2006 | T88: 2037 | U88: 2392 | V88: 2402 | W88: 2277 | X88: 2099 | Y88: 2196 | Z88: 2394 | AA88: 2503 | AB88: 2489 | AC88: 2877 | AD88: 2882 | AE88: 2971 | AF88: 3060 | AG88: 2991 | AH88: 2879 | AI88: 2791 | AJ88: 2790 | AK88: 119
B89: 44710 | C89: =SUM(D89:AQ89) -> 65817 | D89: 1203 | E89: 1212 | F89: 1176 | G89: 1159 | H89: 1091 | I89: 1109 | J89: 1096 | K89: 1123 | L89: 1075 | M89: 1239 | N89: 1239 | O89: 1522 | P89: 1672 | Q89: 1717 | R89: 2018 | S89: 2006 | T89: 2037 | U89: 2392 | V89: 2402 | W89: 2277 | X89: 2099 | Y89: 2196 | Z89: 2394 | AA89: 2503 | AB89: 2489 | AC89: 2877 | AD89: 2882 | AE89: 2971 | AF89: 3060 | AG89: 2991 | AH89: 2879 | AI89: 2791 | AJ89: 2794 | AK89: 126 | AL89: 0
B90: 44723 | C90: =SUM(D90:AQ90) -> 65829 | D90: 1203 | E90: 1212 | F90: 1176 | G90: 1159 | H90: 1091 | I90: 1109 | J90: 1096 | K90: 1123 | L90: 1075 | M90: 1239 | N90: 1239 | O90: 1522 | P90: 1672 | Q90: 1717 | R90: 2018 | S90: 2006 | T90: 2037 | U90: 2392 | V90: 2402 | W90: 2277 | X90: 2099 | Y90: 2196 | Z90: 2394 | AA90: 2503 | AB90: 2489 | AC90: 2877 | AD90: 2882 | AE90: 2971 | AF90: 3060 | AG90: 2991 | AH90: 2879 | AI90: 2791 | AJ90: 2800 | AK90: 132 | AL90: 0 | AS90: published
B91: 44744 | C91: =SUM(D91:AQ91) -> 66025 | D91: 1203 | E91: 1212 | F91: 1176 | G91: 1159 | H91: 1091 | I91: 1109 | J91: 1096 | K91: 1123 | L91: 1075 | M91: 1239 | N91: 1239 | O91: 1522 | P91: 1672 | Q91: 1717 | R91: 2018 | S91: 2006 | T91: 2037 | U91: 2392 | V91: 2402 | W91: 2277 | X91: 2099 | Y91: 2196 | Z91: 2394 | AA91: 2503 | AB91: 2489 | AC91: 2877 | AD91: 2882 | AE91: 2971 | AF91: 3060 | AG91: 2991 | AH91: 2879 | AI91: 2792 | AJ91: 2860 | AK91: 267 | AL91: 0
B92: 44752 | C92: =SUM(D92:AQ92) -> 66046 | D92: 1203 | E92: 1212 | F92: 1176 | G92: 1159 | H92: 1091 | I92: 1109 | J92: 1096 | K92: 1123 | L92: 1075 | M92: 1239 | N92: 1239 | O92: 1522 | P92: 1672 | Q92: 1717 | R92: 2018 | S92: 2006 | T92: 2037 | U92: 2392 | V92: 2402 | W92: 2277 | X92: 2099 | Y92: 2196 | Z92: 2394 | AA92: 2503 | AB92: 2489 | AC92: 2877 | AD92: 2882 | AE92: 2971 | AF92: 3060 | AG92: 2991 | AH92: 2879 | AI92: 2792 | AJ92: 2877 | AK92: 271 | AL92: 0
B93: 44760 | C93: =SUM(D93:AQ93) -> 66117 | D93: 1203 | E93: 1212 | F93: 1176 | G93: 1159 | H93: 1091 | I93: 1109 | J93: 1096 | K93: 1123 | L93: 1075 | M93: 1239 | N93: 1239 | O93: 1522 | P93: 1672 | Q93: 1717 | R93: 2018 | S93: 2006 | T93: 2037 | U93: 2392 | V93: 2402 | W93: 2277 | X93: 2099 | Y93: 2196 | Z93: 2394 | AA93: 2503 | AB93: 2489 | AC93: 2877 | AD93: 2882 | AE93: 2971 | AF93: 3060 | AG93: 2991 | AH93: 2879 | AI93: 2792 | AJ93: 2890 | AK93: 329 | AL93: 0
B94: 44775 | C94: =SUM(D94:AQ94) -> 66279 | D94: 1203 | E94: 1212 | F94: 1176 | G94: 1159 | H94: 1091 | I94: 1109 | J94: 1096 | K94: 1123 | L94: 1075 | M94: 1239 | N94: 1239 | O94: 1522 | P94: 1672 | Q94: 1717 | R94: 2018 | S94: 2006 | T94: 2037 | U94: 2392 | V94: 2402 | W94: 2277 | X94: 2099 | Y94: 2196 | Z94: 2394 | AA94: 2503 | AB94: 2489 | AC94: 2877 | AD94: 2882 | AE94: 2971 | AF94: 3060 | AG94: 2991 | AH94: 2879 | AI94: 2792 | AJ94: 2921 | AK94: 460 | AL94: 0
B95: 44781 | C95: =SUM(D95:AQ95) -> 66317 | D95: 1203 | E95: 1212 | F95: 1176 | G95: 1159 | H95: 1091 | I95: 1109 | J95: 1096 | K95: 1123 | L95: 1075 | M95: 1239 | N95: 1239 | O95: 1522 | P95: 1672 | Q95: 1717 | R95: 2018 | S95: 2006 | T95: 2037 | U95: 2392 | V95: 2402 | W95: 2277 | X95: 2099 | Y95: 2196 | Z95: 2394 | AA95: 2503 | AB95: 2489 | AC95: 2877 | AD95: 2882 | AE95: 2971 | AF95: 3060 | AG95: 2991 | AH95: 2879 | AI95: 2792 | AJ95: 2925 | AK95: 494 | AL95: 0
B96: 44786 | C96: =SUM(D96:AQ96) -> 66400 | D96: 1203 | E96: 1212 | F96: 1176 | G96: 1159 | H96: 1091 | I96: 1109 | J96: 1096 | K96: 1123 | L96: 1075 | M96: 1239 | N96: 1239 | O96: 1522 | P96: 1672 | Q96: 1717 | R96: 2018 | S96: 2006 | T96: 2037 | U96: 2392 | V96: 2402 | W96: 2277 | X96: 2099 | Y96: 2196 | Z96: 2394 | AA96: 2503 | AB96: 2489 | AC96: 2877 | AD96: 2882 | AE96: 2971 | AF96: 3063 | AG96: 2991 | AH96: 2879 | AI96: 2795 | AJ96: 2927 | AK96: 569 | AL96: 0 | AS96: published
B97: 44811 | C97: =SUM(D97:AQ97) -> 66743 | D97: 1203 | E97: 1212 | F97: 1176 | G97: 1159 | H97: 1091 | I97: 1109 | J97: 1096 | K97: 1123 | L97: 1075 | M97: 1239 | N97: 1239 | O97: 1522 | P97: 1672 | Q97: 1717 | R97: 2018 | S97: 2006 | T97: 2037 | U97: 2392 | V97: 2402 | W97: 2277 | X97: 2099 | Y97: 2196 | Z97: 2394 | AA97: 2503 | AB97: 2489 | AC97: 2877 | AD97: 2882 | AE97: 2971 | AF97: 3063 | AG97: 2991 | AH97: 2879 | AI97: 2801 | AJ97: 2932 | AK97: 901 | AL97: 0
B98: 44822 | C98: =SUM(D98:AQ98) -> 66894 | D98: 1203 | E98: 1212 | F98: 1176 | G98: 1159 | H98: 1091 | I98: 1109 | J98: 1096 | K98: 1123 | L98: 1075 | M98: 1239 | N98: 1239 | O98: 1522 | P98: 1672 | Q98: 1717 | R98: 2018 | S98: 2006 | T98: 2037 | U98: 2392 | V98: 2402 | W98: 2277 | X98: 2099 | Y98: 2196 | Z98: 2394 | AA98: 2503 | AB98: 2489 | AC98: 2877 | AD98: 2882 | AE98: 2971 | AF98: 3063 | AG98: 2991 | AH98: 2879 | AI98: 2801 | AJ98: 2932 | AK98: 1052 | AL98: 0
B99: 44829 | C99: =SUM(D99:AQ99) -> 66981 | D99: 1203 | E99: 1212 | F99: 1176 | G99: 1159 | H99: 1091 | I99: 1109 | J99: 1096 | K99: 1123 | L99: 1075 | M99: 1239 | N99: 1239 | O99: 1522 | P99: 1672 | Q99: 1717 | R99: 2018 | S99: 2006 | T99: 2037 | U99: 2392 | V99: 2402 | W99: 2277 | X99: 2099 | Y99: 2196 | Z99: 2394 | AA99: 2503 | AB99: 2489 | AC99: 2877 | AD99: 2882 | AE99: 2971 | AF99: 3063 | AG99: 2991 | AH99: 2879 | AI99: 2801 | AJ99: 2932 | AK99: 1139 | AL99: 0
B100: 44835 | C100: =SUM(D100:AQ100) -> 67044 | D100: 1203 | E100: 1212 | F100: 1176 | G100: 1159 | H100: 1091 | I100: 1109 | J100: 1096 | K100: 1123 | L100: 1075 | M100: 1239 | N100: 1239 | O100: 1522 | P100: 1672 | Q100: 1717 | R100: 2018 | S100: 2006 | T100: 2037 | U100: 2392 | V100: 2402 | W100: 2277 | X100: 2099 | Y100: 2196 | Z100: 2394 | AA100: 2503 | AB100: 2489 | AC100: 2877 | AD100: 2882 | AE100: 2971 | AF100: 3063 | AG100: 2991 | AH100: 2879 | AI100: 2802 | AJ100: 2934 | AK100: 1199 | AL100: 0
B101: 44835 | C101: =SUM(D101:AQ101) -> 67032 | D101: 1203 | E101: 1212 | F101: 1176 | G101: 1159 | H101: 1091 | I101: 1109 | J101: 1096 | K101: 1123 | L101: 1075 | M101: 1239 | N101: 1239 | O101: 1522 | P101: 1672 | Q101: 1717 | R101: 2018 | S101: 2006 | T101: 2037 | U101: 2392 | V101: 2402 | W101: 2277 | X101: 2099 | Y101: 2196 | Z101: 2394 | AA101: 2503 | AB101: 2489 | AC101: 2877 | AD101: 2882 | AE101: 2971 | AF101: 3063 | AG101: 2991 | AH101: 2879 | AI101: 2799 | AJ101: 2925 | AK101: 1199 | AL101: 0 | AS101: published, deleted 404 not found
B102: 44852 | C102: =SUM(D102:AQ102) -> 67170 | D102: 1203 | E102: 1212 | F102: 1176 | G102: 1159 | H102: 1091 | I102: 1109 | J102: 1096 | K102: 1123 | L102: 1075 | M102: 1239 | N102: 1239 | O102: 1522 | P102: 1672 | Q102: 1717 | R102: 2018 | S102: 2006 | T102: 2037 | U102: 2392 | V102: 2402 | W102: 2277 | X102: 2099 | Y102: 2196 | Z102: 2394 | AA102: 2503 | AB102: 2489 | AC102: 2877 | AD102: 2882 | AE102: 2971 | AF102: 3063 | AG102: 2991 | AH102: 2879 | AI102: 2799 | AJ102: 2927 | AK102: 1335 | AL102: 0
B103: 44865 | C103: =SUM(D103:AQ103) -> 67313 | D103: 1203 | E103: 1212 | F103: 1176 | G103: 1159 | H103: 1091 | I103: 1109 | J103: 1096 | K103: 1123 | L103: 1075 | M103: 1239 | N103: 1239 | O103: 1522 | P103: 1672 | Q103: 1717 | R103: 2018 | S103: 2006 | T103: 2037 | U103: 2392 | V103: 2402 | W103: 2277 | X103: 2099 | Y103: 2196 | Z103: 2394 | AA103: 2503 | AB103: 2489 | AC103: 2877 | AD103: 2882 | AE103: 2971 | AF103: 3063 | AG103: 2991 | AH103: 2879 | AI103: 2799 | AJ103: 2932 | AK103: 1473 | AL103: 0
B104: 44871 | C104: =SUM(D104:AQ104) -> 67328 | D104: 1203 | E104: 1212 | F104: 1176 | G104: 1159 | H104: 1091 | I104: 1109 | J104: 1096 | K104: 1123 | L104: 1075 | M104: 1239 | N104: 1239 | O104: 1522 | P104: 1672 | Q104: 1717 | R104: 2018 | S104: 2006 | T104: 2037 | U104: 2392 | V104: 2402 | W104: 2277 | X104: 2099 | Y104: 2196 | Z104: 2394 | AA104: 2503 | AB104: 2489 | AC104: 2877 | AD104: 2882 | AE104: 2971 | AF104: 3063 | AG104: 2991 | AH104: 2879 | AI104: 2799 | AJ104: 2933 | AK104: 1487 | AL104: 0
B105: 44880 | C105: =SUM(D105:AQ105) -> 67374 | D105: 1203 | E105: 1212 | F105: 1176 | G105: 1159 | H105: 1091 | I105: 1109 | J105: 1096 | K105: 1123 | L105: 1075 | M105: 1239 | N105: 1239 | O105: 1522 | P105: 1672 | Q105: 1717 | R105: 2018 | S105: 2006 | T105: 2037 | U105: 2392 | V105: 2402 | W105: 2277 | X105: 2099 | Y105: 2196 | Z105: 2394 | AA105: 2503 | AB105: 2489 | AC105: 2877 | AD105: 2882 | AE105: 2971 | AF105: 3063 | AG105: 2991 | AH105: 2879 | AI105: 2799 | AJ105: 2933 | AK105: 1533 | AL105: 0
B106: 44896 | C106: =SUM(D106:AQ106) -> 67539 | D106: 1203 | E106: 1212 | F106: 1176 | G106: 1159 | H106: 1091 | I106: 1109 | J106: 1096 | K106: 1123 | L106: 1075 | M106: 1239 | N106: 1239 | O106: 1522 | P106: 1672 | Q106: 1717 | R106: 2018 | S106: 2006 | T106: 2037 | U106: 2392 | V106: 2402 | W106: 2277 | X106: 2099 | Y106: 2196 | Z106: 2394 | AA106: 2503 | AB106: 2489 | AC106: 2877 | AD106: 2882 | AE106: 2971 | AF106: 3063 | AG106: 2991 | AH106: 2879 | AI106: 2799 | AJ106: 2933 | AK106: 1698 | AL106: 0
B107: 44906 | C107: =SUM(D107:AQ107) -> 67712 | D107: 1203 | E107: 1212 | F107: 1176 | G107: 1159 | H107: 1091 | I107: 1109 | J107: 1096 | K107: 1123 | L107: 1075 | M107: 1239 | N107: 1239 | O107: 1522 | P107: 1672 | Q107: 1717 | R107: 2018 | S107: 2006 | T107: 2037 | U107: 2392 | V107: 2402 | W107: 2277 | X107: 2099 | Y107: 2196 | Z107: 2394 | AA107: 2503 | AB107: 2489 | AC107: 2877 | AD107: 2882 | AE107: 2971 | AF107: 3063 | AG107: 2991 | AH107: 2879 | AI107: 2799 | AJ107: 2933 | AK107: 1871 | AL107: 0
B108: 44912 | C108: =SUM(D108:AQ108) -> 67822 | D108: 1203 | E108: 1212 | F108: 1176 | G108: 1159 | H108: 1091 | I108: 1109 | J108: 1096 | K108: 1123 | L108: 1075 | M108: 1239 | N108: 1239 | O108: 1522 | P108: 1672 | Q108: 1717 | R108: 2018 | S108: 2006 | T108: 2037 | U108: 2392 | V108: 2402 | W108: 2277 | X108: 2099 | Y108: 2196 | Z108: 2394 | AA108: 2503 | AB108: 2489 | AC108: 2877 | AD108: 2882 | AE108: 2971 | AF108: 3063 | AG108: 2991 | AH108: 2879 | AI108: 2799 | AJ108: 2933 | AK108: 1981 | AL108: 0 | AS108: published
B109: 44920 | C109: =SUM(D109:AQ109) -> 67860 | D109: 1203 | E109: 1212 | F109: 1176 | G109: 1159 | H109: 1091 | I109: 1109 | J109: 1096 | K109: 1123 | L109: 1075 | M109: 1239 | N109: 1239 | O109: 1522 | P109: 1672 | Q109: 1717 | R109: 2018 | S109: 2006 | T109: 2037 | U109: 2392 | V109: 2402 | W109: 2277 | X109: 2099 | Y109: 2196 | Z109: 2394 | AA109: 2503 | AB109: 2489 | AC109: 2877 | AD109: 2882 | AE109: 2971 | AF109: 3063 | AG109: 2991 | AH109: 2879 | AI109: 2799 | AJ109: 2933 | AK109: 2019 | AL109: 0
B110: 44927 | C110: =SUM(D110:AQ110) -> 67907 | D110: 1203 | E110: 1212 | F110: 1176 | G110: 1159 | H110: 1091 | I110: 1109 | J110: 1096 | K110: 1123 | L110: 1075 | M110: 1239 | N110: 1239 | O110: 1522 | P110: 1672 | Q110: 1717 | R110: 2018 | S110: 2006 | T110: 2037 | U110: 2392 | V110: 2402 | W110: 2277 | X110: 2099 | Y110: 2196 | Z110: 2394 | AA110: 2503 | AB110: 2489 | AC110: 2877 | AD110: 2882 | AE110: 2971 | AF110: 3063 | AG110: 2991 | AH110: 2879 | AI110: 2799 | AJ110: 2933 | AK110: 2066 | AL110: 0
...
