Workbook

Sheet DATABASE
B2: Naming | H2: Price & image | J2: Dimensions and weight | P2: Engine and transmission | X2: Fuel and mileage | AD2: Bonus data (added by Teoalida)
B3: ID | C3: Make | D3: Model | E3: Year | F3: Trim | G3: Trim (description) | H3: Base MSRP | I3: Image URL | J3: Body type | K3: Length (in) | L3: Width (in) | M3: Height (in) | N3: Wheelbase (in) | O3: Curb weight (lbs) | P3: Cylinders | Q3: Engine size (l) | R3: Horsepower (HP) | S3: Horsepower (rpm) | T3: Torque (ft-lbs) | U3: Torque (rpm) | V3: Drive type | W3: Transmission | X3: Engine type | Y3: Fuel type | Z3: Fuel tank capacity (gal) | AA3: EPA combined MPG | AB3: EPA city/highway MPG | AC3: Range in miles (city/hwy) | AD3: Country of origin | AE3: Car classification | AF3: Platform code / generation number
B4: =COUNTA(B14:B421494) -> 632 | C4: =COUNTA(C14:C421494) -> 629 | D4: =COUNTA(D14:D421494) -> 629 | E4: =COUNTA(E14:E421494) -> 629 | F4: =COUNTA(F14:F421494) -> 629 | G4: =COUNTA(G14:G421494) -> 629 | H4: =COUNTA(H14:H421493) -> 477 | I4: =COUNTA(I14:I421493) -> 629 | J4: =COUNTA(J14:J421493) -> 629 | K4: =COUNTA(K14:K421493) -> 629 | L4: =COUNTA(L14:L421493) -> 629 | M4: =COUNTA(M14:M421493) -> 629 | N4: =COUNTA(N14:N421493) -> 629 | O4: =COUNTA(O14:O421493) -> 549 | ... AC4: =COUNTA(AC14:AC421493) -> 616 | AD4: =COUNTA(AD14:AD421494) -> 629 | AE4: =COUNTA(AE14:AE421494) -> 629 | AF4: =COUNTA(AF14:AF421494) -> 629
B5: =B4/$B4 -> 1 | C5: =C4/$B4 -> 0.99525316 | D5: =D4/$B4 -> 0.99525316 | E5: =E4/$B4 -> 0.99525316 | F5: =F4/$B4 -> 0.99525316 | G5: =G4/$B4 -> 0.99525316 | H5: =H4/$B4 -> 0.75474684 | I5: =I4/$B4 -> 0.99525316 | ... AF5: =AF4/$B4 -> 0.99525316
B7: Year-Make-Model-Trim-Specs car database for American market
B8: Compiled in Excel by Teoalida © cardatabase.teoalida.com
B10: This is a SAMPLE, including a selection of years for 3 models: BMW 3-Series, Ford F-150, Toyota Prius (629 trims)
B11: Visit above website for the FULL database (68 makes, 1200+ models, 10000+ model years, 70000+ model trims)
B12: See "Statistics makes" for the list of makes included in FULL database, and number of models for each
B14: SAMPLE: BMW 3-Series (second best-selling European car)
B15: 401994177 | C15: BMW | D15: 3 Series | E15: 2024 | F15: 330i | G15: 330i 4dr Sedan (2.0L 4cyl Turbo 8A) | H15: 44500 | I15: https://media.ed.edmunds-media.com/bmw/3-series/2023/oem/2023_bmw_3-series_sedan_330i-xdrive_fq_oem_1_815.jpg;https://media.ed.edmunds-media.com/bmw/3-series/2023/oem/2023_bmw_3-series_sedan_330i-xdrive_rq_oem_2_815.jpg;https://media.ed.edmunds-media.com/bmw/3-series/2023/oem/2023_bmw_3-series_sedan_330i-xdrive_rq_oem_3_815.jpg;https://media.ed.edmunds-media.com/bmw/3-series/2023/oem/2023_bmw_3-series_sedan_330i-xdrive_rq_oem_4_815.jpg;https://media.ed.edmunds-media.com/bmw/3-series/2023/oem/2023_bmw_3-series_sedan_330i-xdrive_rq_oem_5_815.jpg; | J15: Sedan | K15: 185.9 | L15: 71.9 | M15: 56.8 | N15: 112.2 | O15: 3536 | P15: I4 | Q15: 2 | R15: 255 | S15: 5000 | T15: 295 | U15: 1550 | V15: rear wheel drive | W15: 8-speed shiftable automatic | X15: gas | Y15: premium unleaded (required) | Z15: 15.6 | AA15: 29 | AB15: 25/34 MPG | AC15: 390.0/530.4 mi. | AD15: Europe/Germany | AE15: Compact car | AF15: G20
B16: 402004583 | C16: BMW | D16: 3 Series | E16: 2024 | F16: 330i xDrive | G16: 330i xDrive 4dr Sedan AWD (2.0L 4cyl Turbo 8A) | H16: 46500 | I16: https://media.ed.edmunds-media.com/bmw/3-series/2023/oem/2023_bmw_3-series_sedan_330i-xdrive_fq_oem_1_815.jpg;https://media.ed.edmunds-media.com/bmw/3-series/2023/oem/2023_bmw_3-series_sedan_330i-xdrive_rq_oem_2_815.jpg;https://media.ed.edmunds-media.com/bmw/3-series/2023/oem/2023_bmw_3-series_sedan_330i-xdrive_rq_oem_3_815.jpg;https://media.ed.edmunds-media.com/bmw/3-series/2023/oem/2023_bmw_3-series_sedan_330i-xdrive_rq_oem_4_815.jpg;https://media.ed.edmunds-media.com/bmw/3-series/2023/oem/2023_bmw_3-series_sedan_330i-xdrive_rq_oem_5_815.jpg; | J16: Sedan | K16: 185.9 | L16: 71.9 | M16: 57 | N16: 112.2 | O16: 3671 | P16: I4 | Q16: 2 | R16: 255 | S16: 5000 | T16: 295 | U16: 1550 | V16: all wheel drive | W16: 8-speed shiftable automatic | X16: gas | Y16: premium unleaded (required) | Z16: 15.6 | AA16: 27 | AB16: 24/33 MPG | AC16: 374.4/514.8 mi. | AD16: Europe/Germany | AE16: Compact car | AF16: G20
B17: 402004581 | C17: BMW | D17: 3 Series | E17: 2024 | F17: 330e | G17: 330e 4dr Sedan (2.0L 4cyl Turbo gas/electric plug-in hybrid 8A) | H17: 45600 | I17: https://media.ed.edmunds-media.com/bmw/3-series/2023/oem/2023_bmw_3-series_sedan_330i-xdrive_fq_oem_1_815.jpg;https://media.ed.edmunds-media.com/bmw/3-series/2023/oem/2023_bmw_3-series_sedan_330i-xdrive_rq_oem_2_815.jpg;https://media.ed.edmunds-media.com/bmw/3-series/2023/oem/2023_bmw_3-series_sedan_330i-xdrive_rq_oem_3_815.jpg;https://media.ed.edmunds-media.com/bmw/3-series/2023/oem/2023_bmw_3-series_sedan_330i-xdrive_rq_oem_4_815.jpg;https://media.ed.edmunds-media.com/bmw/3-series/2023/oem/2023_bmw_3-series_sedan_330i-xdrive_rq_oem_5_815.jpg; | J17: Sedan | K17: 185.9 | L17: 71.9 | M17: 56.9 | N17: 112.2 | O17: 4083 | P17: I4 | Q17: 2 | R17: 288 | T17: 310 | V17: rear wheel drive | W17: 8-speed shiftable automatic | X17: plug-in hybrid | Y17: premium unleaded (required) | Z17: 10.6 | AA17: 27 | AB17: 24/32 MPG | AC17: 254.4/339.2 mi. | AD17: Europe/Germany | AE17: Compact car | AF17: G20
B18: 402004580 | C18: BMW | D18: 3 Series | E18: 2024 | F18: M340i xDrive | G18: M340i xDrive 4dr Sedan AWD (3.0L 6cyl Turbo gas/electric mild hybrid 8A) | H18: 59600 | I18: https://media.ed.edmunds-media.com/bmw/3-series/2023/oem/2023_bmw_3-series_sedan_330i-xdrive_fq_oem_1_815.jpg;https://media.ed.edmunds-media.com/bmw/3-series/2023/oem/2023_bmw_3-series_sedan_330i-xdrive_rq_oem_2_815.jpg;https://media.ed.edmunds-media.com/bmw/3-series/2023/oem/2023_bmw_3-series_sedan_330i-xdrive_rq_oem_3_815.jpg;https://media.ed.edmunds-media.com/bmw/3-series/2023/oem/2023_bmw_3-series_sedan_330i-xdrive_rq_oem_4_815.jpg;https://media.ed.edmunds-media.com/bmw/3-series/2023/oem/2023_bmw_3-series_sedan_330i-xdrive_rq_oem_5_815.jpg; | J18: Sedan | K18: 185.9 | L18: 71.9 | M18: 56.7 | N18: 112.2 | O18: 3951 | P18: I6 | Q18: 3 | R18: 382 | S18: 5800 | T18: 369 | U18: 1800 | V18: all wheel drive | W18: 8-speed shiftable automatic | X18: mild hybrid | Y18: premium unleaded (required) | Z18: 15.6 | AA18: 26 | AB18: 23/31 MPG | AC18: 358.8/483.6 mi. | AD18: Europe/Germany | AE18: Compact car | AF18: G20
B19: 402004579 | C19: BMW | D19: 3 Series | E19: 2024 | F19: M340i | G19: M340i 4dr Sedan (3.0L 6cyl Turbo gas/electric mild hybrid 8A) | H19: 57600 | I19: https://media.ed.edmunds-media.com/bmw/3-series/2023/oem/2023_bmw_3-series_sedan_330i-xdrive_fq_oem_1_815.jpg;https://media.ed.edmunds-media.com/bmw/3-series/2023/oem/2023_bmw_3-series_sedan_330i-xdrive_rq_oem_2_815.jpg;https://media.ed.edmunds-media.com/bmw/3-series/2023/oem/2023_bmw_3-series_sedan_330i-xdrive_rq_oem_3_815.jpg;https://media.ed.edmunds-media.com/bmw/3-series/2023/oem/2023_bmw_3-series_sedan_330i-xdrive_rq_oem_4_815.jpg;https://media.ed.edmunds-media.com/bmw/3-series/2023/oem/2023_bmw_3-series_sedan_330i-xdrive_rq_oem_5_815.jpg; | J19: Sedan | K19: 185.9 | L19: 71.9 | M19: 56.4 | N19: 112.2 | O19: 3834 | P19: I6 | Q19: 3 | R19: 382 | S19: 5800 | T19: 369 | U19: 1800 | V19: rear wheel drive | W19: 8-speed shiftable automatic | X19: mild hybrid | Y19: premium unleaded (required) | Z19: 15.6 | AA19: 26 | AB19: 23/31 MPG | AC19: 358.8/483.6 mi. | AD19: Europe/Germany | AE19: Compact car | AF19: G20
B20: 402004582 | C20: BMW | D20: 3 Series | E20: 2024 | F20: 330e xDrive | G20: 330e xDrive 4dr Sedan AWD (2.0L 4cyl Turbo gas/electric plug-in hybrid 8A) | H20: 47600 | I20: https://media.ed.edmunds-media.com/bmw/3-series/2023/oem/2023_bmw_3-series_sedan_330i-xdrive_fq_oem_1_815.jpg;https://media.ed.edmunds-media.com/bmw/3-series/2023/oem/2023_bmw_3-series_sedan_330i-xdrive_rq_oem_2_815.jpg;https://media.ed.edmunds-media.com/bmw/3-series/2023/oem/2023_bmw_3-series_sedan_330i-xdrive_rq_oem_3_815.jpg;https://media.ed.edmunds-media.com/bmw/3-series/2023/oem/2023_bmw_3-series_sedan_330i-xdrive_rq_oem_4_815.jpg;https://media.ed.edmunds-media.com/bmw/3-series/2023/oem/2023_bmw_3-series_sedan_330i-xdrive_rq_oem_5_815.jpg; | J20: Sedan | K20: 185.9 | L20: 71.9 | M20: 56.9 | N20: 112.2 | O20: 4180 | P20: I4 | Q20: 2 | R20: 288 | T20: 310 | V20: all wheel drive | W20: 8-speed shiftable automatic | X20: plug-in hybrid | Y20: premium unleaded (required) | Z20: 10.6 | AA20: 26 | AB20: 22/32 MPG | AC20: 233.2/339.2 mi. | AD20: Europe/Germany | AE20: Compact car | AF20: G20
B21: 402010102 | C21: BMW | D21: 3 Series | E21: 2024 | F21: M3 Competition xDrive | G21: M3 Competition xDrive 4dr Sedan AWD (3.0L 6cyl Turbo 8A) | H21: 84300 | I21: https://media.ed.edmunds-media.com/bmw/m3/2022/oem/2022_bmw_m3_sedan_competition_fq_oem_1_815.jpg;https://media.ed.edmunds-media.com/bmw/m3/2022/oem/2022_bmw_m3_sedan_competition_fq_oem_10_175.jpg;https://media.ed.edmunds-media.com/bmw/m3/2022/oem/2022_bmw_m3_sedan_competition_fq_oem_11_175.jpg;https://media.ed.edmunds-media.com/bmw/m3/2022/oem/2022_bmw_m3_sedan_competition_fq_oem_12_175.jpg;https://media.ed.edmunds-media.com/bmw/m3/2022/oem/2022_bmw_m3_sedan_competition_fq_oem_13_175.jpg; | J21: Sedan | K21: 189.1 | L21: 74.3 | M21: 56.5 | N21: 112.5 | O21: 3990 | P21: I6 | Q21: 3 | R21: 503 | S21: 6250 | T21: 479 | U21: 2750 | V21: all wheel drive | W21: 8-speed automatic | X21: gas | Y21: premium unleaded (required) | Z21: 15.6 | AA21: 18 | AB21: 16/22 MPG | AC21: 249.6/343.2 mi. | AD21: Europe/Germany | AE21: Compact car | AF21: G20
B22: 401977206 | C22: BMW | D22: 3 Series | E22: 2024 | F22: M3 | G22: M3 4dr Sedan (3.0L 6cyl Turbo 6M) | H22: 76000 | I22: https://media.ed.edmunds-media.com/bmw/m3/2022/oem/2022_bmw_m3_sedan_competition_fq_oem_1_815.jpg;https://media.ed.edmunds-media.com/bmw/m3/2022/oem/2022_bmw_m3_sedan_competition_fq_oem_10_175.jpg;https://media.ed.edmunds-media.com/bmw/m3/2022/oem/2022_bmw_m3_sedan_competition_fq_oem_11_175.jpg;https://media.ed.edmunds-media.com/bmw/m3/2022/oem/2022_bmw_m3_sedan_competition_fq_oem_12_175.jpg;https://media.ed.edmunds-media.com/bmw/m3/2022/oem/2022_bmw_m3_sedan_competition_fq_oem_13_175.jpg; | J22: Sedan | K22: 189.1 | L22: 74.3 | M22: 56.4 | N22: 112.5 | O22: 3840 | P22: I6 | Q22: 3 | R22: 473 | S22: 6250 | T22: 406 | U22: 2650 | V22: rear wheel drive | W22: 6-speed manual | X22: gas | Y22: premium unleaded (required) | Z22: 15.6 | AA22: 19 | AB22: 16/23 MPG | AC22: 249.6/358.8 mi. | AD22: Europe/Germany | AE22: Compact car | AF22: G20
B23: 402010103 | C23: BMW | D23: 3 Series | E23: 2024 | F23: M3 Competition | G23: M3 Competition 4dr Sedan (3.0L 6cyl Turbo 8A) | H23: 80200 | I23: https://media.ed.edmunds-media.com/bmw/m3/2022/oem/2022_bmw_m3_sedan_competition_fq_oem_1_815.jpg;https://media.ed.edmunds-media.com/bmw/m3/2022/oem/2022_bmw_m3_sedan_competition_fq_oem_10_175.jpg;https://media.ed.edmunds-media.com/bmw/m3/2022/oem/2022_bmw_m3_sedan_competition_fq_oem_11_175.jpg;https://media.ed.edmunds-media.com/bmw/m3/2022/oem/2022_bmw_m3_sedan_competition_fq_oem_12_175.jpg;https://media.ed.edmunds-media.com/bmw/m3/2022/oem/2022_bmw_m3_sedan_competition_fq_oem_13_175.jpg; | J23: Sedan | K23: 189.1 | L23: 74.3 | M23: 56.4 | N23: 112.5 | O23: 3890 | P23: I6 | Q23: 3 | R23: 503 | S23: 6250 | T23: 479 | U23: 2750 | V23: rear wheel drive | W23: 8-speed automatic | X23: gas | Y23: premium unleaded (required) | Z23: 15.6 | AA23: 19 | AB23: 16/23 MPG | AC23: 249.6/358.8 mi. | AD23: Europe/Germany | AE23: Compact car | AF23: G20
B24: 401986528 | C24: BMW | D24: 3 Series | E24: 2024 | F24: M3 CS | G24: M3 CS 4dr Sedan AWD (3.0L 6cyl Turbo 8A) | H24: 118700 | I24: https://media.ed.edmunds-media.com/bmw/m3-cs/2024/oem/2024_bmw_m3-cs_sedan_base_fq_oem_1_815.jpg;https://media.ed.edmunds-media.com/bmw/m3-cs/2024/oem/2024_bmw_m3-cs_sedan_base_fq_oem_2_815.jpg;https://media.ed.edmunds-media.com/bmw/m3-cs/2024/oem/2024_bmw_m3-cs_sedan_base_fq_oem_3_815.jpg;https://media.ed.edmunds-media.com/bmw/m3-cs/2024/oem/2024_bmw_m3-cs_sedan_base_fq_oem_4_815.jpg;https://media.ed.edmunds-media.com/bmw/m3-cs/2024/oem/2024_bmw_m3-cs_sedan_base_fq_oem_5_815.jpg; | J24: Sedan | K24: 188.8 | L24: 75.5 | M24: 56.6 | N24: 112.5 | O24: 3915 | P24: I6 | Q24: 3 | R24: 543 | S24: 6250 | T24: 479 | U24: 2750 | V24: all wheel drive | W24: 8-speed automatic | X24: gas | Y24: premium unleaded (required) | Z24: 15.6 | AA24: 18 | AB24: 15/22 MPG | AC24: 234.0/343.2 mi. | AD24: Europe/Germany | AE24: Compact car | AF24: G20
B25: 401897331 | C25: BMW | D25: 3 Series | E25: 2022 | F25: 330i | G25: 330i 4dr Sedan (2.0L 4cyl Turbo 8A) | H25: 41450 | I25: https://media.ed.edmunds-media.com/bmw/3-series/2021/oem/2021_bmw_3-series_sedan_330e_fq_oem_1_815.jpg;https://media.ed.edmunds-media.com/bmw/3-series/2021/oem/2021_bmw_3-series_sedan_330e_fq_oem_2_175.jpg;https://media.ed.edmunds-media.com/bmw/3-series/2021/oem/2021_bmw_3-series_sedan_330e_fq_oem_3_175.jpg;https://media.ed.edmunds-media.com/bmw/3-series/2021/oem/2021_bmw_3-series_sedan_330e_fq_oem_4_175.jpg;https://media.ed.edmunds-media.com/bmw/3-series/2021/oem/2021_bmw_3-series_sedan_330e_fq_oem_5_175.jpg; | J25: Sedan | K25: 185.7 | L25: 71.9 | M25: 56.8 | N25: 112.2 | O25: 3560 | P25: I4 | Q25: 2 | R25: 255 | S25: 5000 | T25: 294 | U25: 1550 | V25: rear wheel drive | W25: 8-speed shiftable automatic | X25: gas | Y25: premium unleaded (required) | Z25: 15.6 | AA25: 30 | AB25: 26/36 MPG | AC25: 405.6/561.6 mi. | AD25: Europe/Germany | AE25: Compact car | AF25: G20
B26: 401906573 | C26: BMW | D26: 3 Series | E26: 2022 | F26: M340i xDrive | G26: M340i xDrive 4dr Sedan AWD (3.0L 6cyl Turbo gas/electric mild hybrid 8A) | H26: 56700 | I26: https://media.ed.edmunds-media.com/bmw/3-series/2021/oem/2021_bmw_3-series_sedan_330e_fq_oem_1_815.jpg;https://media.ed.edmunds-media.com/bmw/3-series/2021/oem/2021_bmw_3-series_sedan_330e_fq_oem_2_175.jpg;https://media.ed.edmunds-media.com/bmw/3-series/2021/oem/2021_bmw_3-series_sedan_330e_fq_oem_3_175.jpg;https://media.ed.edmunds-media.com/bmw/3-series/2021/oem/2021_bmw_3-series_sedan_330e_fq_oem_4_175.jpg;https://media.ed.edmunds-media.com/bmw/3-series/2021/oem/2021_bmw_3-series_sedan_330e_fq_oem_5_175.jpg; | J26: Sedan | K26: 185.7 | L26: 71.9 | M26: 56.7 | N26: 112.2 | O26: 3979 | P26: I6 | Q26: 3 | R26: 382 | S26: 5800 | T26: 368 | U26: 1800 | V26: all wheel drive | W26: 8-speed shiftable automatic | X26: mild hybrid | Y26: premium unleaded (required) | Z26: 15.6 | AA26: 26 | AB26: 23/32 MPG | AC26: 358.8/499.2 mi. | AD26: Europe/Germany | AE26: Compact car | AF26: G20
B27: 401906574 | C27: BMW | D27: 3 Series | E27: 2022 | F27: 330i xDrive | G27: 330i xDrive 4dr Sedan AWD (2.0L 4cyl Turbo 8A) | H27: 43450 | I27: https://media.ed.edmunds-media.com/bmw/3-series/2021/oem/2021_bmw_3-series_sedan_330e_fq_oem_1_815.jpg;https://media.ed.edmunds-media.com/bmw/3-series/2021/oem/2021_bmw_3-series_sedan_330e_fq_oem_2_175.jpg;https://media.ed.edmunds-media.com/bmw/3-series/2021/oem/2021_bmw_3-series_sedan_330e_fq_oem_3_175.jpg;https://media.ed.edmunds-media.com/bmw/3-series/2021/oem/2021_bmw_3-series_sedan_330e_fq_oem_4_175.jpg;https://media.ed.edmunds-media.com/bmw/3-series/2021/oem/2021_bmw_3-series_sedan_330e_fq_oem_5_175.jpg; | J27: Sedan | K27: 185.7 | L27: 71.9 | M27: 57 | N27: 112.2 | O27: 3686 | P27: I4 | Q27: 2 | R27: 255 | S27: 5000 | T27: 294 | U27: 1550 | V27: all wheel drive | W27: 8-speed shiftable automatic | X27: gas | Y27: premium unleaded (required) | Z27: 15.6 | AA27: 28 | AB27: 25/34 MPG | AC27: 390.0/530.4 mi. | AD27: Europe/Germany | AE27: Compact car | AF27: G20
B28: 401906575 | C28: BMW | D28: 3 Series | E28: 2022 | F28: 330e xDrive | G28: 330e xDrive 4dr Sedan AWD (2.0L 4cyl Turbo gas/electric plug-in hybrid 8A) | H28: 44950 | I28: https://media.ed.edmunds-media.com/bmw/3-series/2021/oem/2021_bmw_3-series_sedan_330e_fq_oem_1_815.jpg;https://media.ed.edmunds-media.com/bmw/3-series/2021/oem/2021_bmw_3-series_sedan_330e_fq_oem_2_175.jpg;https://media.ed.edmunds-media.com/bmw/3-series/2021/oem/2021_bmw_3-series_sedan_330e_fq_oem_3_175.jpg;https://media.ed.edmunds-media.com/bmw/3-series/2021/oem/2021_bmw_3-series_sedan_330e_fq_oem_4_175.jpg;https://media.ed.edmunds-media.com/bmw/3-series/2021/oem/2021_bmw_3-series_sedan_330e_fq_oem_5_175.jpg; | J28: Sedan | K28: 185.7 | L28: 71.9 | M28: 56.9 | N28: 112.2 | O28: 4138 | P28: I4 | Q28: 2 | R28: 288 | T28: 310 | V28: all wheel drive | W28: 8-speed shiftable automatic | X28: plug-in hybrid | Y28: premium unleaded (required) | Z28: 10.6 | AA28: 25 | AB28: 22/30 MPG | AC28: 233.2/318.0 mi. | AD28: Europe/Germany | AE28: Compact car | AF28: G20
B29: 401906576 | C29: BMW | D29: 3 Series | E29: 2022 | F29: M340i | G29: M340i 4dr Sedan (3.0L 6cyl Turbo gas/electric mild hybrid 8A) | H29: 54700 | I29: https://media.ed.edmunds-media.com/bmw/3-series/2021/oem/2021_bmw_3-series_sedan_330e_fq_oem_1_815.jpg;https://media.ed.edmunds-media.com/bmw/3-series/2021/oem/2021_bmw_3-series_sedan_330e_fq_oem_2_175.jpg;https://media.ed.edmunds-media.com/bmw/3-series/2021/oem/2021_bmw_3-series_sedan_330e_fq_oem_3_175.jpg;https://media.ed.edmunds-media.com/bmw/3-series/2021/oem/2021_bmw_3-series_sedan_330e_fq_oem_4_175.jpg;https://media.ed.edmunds-media.com/bmw/3-series/2021/oem/2021_bmw_3-series_sedan_330e_fq_oem_5_175.jpg; | J29: Sedan | K29: 185.7 | L29: 71.9 | M29: 56.4 | N29: 112.2 | O29: 3876 | P29: I6 | Q29: 3 | R29: 382 | S29: 5800 | T29: 368 | U29: 1800 | V29: rear wheel drive | W29: 8-speed shiftable automatic | X29: mild hybrid | Y29: premium unleaded (required) | Z29: 15.6 | AA29: 26 | AB29: 23/32 MPG | AC29: 358.8/499.2 mi. | AD29: Europe/Germany | AE29: Compact car | AF29: G20
B30: 401906577 | C30: BMW | D30: 3 Series | E30: 2022 | F30: 330e | G30: 330e 4dr Sedan (2.0L 4cyl Turbo gas/electric plug-in hybrid 8A) | H30: 42950 | I30: https://media.ed.edmunds-media.com/bmw/3-series/2021/oem/2021_bmw_3-series_sedan_330e_fq_oem_1_815.jpg;https://media.ed.edmunds-media.com/bmw/3-series/2021/oem/2021_bmw_3-series_sedan_330e_fq_oem_2_175.jpg;https://media.ed.edmunds-media.com/bmw/3-series/2021/oem/2021_bmw_3-series_sedan_330e_fq_oem_3_175.jpg;https://media.ed.edmunds-media.com/bmw/3-series/2021/oem/2021_bmw_3-series_sedan_330e_fq_oem_4_175.jpg;https://media.ed.edmunds-media.com/bmw/3-series/2021/oem/2021_bmw_3-series_sedan_330e_fq_oem_5_175.jpg; | J30: Sedan | K30: 185.7 | L30: 71.9 | M30: 56.9 | N30: 112.2 | O30: 4039 | P30: I4 | Q30: 2 | R30: 288 | T30: 310 | V30: rear wheel drive | W30: 8-speed shiftable automatic | X30: plug-in hybrid | Y30: premium unleaded (required) | Z30: 10.6 | AA30: 28 | AB30: 25/33 MPG | AC30: 265.0/349.8 mi. | AD30: Europe/Germany | AE30: Compact car | AF30: G20
B31: 401890929 | C31: BMW | D31: 3 Series | E31: 2022 | F31: M3 | G31: M3 4dr Sedan (3.0L 6cyl Turbo 6M) | H31: 70100 | I31: https://media.ed.edmunds-media.com/bmw/m3/2022/oem/2022_bmw_m3_sedan_competition_fq_oem_1_815.jpg;https://media.ed.edmunds-media.com/bmw/m3/2022/oem/2022_bmw_m3_sedan_competition_rq_oem_10_175.jpg;https://media.ed.edmunds-media.com/bmw/m3/2022/oem/2022_bmw_m3_sedan_competition_rq_oem_2_175.jpg;https://media.ed.edmunds-media.com/bmw/m3/2022/oem/2022_bmw_m3_sedan_competition_rq_oem_3_175.jpg;https://media.ed.edmunds-media.com/bmw/m3/2022/oem/2022_bmw_m3_sedan_competition_rq_oem_4_175.jpg; | J31: Sedan | K31: 189.1 | L31: 74.3 | M31: 56.4 | N31: 112.5 | O31: 3840 | P31: I6 | Q31: 3 | R31: 473 | S31: 6250 | T31: 406 | U31: 2650 | V31: rear wheel drive | W31: 6-speed manual | X31: gas | Y31: premium unleaded (required) | Z31: 15.6 | AA31: 19 | AB31: 16/23 MPG | AC31: 249.6/358.8 mi. | AD31: Europe/Germany | AE31: Compact car | AF31: G20
B32: 401911605 | C32: BMW | D32: 3 Series | E32: 2022 | F32: M3 Competition | G32: M3 Competition 4dr Sedan (3.0L 6cyl Turbo 8A) | H32: 73000 | I32: https://media.ed.edmunds-media.com/bmw/m3/2022/oem/2022_bmw_m3_sedan_competition_fq_oem_1_815.jpg;https://media.ed.edmunds-media.com/bmw/m3/2022/oem/2022_bmw_m3_sedan_competition_rq_oem_10_175.jpg;https://media.ed.edmunds-media.com/bmw/m3/2022/oem/2022_bmw_m3_sedan_competition_rq_oem_2_175.jpg;https://media.ed.edmunds-media.com/bmw/m3/2022/oem/2022_bmw_m3_sedan_competition_rq_oem_3_175.jpg;https://media.ed.edmunds-media.com/bmw/m3/2022/oem/2022_bmw_m3_sedan_competition_rq_oem_4_175.jpg; | J32: Sedan | K32: 189.1 | L32: 74.3 | M32: 56.4 | N32: 112.5 | O32: 3890 | P32: I6 | Q32: 3 | R32: 503 | S32: 6250 | T32: 479 | U32: 2750 | V32: rear wheel drive | W32: 8-speed automatic | X32: gas | Y32: premium unleaded (required) | Z32: 15.6 | AA32: 19 | AB32: 16/23 MPG | AC32: 249.6/358.8 mi. | AD32: Europe/Germany | AE32: Compact car | AF32: G20
B33: 401911604 | C33: BMW | D33: 3 Series | E33: 2022 | F33: M3 Competition xDrive | G33: M3 Competition xDrive 4dr Sedan AWD (3.0L 6cyl Turbo 8A) | H33: 77100 | I33: https://media.ed.edmunds-media.com/bmw/m3/2022/oem/2022_bmw_m3_sedan_competition_fq_oem_1_815.jpg;https://media.ed.edmunds-media.com/bmw/m3/2022/oem/2022_bmw_m3_sedan_competition_rq_oem_10_175.jpg;https://media.ed.edmunds-media.com/bmw/m3/2022/oem/2022_bmw_m3_sedan_competition_rq_oem_2_175.jpg;https://media.ed.edmunds-media.com/bmw/m3/2022/oem/2022_bmw_m3_sedan_competition_rq_oem_3_175.jpg;https://media.ed.edmunds-media.com/bmw/m3/2022/oem/2022_bmw_m3_sedan_competition_rq_oem_4_175.jpg; | J33: Sedan | K33: 189.1 | L33: 74.3 | M33: 56.5 | N33: 112.5 | O33: 3990 | P33: I6 | Q33: 3 | R33: 503 | S33: 6250 | T33: 479 | U33: 2750 | V33: all wheel drive | W33: 8-speed automatic | X33: gas | Y33: premium unleaded (required) | Z33: 15.6 | AA33: 18 | AB33: 16/22 MPG | AC33: 249.6/343.2 mi. | AD33: Europe/Germany | AE33: Compact car | AF33: G20
B34: 401828691 | C34: BMW | D34: 3 Series | E34: 2020 | F34: 330i | G34: 330i 4dr Sedan (2.0L 4cyl Turbo 8A) | H34: 40750 | I34: https://media.ed.edmunds-media.com/bmw/m340i/2020/fd/2020_bmw_m340i_f34_fd_1114181_815.jpg;https://media.ed.edmunds-media.com/bmw/3-series/2020/evox/2020_bmw_3-series_sedan_m340i_pr_evox_1_175.jpg;https://media.ed.edmunds-media.com/bmw/3-series/2020/oem/2020_bmw_3-series_sedan_330i_fq_oem_2_175.jpg;https://media.ed.edmunds-media.com/bmw/3-series/2020/oem/2020_bmw_3-series_sedan_330i_fq_oem_3_175.jpg;https://media.ed.edmunds-media.com/bmw/3-series/2020/oem/2020_bmw_3-series_sedan_330i_fq_oem_4_175.jpg; | J34: Sedan | K34: 185.7 | L34: 71.9 | M34: 56.8 | N34: 112.2 | O34: 3589 | P34: I4 | Q34: 2 | R34: 255 | S34: 5000 | T34: 295 | U34: 1550 | V34: rear wheel drive | W34: 8-speed shiftable automatic | X34: gas | Y34: premium unleaded (recommended) | Z34: 15.6 | AA34: 30 | AB34: 26/36 MPG | AC34: 405.6/561.6 mi. | AD34: Europe/Germany | AE34: Compact car | AF34: G20
B35: 401828692 | C35: BMW | D35: 3 Series | E35: 2020 | F35: 330i xDrive | G35: 330i xDrive 4dr Sedan AWD (2.0L 4cyl Turbo 8A) | H35: 42750 | I35: https://media.ed.edmunds-media.com/bmw/m340i/2020/fd/2020_bmw_m340i_f34_fd_1114181_815.jpg;https://media.ed.edmunds-media.com/bmw/3-series/2020/evox/2020_bmw_3-series_sedan_m340i_pr_evox_1_175.jpg;https://media.ed.edmunds-media.com/bmw/3-series/2020/oem/2020_bmw_3-series_sedan_330i_fq_oem_2_175.jpg;https://media.ed.edmunds-media.com/bmw/3-series/2020/oem/2020_bmw_3-series_sedan_330i_fq_oem_3_175.jpg;https://media.ed.edmunds-media.com/bmw/3-series/2020/oem/2020_bmw_3-series_sedan_330i_fq_oem_4_175.jpg; | J35: Sedan | K35: 185.7 | L35: 71.9 | M35: 56.8 | N35: 112.2 | O35: 3772 | P35: I4 | Q35: 2 | R35: 255 | S35: 5000 | T35: 295 | U35: 1550 | V35: all wheel drive | W35: 8-speed shiftable automatic | X35: gas | Y35: premium unleaded (recommended) | Z35: 15.6 | AA35: 28 | AB35: 25/34 MPG | AC35: 390.0/530.4 mi. | AD35: Europe/Germany | AE35: Compact car | AF35: G20
B36: 401779949 | C36: BMW | D36: 3 Series | E36: 2020 | F36: M340i | G36: M340i 4dr Sedan (3.0L 6cyl Turbo 8A) | H36: 54000 | I36: https://media.ed.edmunds-media.com/bmw/m340i/2020/fd/2020_bmw_m340i_f34_fd_1114181_815.jpg;https://media.ed.edmunds-media.com/bmw/3-series/2020/evox/2020_bmw_3-series_sedan_m340i_pr_evox_1_175.jpg;https://media.ed.edmunds-media.com/bmw/3-series/2020/oem/2020_bmw_3-series_sedan_330i_fq_oem_2_175.jpg;https://media.ed.edmunds-media.com/bmw/3-series/2020/oem/2020_bmw_3-series_sedan_330i_fq_oem_3_175.jpg;https://media.ed.edmunds-media.com/bmw/3-series/2020/oem/2020_bmw_3-series_sedan_330i_fq_oem_4_175.jpg; | J36: Sedan | K36: 185.7 | L36: 71.9 | M36: 56.4 | N36: 112.2 | O36: 3849 | P36: I6 | Q36: 3 | R36: 382 | S36: 5800 | T36: 369 | U36: 1800 | V36: rear wheel drive | W36: 8-speed shiftable automatic | X36: gas | Y36: premium unleaded (recommended) | Z36: 15.6 | AA36: 25 | AB36: 22/30 MPG | AC36: 343.2/468.0 mi. | AD36: Europe/Germany | AE36: Compact car | AF36: G20
B37: 401795591 | C37: BMW | D37: 3 Series | E37: 2020 | F37: M340i xDrive | G37: M340i xDrive 4dr Sedan AWD (3.0L 6cyl Turbo 8A) | H37: 56000 | I37: https://media.ed.edmunds-media.com/bmw/m340i/2020/fd/2020_bmw_m340i_f34_fd_1114181_815.jpg;https://media.ed.edmunds-media.com/bmw/3-series/2020/evox/2020_bmw_3-series_sedan_m340i_pr_evox_1_175.jpg;https://media.ed.edmunds-media.com/bmw/3-series/2020/oem/2020_bmw_3-series_sedan_330i_fq_oem_2_175.jpg;https://media.ed.edmunds-media.com/bmw/3-series/2020/oem/2020_bmw_3-series_sedan_330i_fq_oem_3_175.jpg;https://media.ed.edmunds-media.com/bmw/3-series/2020/oem/2020_bmw_3-series_sedan_330i_fq_oem_4_175.jpg; | J37: Sedan | K37: 185.7 | L37: 71.9 | M37: 56.7 | N37: 112.2 | O37: 3968 | P37: I6 | Q37: 3 | R37: 382 | S37: 5800 | T37: 369 | U37: 1800 | V37: all wheel drive | W37: 8-speed shiftable automatic | X37: gas | Y37: premium unleaded (recommended) | Z37: 15.6 | AA37: 25 | AB37: 22/30 MPG | AC37: 343.2/468.0 mi. | AD37: Europe/Germany | AE37: Compact car | AF37: G20
B38: 401729246 | C38: BMW | D38: 3 Series | E38: 2018 | F38: 320i | G38: 320i 4dr Sedan (2.0L 4cyl Turbo 8A) | H38: 34900 | I38: https://www.edmunds.com/assets/m/bmw/3-series/2018/oem/2018_bmw_3-series_sedan_330e-iperformance_fq_oem_1_815.jpg;https://media.ed.edmunds-media.com/bmw/3-series/2018/oem/2018_bmw_3-series_sedan_330e-iperformance_fq_oem_2_175.jpg;https://media.ed.edmunds-media.com/bmw/3-series/2018/oem/2018_bmw_3-series_sedan_330e-iperformance_fq_oem_3_175.jpg;https://media.ed.edmunds-media.com/bmw/3-series/2018/oem/2018_bmw_3-series_sedan_330e-iperformance_fq_oem_4_175.jpg;https://media.ed.edmunds-media.com/bmw/3-series/2018/oem/2018_bmw_3-series_sedan_330e-iperformance_fq_oem_5_175.jpg; | J38: Sedan | K38: 182.8 | L38: 71.3 | M38: 56.3 | N38: 110.6 | O38: 3370 | P38: I4 | Q38: 2 | R38: 180 | S38: 5000 | T38: 200 | U38: 1250 | V38: rear wheel drive | W38: 8-speed shiftable automatic | X38: gas | Y38: premium unleaded (recommended) | Z38: 15.8 | AA38: 28 | AB38: 24/35 MPG | AC38: 379.2/553.0 mi. | AD38: Europe/Germany | AE38: Compact car | AF38: F30, F31, F80
B39: 401729240 | C39: BMW | D39: 3 Series | E39: 2018 | F39: 320i xDrive | G39: 320i xDrive 4dr Sedan AWD (2.0L 4cyl Turbo 8A) | H39: 36900 | I39: https://www.edmunds.com/assets/m/bmw/3-series/2018/oem/2018_bmw_3-series_sedan_330e-iperformance_fq_oem_1_815.jpg;https://media.ed.edmunds-media.com/bmw/3-series/2018/oem/2018_bmw_3-series_sedan_330e-iperformance_fq_oem_2_175.jpg;https://media.ed.edmunds-media.com/bmw/3-series/2018/oem/2018_bmw_3-series_sedan_330e-iperformance_fq_oem_3_175.jpg;https://media.ed.edmunds-media.com/bmw/3-series/2018/oem/2018_bmw_3-series_sedan_330e-iperformance_fq_oem_4_175.jpg;https://media.ed.edmunds-media.com/bmw/3-series/2018/oem/2018_bmw_3-series_sedan_330e-iperformance_fq_oem_5_175.jpg; | J39: Sedan | K39: 182.8 | L39: 71.3 | M39: 56.5 | N39: 110.6 | O39: 3510 | P39: I4 | Q39: 2 | R39: 180 | S39: 5000 | T39: 200 | U39: 1250 | V39: all wheel drive | W39: 8-speed shiftable automatic | X39: gas | Y39: premium unleaded (recommended) | Z39: 15.8 | AA39: 27 | AB39: 23/34 MPG | AC39: 363.4/537.2 mi. | AD39: Europe/Germany | AE39: Compact car | AF39: F30, F31, F80
B40: 401729243 | C40: BMW | D40: 3 Series | E40: 2018 | F40: 330i | G40: 330i 4dr Sedan (2.0L 4cyl Turbo 8A) | H40: 40250 | I40: https://www.edmunds.com/assets/m/bmw/3-series/2018/oem/2018_bmw_3-series_sedan_330e-iperformance_fq_oem_1_815.jpg;https://media.ed.edmunds-media.com/bmw/3-series/2018/oem/2018_bmw_3-series_sedan_330e-iperformance_fq_oem_2_175.jpg;https://media.ed.edmunds-media.com/bmw/3-series/2018/oem/2018_bmw_3-series_sedan_330e-iperformance_fq_oem_3_175.jpg;https://media.ed.edmunds-media.com/bmw/3-series/2018/oem/2018_bmw_3-series_sedan_330e-iperformance_fq_oem_4_175.jpg;https://media.ed.edmunds-media.com/bmw/3-series/2018/oem/2018_bmw_3-series_sedan_330e-iperformance_fq_oem_5_175.jpg; | J40: Sedan | K40: 182.8 | L40: 71.3 | M40: 56.3 | N40: 110.6 | O40: 3541 | P40: I4 | Q40: 2 | R40: 248 | S40: 5200 | T40: 258 | U40: 1450 | V40: rear wheel drive | W40: 8-speed shiftable automatic | X40: gas | Y40: premium unleaded (recommended) | Z40: 15.8 | AA40: 27 | AB40: 23/34 MPG | AC40: 363.4/537.2 mi. | AD40: Europe/Germany | AE40: Compact car | AF40: F30, F31, F80
B41: 401729244 | C41: BMW | D41: 3 Series | E41: 2018 | F41: 330i xDrive | G41: 330i xDrive 4dr Sedan AWD (2.0L 4cyl Turbo 8A) | H41: 42250 | I41: https://www.edmunds.com/assets/m/bmw/3-series/2018/oem/2018_bmw_3-series_sedan_330e-iperformance_fq_oem_1_815.jpg;https://media.ed.edmunds-media.com/bmw/3-series/2018/oem/2018_bmw_3-series_sedan_330e-iperformance_fq_oem_2_175.jpg;https://media.ed.edmunds-media.com/bmw/3-series/2018/oem/2018_bmw_3-series_sedan_330e-iperformance_fq_oem_3_175.jpg;https://media.ed.edmunds-media.com/bmw/3-series/2018/oem/2018_bmw_3-series_sedan_330e-iperformance_fq_oem_4_175.jpg;https://media.ed.edmunds-media.com/bmw/3-series/2018/oem/2018_bmw_3-series_sedan_330e-iperformance_fq_oem_5_175.jpg; | J41: Sedan | K41: 182.8 | L41: 71.3 | M41: 56.5 | N41: 110.6 | O41: 3706 | P41: I4 | Q41: 2 | R41: 248 | S41: 5200 | T41: 258 | U41: 1450 | V41: all wheel drive | W41: 8-speed shiftable automatic | X41: gas | Y41: premium unleaded (recommended) | Z41: 15.8 | AA41: 27 | AB41: 23/33 MPG | AC41: 363.4/521.4 mi. | AD41: Europe/Germany | AE41: Compact car | AF41: F30, F31, F80
B42: 401729238 | C42: BMW | D42: 3 Series | E42: 2018 | F42: 340i | G42: 340i 4dr Sedan (3.0L 6cyl Turbo 8A) | H42: 48950 | I42: https://www.edmunds.com/assets/m/bmw/3-series/2018/oem/2018_bmw_3-series_sedan_330e-iperformance_fq_oem_1_815.jpg;https://media.ed.edmunds-media.com/bmw/3-series/2018/oem/2018_bmw_3-series_sedan_330e-iperformance_fq_oem_2_175.jpg;https://media.ed.edmunds-media.com/bmw/3-series/2018/oem/2018_bmw_3-series_sedan_330e-iperformance_fq_oem_3_175.jpg;https://media.ed.edmunds-media.com/bmw/3-series/2018/oem/2018_bmw_3-series_sedan_330e-iperformance_fq_oem_4_175.jpg;https://media.ed.edmunds-media.com/bmw/3-series/2018/oem/2018_bmw_3-series_sedan_330e-iperformance_fq_oem_5_175.jpg; | J42: Sedan | K42: 182.8 | L42: 71.3 | M42: 56.3 | N42: 110.6 | O42: 3695 | P42: I6 | Q42: 3 | R42: 320 | S42: 5500 | T42: 330 | U42: 1380 | V42: rear wheel drive | W42: 8-speed shiftable automatic | X42: gas | Y42: premium unleaded (recommended) | Z42: 15.8 | AA42: 25 | AB42: 21/32 MPG | AC42: 331.8/505.6 mi. | AD42: Europe/Germany | AE42: Compact car | AF42: F30, F31, F80
... B47: 401729237 | C47: BMW | D47: 3 Series | E47: 2018 | F47: 330i xDrive | G47: 330i xDrive 4dr Wagon AWD (2.0L 4cyl Turbo 8A) | H47: 44650 | I47: https://www.edmunds.com/assets/m/bmw/3-series/2018/oem/2018_bmw_3-series_sedan_330e-iperformance_fq_oem_1_815.jpg;https://media.ed.edmunds-media.com/bmw/3-series/2018/oem/2018_bmw_3-series_sedan_330e-iperformance_fq_oem_2_175.jpg;https://media.ed.edmunds-media.com/bmw/3-series/2018/oem/2018_bmw_3-series_sedan_330e-iperformance_fq_oem_3_175.jpg;https://media.ed.edmunds-media.com/bmw/3-series/2018/oem/2018_bmw_3-series_sedan_330e-iperformance_fq_oem_4_175.jpg;https://media.ed.edmunds-media.com/bmw/3-series/2018/oem/2018_bmw_3-series_sedan_330e-iperformance_fq_oem_5_175.jpg; | J47: Wagon | K47: 182.8 | L47: 71.3 | M47: 56.5 | N47: 110.6 | O47: 3867 | P47: I4 | Q47: 2 | R47: 248 | S47: 5200 | T47: 258 | U47: 1450 | V47: all wheel drive | W47: 8-speed shiftable automatic | X47: gas | Y47: premium unleaded (recommended) | Z47: 15.8 | AA47: 27 | AB47: 23/33 MPG | AC47: 363.4/521.4 mi. | AD47: Europe/Germany | AE47: Compact car | AF47: F30, F31, F80
B48: 401729245 | C48: BMW | D48: 3 Series | E48: 2018 | F48: 330e iPerformance | G48: 330e iPerformance 4dr Sedan (2.0L 4cyl Turbo gas/electric plug-in hybrid 8A) | H48: 45600 | I48: https://www.edmunds.com/assets/m/bmw/3-series/2018/oem/2018_bmw_3-series_sedan_330e-iperformance_fq_oem_1_815.jpg;https://media.ed.edmunds-media.com/bmw/3-series/2018/oem/2018_bmw_3-series_sedan_330e-iperformance_fq_oem_2_175.jpg;https://media.ed.edmunds-media.com/bmw/3-series/2018/oem/2018_bmw_3-series_sedan_330e-iperformance_fq_oem_3_175.jpg;https://media.ed.edmunds-media.com/bmw/3-series/2018/oem/2018_bmw_3-series_sedan_330e-iperformance_fq_oem_4_175.jpg;https://media.ed.edmunds-media.com/bmw/3-series/2018/oem/2018_bmw_3-series_sedan_330e-iperformance_fq_oem_5_175.jpg; | J48: Sedan | K48: 182.8 | L48: 71.3 | M48: 56.3 | N48: 110.6 | O48: 3900 | P48: I4 | Q48: 2 | R48: 248 | T48: 310 | V48: rear wheel drive | W48: 8-speed shiftable automatic | X48: plug-in hybrid | Y48: premium unleaded (recommended) | Z48: 10.8 | AA48: 30 | AB48: 28/24 MPG | AC48: 302.4/259.2 mi. | AD48: Europe/Germany | AE48: Compact car | AF48: F30, F31, F80
...

Sheet Statistics makes
B2: Total number of models, years and trims, by make and year
B3: Compiled in Excel by Teoalida © cardatabase.teoalida.com
B5: Make | C5: Country | D5: Coverage | E5: Models | F5: Model years | G5: Model trims | H5: Number of model trims by year
H6: 1990 | I6: 1991 | J6: 1992 | K6: 1993 | L6: 1994 | M6: 1995 | N6: 1996 | O6: 1997 | P6: 1998 | Q6: 1999 | R6: 2000 | S6: 2001 | T6: 2002 | U6: 2003 | V6: 2004 | W6: 2005 | X6: 2006 | Y6: 2007 | Z6: 2008 | AA6: 2009 | AB6: 2010 | AC6: 2011 | AD6: 2012 | AE6: 2013 | AF6: 2014 | AG6: 2015 | AH6: 2016 | AI6: 2017 | AJ6: 2018 | AK6: 2019 | AL6: 2020 | AM6: 2021 | AN6: 2022 | AO6: 2023 | AP6: 2024 | AQ6: 2025 | AR6: 2026 | AS6: 2027 | AT6: 2028 | AU6: 2029
B7: =COUNTA(B8:B75) -> 68 | C7: =COUNTA(C8:C75) -> 68 | D7: =COUNTIF(D8:D75,"*_") -> 48 | E7: =SUM(E8:E75) -> 1193 | F7: =SUM(F8:F75) -> 10518 | G7: =SUM(G8:G75) -> 71603 | H7: =SUM(H8:H75) -> 1203 | I7: =SUM(I8:I75) -> 1212 | J7: =SUM(J8:J75) -> 1176 | K7: =SUM(K8:K75) -> 1159 | L7: =SUM(L8:L75) -> 1091 | ... AU7: =SUM(AU8:AU75) -> 0
B8: Bugatti | C8: Europe/France | D8: 2006-2009 | E8: 1 | F8: 4 | G8: 6 | H8: 0 | I8: 0 | J8: 0 | K8: 0 | L8: 0 | M8: 0 | N8: 0 | O8: 0 | P8: 0 | Q8: 0 | R8: 0 | S8: 0 | T8: 0 | U8: 0 | V8: 0 | W8: 0 | X8: 1 | Y8: 1 | Z8: 2 | AA8: 2 | AB8: 0 | AC8: 0 | AD8: 0 | AE8: 0 | AF8: 0 | AG8: 0 | AH8: 0 | AI8: 0 | AJ8: 0 | AK8: 0 | AL8: 0 | AM8: 0 | AN8: 0 | AO8: 0 | AP8: 0 | AQ8: 0 | AR8: 0 | AS8: 0 | AT8: 0 | AU8: 0
B9: Audi | C9: Europe/Germany | D9: 1990-____ | E9: 51 | F9: 488 | G9: 1847 | H9: 11 | I9: 11 | J9: 9 | K9: 10 | L9: 11 | M9: 10 | N9: 7 | O9: 11 | P9: 13 | Q9: 11 | R9: 16 | S9: 22 | T9: 33 | U9: 30 | V9: 37 | W9: 57 | X9: 38 | Y9: 37 | Z9: 57 | AA9: 46 | AB9: 39 | AC9: 43 | AD9: 45 | AE9: 82 | AF9: 87 | AG9: 108 | AH9: 90 | AI9: 82 | AJ9: 119 | AK9: 87 | AL9: 96 | AM9: 106 | AN9: 127 | AO9: 127 | AP9: 125 | AQ9: 7 | AR9: 0 | AS9: 0 | AT9: 0 | AU9: 0
B10: BMW | C10: Europe/Germany | D10: 1990-____ | E10: 40 | F10: 403 | G10: 1777 | H10: 12 | I10: 16 | J10: 14 | K10: 13 | L10: 17 | M10: 19 | N10: 14 | O10: 18 | P10: 18 | Q10: 21 | R10: 23 | S10: 32 | T10: 30 | U10: 31 | V10: 29 | W10: 28 | X10: 34 | Y10: 34 | Z10: 44 | AA10: 41 | AB10: 50 | AC10: 60 | AD10: 63 | AE10: 78 | AF10: 88 | AG10: 114 | AH10: 97 | AI10: 89 | AJ10: 88 | AK10: 79 | AL10: 98 | AM10: 82 | AN10: 84 | AO10: 87 | AP10: 91 | AQ10: 41 | AR10: 0 | AS10: 0 | AT10: 0 | AU10: 0
B11: Maybach | C11: Europe/Germany | D11: 2004-2012 | E11: 1 | F11: 22 | G11: 37 | H11: 0 | I11: 0 | J11: 0 | K11: 0 | L11: 0 | M11: 0 | N11: 0 | O11: 0 | P11: 0 | Q11: 0 | R11: 0 | S11: 0 | T11: 0 | U11: 0 | V11: 2 | W11: 2 | X11: 3 | Y11: 4 | Z11: 4 | AA11: 5 | AB11: 7 | AC11: 5 | AD11: 5 | AE11: 0 | AF11: 0 | AG11: 0 | AH11: 0 | AI11: 0 | AJ11: 0 | AK11: 0 | AL11: 0 | AM11: 0 | AN11: 0 | AO11: 0 | AP11: 0 | AQ11: 0 | AR11: 0 | AS11: 0 | AT11: 0 | AU11: 0
B12: Mercedes-Benz | C12: Europe/Germany | D12: 1990-____ | E12: 47 | F12: 421 | G12: 2199 | H12: 17 | I12: 18 | J12: 18 | K12: 22 | L12: 18 | M12: 20 | N12: 15 | O12: 17 | P12: 23 | Q12: 26 | R12: 23 | S12: 28 | T12: 34 | U12: 44 | V12: 46 | W12: 50 | X12: 50 | Y12: 47 | Z12: 54 | AA12: 50 | AB12: 53 | AC12: 60 | AD12: 70 | AE12: 73 | AF12: 78 | AG12: 88 | AH12: 91 | AI12: 131 | AJ12: 124 | AK12: 141 | AL12: 133 | AM12: 149 | AN12: 131 | AO12: 149 | AP12: 108 | AQ12: 0 | AR12: 0 | AS12: 0 | AT12: 0 | AU12: 0
B13: Mini | C13: Europe/Germany | D13: 2002-____ | E13: 11 | F13: 81 | G13: 327 | H13: 0 | I13: 0 | J13: 0 | K13: 0 | L13: 0 | M13: 0 | N13: 0 | O13: 0 | P13: 0 | Q13: 0 | R13: 0 | S13: 0 | T13: 2 | U13: 2 | V13: 2 | W13: 4 | X13: 5 | Y13: 4 | Z13: 6 | AA13: 9 | AB13: 9 | AC13: 12 | AD13: 18 | AE13: 23 | AF13: 22 | AG13: 22 | AH13: 17 | AI13: 17 | AJ13: 19 | AK13: 19 | AL13: 18 | AM13: 23 | AN13: 22 | AO13: 35 | AP13: 17 | AQ13: 0 | AR13: 0 | AS13: 0 | AT13: 0 | AU13: 0
B14: Porsche | C14: Europe/Germany | D14: 1990-____ | E14: 11 | F14: 154 | G14: 1092 | H14: 9 | I14: 10 | J14: 10 | K14: 11 | L14: 14 | M14: 7 | N14: 7 | O14: 8 | P14: 6 | Q14: 5 | R14: 6 | S14: 12 | T14: 15 | U14: 17 | V14: 18 | W14: 18 | X14: 18 | Y14: 16 | Z14: 29 | AA14: 23 | AB14: 29 | AC14: 35 | AD14: 44 | AE14: 31 | AF14: 40 | AG14: 47 | AH14: 56 | AI14: 45 | AJ14: 59 | AK14: 54 | AL14: 54 | AM14: 71 | AN14: 90 | AO14: 94 | AP14: 65 | AQ14: 19 | AR14: 0 | AS14: 0 | AT14: 0 | AU14: 0
B15: Smart | C15: Europe/Germany | D15: 2008-2019 | E15: 2 | F15: 12 | G15: 61 | H15: 0 | I15: 0 | J15: 0 | K15: 0 | L15: 0 | M15: 0 | N15: 0 | O15: 0 | P15: 0 | Q15: 0 | R15: 0 | S15: 0 | T15: 0 | U15: 0 | V15: 0 | W15: 0 | X15: 0 | Y15: 0 | Z15: 3 | AA15: 5 | AB15: 5 | AC15: 3 | AD15: 3 | AE15: 5 | AF15: 5 | AG15: 5 | AH15: 5 | AI15: 12 | AJ15: 5 | AK15: 5 | AL15: 0 | AM15: 0 | AN15: 0 | AO15: 0 | AP15: 0 | AQ15: 0 | AR15: 0 | AS15: 0 | AT15: 0 | AU15: 0
B16: Volkswagen | C16: Europe/Germany | D16: 1990-____ | E16: 35 | F16: 317 | G16: 2991 | H16: 26 | I16: 23 | J16: 18 | K16: 15 | L16: 10 | M16: 18 | N16: 17 | O16: 22 | P16: 20 | Q16: 34 | R16: 34 | S16: 84 | T16: 85 | U16: 91 | V16: 87 | W16: 89 | X16: 55 | Y16: 65 | Z16: 85 | AA16: 89 | AB16: 106 | AC16: 125 | AD16: 239 | AE16: 324 | AF16: 240 | AG16: 223 | AH16: 147 | AI16: 81 | AJ16: 75 | AK16: 97 | AL16: 84 | AM16: 94 | AN16: 63 | AO16: 73 | AP16: 53 | AQ16: 0 | AR16: 0 | AS16: 0 | AT16: 0 | AU16: 0
B17: Alfa Romeo | C17: Europe/Italy | D17: 2015-____ | E17: 4 | F17: 22 | G17: 138 | H17: 0 | I17: 0 | J17: 0 | K17: 0 | L17: 0 | M17: 0 | N17: 0 | O17: 0 | P17: 0 | Q17: 0 | R17: 0 | S17: 0 | T17: 0 | U17: 0 | V17: 0 | W17: 0 | X17: 0 | Y17: 0 | Z17: 0 | AA17: 0 | AB17: 0 | AC17: 0 | AD17: 0 | AE17: 0 | AF17: 0 | AG17: 3 | AH17: 2 | AI17: 6 | AJ17: 19 | AK17: 22 | AL17: 23 | AM17: 12 | AN17: 12 | AO17: 16 | AP17: 23 | AQ17: 0 | AR17: 0 | AS17: 0 | AT17: 0 | AU17: 0
B18: Ferrari | C18: Europe/Italy | D18: 2001-____ | E18: 17 | F18: 65 | G18: 116 | H18: 0 | I18: 0 | J18: 0 | K18: 0 | L18: 0 | M18: 0 | N18: 0 | O18: 0 | P18: 0 | Q18: 0 | R18: 0 | S18: 8 | T18: 8 | U18: 9 | V18: 7 | W18: 8 | X18: 7 | Y18: 9 | Z18: 8 | AA18: 9 | AB18: 4 | AC18: 5 | AD18: 4 | AE18: 5 | AF18: 6 | AG18: 6 | AH18: 4 | AI18: 2 | AJ18: 4 | AK18: 3 | AL18: 0 | AM18: 0 | AN18: 0 | AO18: 0 | AP18: 0 | AQ18: 0 | AR18: 0 | AS18: 0 | AT18: 0 | AU18: 0
B19: Fiat | C19: Europe/Italy | D19: 2012-____ | E19: 4 | F19: 35 | G19: 160 | H19: 0 | I19: 0 | J19: 0 | K19: 0 | L19: 0 | M19: 0 | N19: 0 | O19: 0 | P19: 0 | Q19: 0 | R19: 0 | S19: 0 | T19: 0 | U19: 0 | V19: 0 | W19: 0 | X19: 0 | Y19: 0 | Z19: 0 | AA19: 0 | AB19: 0 | AC19: 0 | AD19: 6 | AE19: 9 | AF19: 14 | AG19: 17 | AH19: 26 | AI19: 19 | AJ19: 21 | AK19: 22 | AL19: 12 | AM19: 4 | AN19: 5 | AO19: 2 | AP19: 3 | AQ19: 0 | AR19: 0 | AS19: 0 | AT19: 0 | AU19: 0
... B33: Toyota | C33: Asia/Japan | D33: 1990-____ | E33: 54 | F33: 627 | G33: 4565 | H33: 47 | I33: 49 | J33: 50 | K33: 52 | L33: 55 | M33: 71 | N33: 58 | O33: 53 | P33: 52 | Q33: 44 | R33: 58 | S33: 83 | T33: 87 | U33: 109 | V33: 124 | W33: 123 | X33: 132 | Y33: 155 | Z33: 162 | AA33: 166 | AB33: 153 | AC33: 140 | AD33: 155 | AE33: 159 | AF33: 184 | AG33: 173 | AH33: 192 | AI33: 208 | AJ33: 206 | AK33: 182 | AL33: 197 | AM33: 194 | AN33: 224 | AO33: 227 | AP33: 229 | AQ33: 12 | AR33: 0 | AS33: 0 | AT33: 0 | AU33: 0
B34: Spyker | C34: Europe/Netherlands | D34: 2009 | E34: 1 | F34: 1 | G34: 4 | H34: 0 | I34: 0 | J34: 0 | K34: 0 | L34: 0 | M34: 0 | N34: 0 | O34: 0 | P34: 0 | Q34: 0 | R34: 0 | S34: 0 | T34: 0 | U34: 0 | V34: 0 | W34: 0 | X34: 0 | Y34: 0 | Z34: 0 | AA34: 4 | AB34: 0 | AC34: 0 | AD34: 0 | AE34: 0 | AF34: 0 | AG34: 0 | AH34: 0 | AI34: 0 | AJ34: 0 | AK34: 0 | AL34: 0 | AM34: 0 | AN34: 0 | AO34: 0 | AP34: 0 | AQ34: 0 | AR34: 0 | AS34: 0 | AT34: 0 | AU34: 0
B35: Daewoo | C35: Asia/South Korea | D35: 1999-2002 | E35: 3 | F35: 12 | G35: 44 | H35: 0 | I35: 0 | J35: 0 | K35: 0 | L35: 0 | M35: 0 | N35: 0 | O35: 0 | P35: 0 | Q35: 15 | R35: 10 | S35: 12 | T35: 7 | U35: 0 | V35: 0 | W35: 0 | X35: 0 | Y35: 0 | Z35: 0 | AA35: 0 | AB35: 0 | AC35: 0 | AD35: 0 | AE35: 0 | AF35: 0 | AG35: 0 | AH35: 0 | AI35: 0 | AJ35: 0 | AK35: 0 | AL35: 0 | AM35: 0 | AN35: 0 | AO35: 0 | AP35: 0 | AQ35: 0 | AR35: 0 | AS35: 0 | AT35: 0 | AU35: 0
B36: Genesis | C36: Asia/South Korea | D36: 2017-____ | E36: 8 | F36: 38 | G36: 145 | H36: 0 | I36: 0 | J36: 0 | K36: 0 | L36: 0 | M36: 0 | N36: 0 | O36: 0 | P36: 0 | Q36: 0 | R36: 0 | S36: 0 | T36: 0 | U36: 0 | V36: 0 | W36: 0 | X36: 0 | Y36: 0 | Z36: 0 | AA36: 0 | AB36: 0 | AC36: 0 | AD36: 0 | AE36: 0 | AF36: 0 | AG36: 0 | AH36: 0 | AI36: 7 | AJ36: 10 | AK36: 19 | AL36: 15 | AM36: 17 | AN36: 28 | AO36: 18 | AP36: 18 | AQ36: 13 | AR36: 0 | AS36: 0 | AT36: 0 | AU36: 0
B37: Hyundai | C37: Asia/South Korea | D37: 1990-____ | E37: 41 | F37: 317 | G37: 1750 | H37: 10 | I37: 13 | J37: 10 | K37: 11 | L37: 12 | M37: 13 | N37: 12 | O37: 13 | P37: 14 | Q37: 11 | R37: 8 | S37: 27 | T37: 23 | U37: 36 | V37: 35 | W37: 44 | X37: 40 | Y37: 77 | Z37: 62 | AA37: 48 | AB37: 66 | AC37: 67 | AD37: 72 | AE37: 84 | AF37: 81 | AG37: 69 | AH37: 71 | AI37: 78 | AJ37: 87 | AK37: 91 | AL37: 83 | AM37: 88 | AN37: 102 | AO37: 102 | AP37: 89 | AQ37: 1 | AR37: 0 | AS37: 0 | AT37: 0 | AU37: 0
B38: Kia | C38: Asia/South Korea | D38: 1994-____ | E38: 31 | F38: 258 | G38: 1361 | H38: 0 | I38: 0 | J38: 0 | K38: 0 | L38: 3 | M38: 9 | N38: 7 | O38: 7 | P38: 6 | Q38: 8 | R38: 10 | S38: 26 | T38: 26 | U38: 22 | V38: 30 | W38: 33 | X38: 38 | Y38: 40 | Z38: 43 | AA38: 53 | AB38: 42 | AC38: 48 | AD38: 50 | AE38: 47 | AF38: 49 | AG38: 56 | AH38: 63 | AI38: 63 | AJ38: 78 | AK38: 71 | AL38: 75 | AM38: 79 | AN38: 86 | AO38: 92 | AP38: 91 | AQ38: 10 | AR38: 0 | AS38: 0 | AT38: 0 | AU38: 0
B39: Polestar | C39: Europe/Sweden | D39: 2020-____ | E39: 0 | F39: 6 | G39: 12 | H39: 0 | I39: 0 | J39: 0 | K39: 0 | L39: 0 | M39: 0 | N39: 0 | O39: 0 | P39: 0 | Q39: 0 | R39: 0 | S39: 0 | T39: 0 | U39: 0 | V39: 0 | W39: 0 | X39: 0 | Y39: 0 | Z39: 0 | AA39: 0 | AB39: 0 | AC39: 0 | AD39: 0 | AE39: 0 | AF39: 0 | AG39: 0 | AH39: 0 | AI39: 0 | AJ39: 0 | AK39: 0 | AL39: 1 | AM39: 2 | AN39: 2 | AO39: 2 | AP39: 5 | AQ39: 0 | AR39: 0 | AS39: 0 | AT39: 0 | AU39: 0
B40: Saab | C40: Europe/Sweden | D40: 1990-2011 | E40: 6 | F40: 53 | G40: 315 | H40: 12 | I40: 14 | J40: 13 | K40: 17 | L40: 15 | M40: 12 | N40: 12 | O40: 16 | P40: 7 | Q40: 13 | R40: 15 | S40: 13 | T40: 11 | U40: 10 | V40: 10 | W40: 15 | X40: 14 | Y40: 12 | Z40: 15 | AA40: 23 | AB40: 10 | AC40: 18 | AD40: 18 | AE40: 0 | AF40: 0 | AG40: 0 | AH40: 0 | AI40: 0 | AJ40: 0 | AK40: 0 | AL40: 0 | AM40: 0 | AN40: 0 | AO40: 0 | AP40: 0 | AQ40: 0 | AR40: 0 | AS40: 0 | AT40: 0 | AU40: 0
B41: Volvo | C41: Europe/Sweden | D41: 1990-____ | E41: 23 | F41: 237 | G41: 1015 | H41: 17 | I41: 16 | J41: 12 | K41: 12 | L41: 12 | M41: 14 | N41: 12 | O41: 12 | P41: 15 | Q41: 15 | R41: 20 | S41: 18 | T41: 18 | U41: 19 | V41: 27 | W41: 24 | X41: 22 | Y41: 20 | Z41: 23 | AA41: 24 | AB41: 21 | AC41: 19 | AD41: 15 | AE41: 15 | AF41: 12 | AG41: 59 | AH41: 70 | AI41: 32 | AJ41: 41 | AK41: 49 | AL41: 57 | AM41: 63 | AN41: 72 | AO41: 78 | AP41: 60 | AQ41: 0 | AR41: 0 | AS41: 0 | AT41: 0 | AU41: 0
B42: Aston Martin | C42: United Kingdom | D42: 2001-____ | E42: 19 | F42: 76 | G42: 236 | H42: 0 | I42: 0 | J42: 0 | K42: 0 | L42: 0 | M42: 0 | N42: 0 | O42: 0 | P42: 0 | Q42: 0 | R42: 0 | S42: 2 | T42: 3 | U42: 5 | V42: 1 | W42: 6 | X42: 5 | Y42: 6 | Z42: 9 | AA42: 10 | AB42: 13 | AC42: 23 | AD42: 38 | AE42: 10 | AF42: 13 | AG42: 20 | AH42: 22 | AI42: 8 | AJ42: 4 | AK42: 7 | AL42: 8 | AM42: 9 | AN42: 9 | AO42: 3 | AP42: 1 | AQ42: 1 | AR42: 0 | AS42: 0 | AT42: 0 | AU42: 0
B43: Bentley | C43: United Kingdom | D43: 2001-____ | E43: 19 | F43: 106 | G43: 277 | H43: 0 | I43: 0 | J43: 0 | K43: 0 | L43: 0 | M43: 0 | N43: 0 | O43: 0 | P43: 0 | Q43: 0 | R43: 0 | S43: 7 | T43: 9 | U43: 7 | V43: 4 | W43: 4 | X43: 6 | Y43: 7 | Z43: 8 | AA43: 11 | AB43: 9 | AC43: 7 | AD43: 7 | AE43: 9 | AF43: 10 | AG43: 12 | AH43: 12 | AI43: 18 | AJ43: 14 | AK43: 5 | AL43: 10 | AM43: 13 | AN43: 15 | AO43: 32 | AP43: 41 | AQ43: 0 | AR43: 0 | AS43: 0 | AT43: 0 | AU43: 0
B44: INEOS | C44: United Kingdom | D44: 2024-____ | E44: 1 | F44: 1 | G44: 3 | H44: 0 | I44: 0 | J44: 0 | K44: 0 | L44: 0 | M44: 0 | N44: 0 | O44: 0 | P44: 0 | Q44: 0 | R44: 0 | S44: 0 | T44: 0 | U44: 0 | V44: 0 | W44: 0 | X44: 0 | Y44: 0 | Z44: 0 | AA44: 0 | AB44: 0 | AC44: 0 | AD44: 0 | AE44: 0 | AF44: 0 | AG44: 0 | AH44: 0 | AI44: 0 | AJ44: 0 | AK44: 0 | AL44: 0 | AM44: 0 | AN44: 0 | AO44: 0 | AP44: 3 | AQ44: 0 | AR44: 0 | AS44: 0 | AT44: 0 | AU44: 0
B45: Jaguar | C45: United Kingdom | D45: 1990-____ | E45: 10 | F45: 116 | G45: 767 | H45: 7 | I45: 5 | J45: 6 | K45: 5 | L45: 7 | M45: 8 | N45: 5 | O45: 6 | P45: 6 | Q45: 6 | R45: 11 | S45: 13 | T45: 16 | U45: 14 | V45: 12 | W45: 16 | X45: 15 | Y45: 14 | Z45: 14 | AA45: 13 | AB45: 8 | AC45: 15 | AD45: 16 | AE45: 23 | AF45: 26 | AG45: 28 | AH45: 29 | AI45: 75 | AJ45: 124 | AK45: 106 | AL45: 50 | AM45: 19 | AN45: 18 | AO45: 15 | AP45: 13 | AQ45: 3 | AR45: 0 | AS45: 0 | AT45: 0 | AU45: 0
B46: Land Rover | C46: United Kingdom | D46: 1990-____ | E46: 11 | F46: 136 | G46: 672 | H46: 2 | I46: 3 | J46: 3 | K46: 3 | L46: 4 | M46: 5 | N46: 5 | O46: 9 | P46: 6 | Q46: 6 | R46: 5 | S46: 5 | T46: 6 | U46: 8 | V46: 7 | W46: 6 | X46: 7 | Y46: 7 | Z46: 8 | AA46: 6 | AB46: 6 | AC46: 6 | AD46: 8 | AE46: 24 | AF46: 38 | AG46: 40 | AH46: 32 | AI46: 36 | AJ46: 51 | AK46: 52 | AL46: 54 | AM46: 53 | AN46: 61 | AO46: 54 | AP46: 46 | AQ46: 0 | AR46: 0 | AS46: 0 | AT46: 0 | AU46: 0
... B56: Eagle | C56: America/United States | D56: 1990-1997 | E56: 4 | F56: 24 | G56: 97 | H56: 11 | I56: 10 | J56: 13 | K56: 13 | L56: 15 | M56: 12 | N56: 13 | O56: 6 | P56: 4 | Q56: 0 | R56: 0 | S56: 0 | T56: 0 | U56: 0 | V56: 0 | W56: 0 | X56: 0 | Y56: 0 | Z56: 0 | AA56: 0 | AB56: 0 | AC56: 0 | AD56: 0 | AE56: 0 | AF56: 0 | AG56: 0 | AH56: 0 | AI56: 0 | AJ56: 0 | AK56: 0 | AL56: 0 | AM56: 0 | AN56: 0 | AO56: 0 | AP56: 0 | AQ56: 0 | AR56: 0 | AS56: 0 | AT56: 0 | AU56: 0
B57: Fisker | C57: America/United States | D57: 2012 | E57: 2 | F57: 3 | G57: 9 | H57: 0 | I57: 0 | J57: 0 | K57: 0 | L57: 0 | M57: 0 | N57: 0 | O57: 0 | P57: 0 | Q57: 0 | R57: 0 | S57: 0 | T57: 0 | U57: 0 | V57: 0 | W57: 0 | X57: 0 | Y57: 0 | Z57: 0 | AA57: 0 | AB57: 0 | AC57: 0 | AD57: 3 | AE57: 0 | AF57: 0 | AG57: 0 | AH57: 0 | AI57: 0 | AJ57: 0 | AK57: 0 | AL57: 0 | AM57: 0 | AN57: 0 | AO57: 3 | AP57: 3 | AQ57: 0 | AR57: 0 | AS57: 0 | AT57: 0 | AU57: 0
B58: Ford | C58: America/United States | D58: 1990-____ | E58: 70 | F58: 699 | G58: 9000 | H58: 168 | I58: 161 | J58: 170 | K58: 160 | L58: 160 | M58: 159 | N58: 169 | O58: 181 | P58: 142 | Q58: 199 | R58: 183 | S58: 229 | T58: 288 | U58: 328 | V58: 317 | W58: 289 | X58: 271 | Y58: 283 | Z58: 310 | AA58: 297 | AB58: 252 | AC58: 254 | AD58: 245 | AE58: 249 | AF58: 262 | AG58: 286 | AH58: 288 | AI58: 305 | AJ58: 315 | AK58: 317 | AL58: 355 | AM58: 384 | AN58: 386 | AO58: 362 | AP58: 268 | AQ58: 8 | AR58: 0 | AS58: 0 | AT58: 0 | AU58: 0
B59: Geo | C59: America/United States | D59: 1990-1997 | E59: 4 | F59: 28 | G59: 112 | H59: 16 | I59: 18 | J59: 17 | K59: 15 | L59: 10 | M59: 11 | N59: 14 | O59: 11 | P59: 0 | Q59: 0 | R59: 0 | S59: 0 | T59: 0 | U59: 0 | V59: 0 | W59: 0 | X59: 0 | Y59: 0 | Z59: 0 | AA59: 0 | AB59: 0 | AC59: 0 | AD59: 0 | AE59: 0 | AF59: 0 | AG59: 0 | AH59: 0 | AI59: 0 | AJ59: 0 | AK59: 0 | AL59: 0 | AM59: 0 | AN59: 0 | AO59: 0 | AP59: 0 | AQ59: 0 | AR59: 0 | AS59: 0 | AT59: 0 | AU59: 0
B60: GMC | C60: America/United States | D60: 1990-____ | E60: 41 | F60: 415 | G60: 5537 | H60: 123 | I60: 125 | J60: 133 | K60: 138 | L60: 131 | M60: 131 | N60: 154 | O60: 151 | P60: 139 | Q60: 166 | R60: 158 | S60: 117 | T60: 120 | U60: 101 | V60: 172 | W60: 174 | X60: 199 | Y60: 319 | Z60: 175 | AA60: 171 | AB60: 160 | AC60: 178 | AD60: 178 | AE60: 166 | AF60: 127 | AG60: 172 | AH60: 171 | AI60: 169 | AJ60: 170 | AK60: 153 | AL60: 165 | AM60: 151 | AN60: 181 | AO60: 148 | AP60: 151 | AQ60: 0 | AR60: 0 | AS60: 0 | AT60: 0 | AU60: 0
B61: Hummer | C61: America/United States | D61: 2001-2010 | E61: 6 | F61: 24 | G61: 45 | H61: 0 | I61: 0 | J61: 0 | K61: 0 | L61: 0 | M61: 0 | N61: 0 | O61: 0 | P61: 0 | Q61: 0 | R61: 0 | S61: 4 | T61: 3 | U61: 3 | V61: 3 | W61: 2 | X61: 5 | Y61: 4 | Z61: 5 | AA61: 7 | AB61: 9 | AC61: 0 | AD61: 0 | AE61: 0 | AF61: 0 | AG61: 0 | AH61: 0 | AI61: 0 | AJ61: 0 | AK61: 0 | AL61: 0 | AM61: 0 | AN61: 0 | AO61: 0 | AP61: 0 | AQ61: 0 | AR61: 0 | AS61: 0 | AT61: 0 | AU61: 0
B62: Jeep | C62: America/United States | D62: 1990-____ | E62: 19 | F62: 177 | G62: 1551 | H62: 31 | I62: 31 | J62: 33 | K62: 22 | L62: 22 | M62: 21 | N62: 15 | O62: 20 | P62: 24 | Q62: 19 | R62: 19 | S62: 19 | T62: 21 | U62: 16 | V62: 37 | W62: 16 | X62: 23 | Y62: 33 | Z62: 33 | AA62: 33 | AB62: 35 | AC62: 28 | AD62: 32 | AE62: 26 | AF62: 35 | AG62: 66 | AH62: 79 | AI62: 95 | AJ62: 76 | AK62: 70 | AL62: 99 | AM62: 112 | AN62: 105 | AO62: 116 | AP62: 89 | AQ62: 0 | AR62: 0 | AS62: 0 | AT62: 0 | AU62: 0
B63: Karma | C63: America/United States | D63: 2021-____ | E63: 2 | F63: 3 | G63: 7 | H63: 0 | I63: 0 | J63: 0 | K63: 0 | L63: 0 | M63: 0 | N63: 0 | O63: 0 | P63: 0 | Q63: 0 | R63: 0 | S63: 0 | T63: 0 | U63: 0 | V63: 0 | W63: 0 | X63: 0 | Y63: 0 | Z63: 0 | AA63: 0 | AB63: 0 | AC63: 0 | AD63: 0 | AE63: 0 | AF63: 0 | AG63: 0 | AH63: 0 | AI63: 0 | AJ63: 0 | AK63: 0 | AL63: 0 | AM63: 5 | AN63: 2 | AO63: 0 | AP63: 0 | AQ63: 0 | AR63: 0 | AS63: 0 | AT63: 0 | AU63: 0
B64: Lincoln | C64: America/United States | D64: 1990-____ | E64: 18 | F64: 159 | G64: 635 | H64: 7 | I64: 7 | J64: 7 | K64: 6 | L64: 6 | M64: 6 | N64: 6 | O64: 6 | P64: 8 | Q64: 6 | R64: 10 | S64: 10 | T64: 26 | U64: 20 | V64: 16 | W64: 17 | X64: 12 | Y64: 18 | Z64: 14 | AA64: 12 | AB64: 16 | AC64: 19 | AD64: 14 | AE64: 14 | AF64: 14 | AG64: 21 | AH64: 35 | AI64: 46 | AJ64: 48 | AK64: 45 | AL64: 38 | AM64: 27 | AN64: 27 | AO64: 27 | AP64: 19 | AQ64: 5 | AR64: 0 | AS64: 0 | AT64: 0 | AU64: 0
...

Sheet Statistics years
B2: Year | D2: 1990 | E2: 1991 | F2: 1992 | G2: 1993 | H2: 1994 | I2: 1995 | J2: 1996 | K2: 1997 | L2: 1998 | M2: 1999 | N2: 2000 | O2: 2001 | P2: 2002 | Q2: 2003 | R2: 2004 | S2: 2005 | T2: 2006 | U2: 2007 | V2: 2008 | W2: 2009 | X2: 2010 | Y2: 2011 | Z2: 2012 | AA2: 2013 | AB2: 2014 | AC2: 2015 | AD2: 2016 | AE2: 2017 | AF2: 2018 | AG2: 2019 | AH2: 2020 | AI2: 2021 | AJ2: 2022 | AK2: 2023 | AL2: 2024 | AM2: 2025 | AN2: 2026 | AO2: 2027 | AP2: 2028 | AQ2: 2029
B3: Model years | C3: =SUM(D3:AQ3) -> #REF! | D3: =COUNTIF(DATABASE!#REF!,D2) -> #REF! | E3: =COUNTIF(DATABASE!#REF!,E2) -> #REF! | F3: =COUNTIF(DATABASE!#REF!,F2) -> #REF! | G3: =COUNTIF(DATABASE!#REF!,G2) -> #REF! | H3: =COUNTIF(DATABASE!#REF!,H2) -> #REF! | I3: =COUNTIF(DATABASE!#REF!,I2) -> #REF! | J3: =COUNTIF(DATABASE!#REF!,J2) -> #REF! | K3: =COUNTIF(DATABASE!#REF!,K2) -> #REF! | ... AQ3: =COUNTIF(DATABASE!#REF!,AQ2) -> #REF!
B4: Model trims | C4: =SUM(D4:AQ4) -> 629 | D4: =COUNTIF(DATABASE!$E:$E,D2) -> 33 | E4: =COUNTIF(DATABASE!$E:$E,E2) -> 0 | F4: =COUNTIF(DATABASE!$E:$E,F2) -> 6 | G4: =COUNTIF(DATABASE!$E:$E,G2) -> 0 | H4: =COUNTIF(DATABASE!$E:$E,H2) -> 6 | I4: =COUNTIF(DATABASE!$E:$E,I2) -> 43 | J4: =COUNTIF(DATABASE!$E:$E,J2) -> 8 | K4: =COUNTIF(DATABASE!$E:$E,K2) -> 0 | ... AQ4: =COUNTIF(DATABASE!$E:$E,AQ2) -> 0
B6: Total number of vehicles by year, at each update
B7: Compiled in Excel by Teoalida © cardatabase.teoalida.com
B9: 42248 | C9: =SUM(D9:AQ9) -> 46813 | D9: 1201 | E9: 1204 | F9: 1170 | G9: 1150 | H9: 1091 | I9: 1109 | J9: 1095 | K9: 1118 | L9: 1075 | M9: 1238 | N9: 1239 | O9: 1518 | P9: 1658 | Q9: 1696 | R9: 1988 | S9: 1982 | T9: 2017 | U9: 2374 | V9: 2387 | W9: 2234 | X9: 2089 | Y9: 2174 | Z9: 2370 | AA9: 2487 | AB9: 2433 | AC9: 2745 | AD9: 1971 | AE9: 0 | AF9: 0 | AG9: 0 | AH9: 0 | AI9: 0 | AJ9: 0 | AK9: 0 | AL9: 0 | AS9: Recreated database using import.io (previously I had database made by someone else in March 2014, which I could not update)
B10: 42491 | C10: =SUM(D10:AQ10) -> 47860 | D10: 1201 | E10: 1205 | F10: 1170 | G10: 1150 | H10: 1091 | I10: 1109 | J10: 1095 | K10: 1118 | L10: 1075 | M10: 1238 | N10: 1239 | O10: 1520 | P10: 1658 | Q10: 1696 | R10: 1992 | S10: 1982 | T10: 2017 | U10: 2374 | V10: 2387 | W10: 2234 | X10: 2089 | Y10: 2174 | Z10: 2370 | AA10: 2485 | AB10: 2432 | AC10: 2801 | AD10: 2679 | AE10: 279 | AF10: 0 | AG10: 0 | AH10: 0 | AI10: 0 | AJ10: 0 | AK10: 0 | AL10: 0
B11: 42614 | C11: =SUM(D11:AQ11) -> 49078 | D11: 1201 | E11: 1205 | F11: 1170 | G11: 1150 | H11: 1091 | I11: 1109 | J11: 1095 | K11: 1118 | L11: 1075 | M11: 1238 | N11: 1239 | O11: 1520 | P11: 1658 | Q11: 1696 | R11: 1992 | S11: 1982 | T11: 2017 | U11: 2374 | V11: 2387 | W11: 2234 | X11: 2089 | Y11: 2176 | Z11: 2372 | AA11: 2491 | AB11: 2438 | AC11: 2836 | AD11: 2755 | AE11: 1370 | AF11: 0 | AG11: 0 | AH11: 0 | AI11: 0 | AJ11: 0 | AK11: 0 | AL11: 0
B12: 42795 | C12: =SUM(D12:AQ12) -> 50468 | D12: 1201 | E12: 1205 | F12: 1170 | G12: 1150 | H12: 1091 | I12: 1109 | J12: 1095 | K12: 1118 | L12: 1075 | M12: 1238 | N12: 1239 | O12: 1520 | P12: 1658 | Q12: 1696 | R12: 1992 | S12: 1982 | T12: 2017 | U12: 2374 | V12: 2387 | W12: 2234 | X12: 2089 | Y12: 2176 | Z12: 2372 | AA12: 2491 | AB12: 2439 | AC12: 2839 | AD12: 2806 | AE12: 2705 | AF12: 0 | AG12: 0 | AH12: 0 | AI12: 0 | AJ12: 0 | AK12: 0 | AL12: 0
B13: 42880 | C13: =SUM(D13:AQ13) -> 50772 | D13: 1201 | E13: 1205 | F13: 1170 | G13: 1150 | H13: 1091 | I13: 1109 | J13: 1095 | K13: 1118 | L13: 1075 | M13: 1238 | N13: 1239 | O13: 1520 | P13: 1658 | Q13: 1696 | R13: 1992 | S13: 1982 | T13: 2017 | U13: 2374 | V13: 2387 | W13: 2234 | X13: 2089 | Y13: 2176 | Z13: 2372 | AA13: 2491 | AB13: 2439 | AC13: 2839 | AD13: 2804 | AE13: 2716 | AF13: 295 | AG13: 0 | AH13: 0 | AI13: 0 | AJ13: 0 | AK13: 0 | AL13: 0
B14: 42961 | C14: =SUM(D14:AQ14) -> 51716 | D14: 1201 | E14: 1205 | F14: 1170 | G14: 1149 | H14: 1091 | I14: 1109 | J14: 1095 | K14: 1118 | L14: 1075 | M14: 1238 | N14: 1239 | O14: 1520 | P14: 1658 | Q14: 1696 | R14: 1992 | S14: 1982 | T14: 2017 | U14: 2373 | V14: 2387 | W14: 2234 | X14: 2089 | Y14: 2176 | Z14: 2372 | AA14: 2491 | AB14: 2439 | AC14: 2853 | AD14: 2822 | AE14: 2833 | AF14: 1092 | AG14: 0 | AH14: 0 | AI14: 0 | AJ14: 0 | AK14: 0 | AL14: 0
B15: 43045 | C15: =SUM(D15:AQ15) -> 52607 | D15: 1201 | E15: 1205 | F15: 1170 | G15: 1149 | H15: 1091 | I15: 1109 | J15: 1095 | K15: 1118 | L15: 1075 | M15: 1238 | N15: 1239 | O15: 1520 | P15: 1658 | Q15: 1696 | R15: 1992 | S15: 1982 | T15: 2017 | U15: 2373 | V15: 2387 | W15: 2234 | X15: 2089 | Y15: 2176 | Z15: 2372 | AA15: 2491 | AB15: 2439 | AC15: 2853 | AD15: 2825 | AE15: 2870 | AF15: 1943 | AG15: 0 | AH15: 0 | AI15: 0 | AJ15: 0 | AK15: 0 | AL15: 0
B16: 43171 | C16: =SUM(D16:AQ16) -> 53367 | D16: 1201 | E16: 1205 | F16: 1170 | G16: 1149 | H16: 1091 | I16: 1109 | J16: 1095 | K16: 1118 | L16: 1075 | M16: 1238 | N16: 1239 | O16: 1520 | P16: 1658 | Q16: 1696 | R16: 1992 | S16: 1982 | T16: 2017 | U16: 2373 | V16: 2387 | W16: 2234 | X16: 2089 | Y16: 2176 | Z16: 2372 | AA16: 2491 | AB16: 2439 | AC16: 2853 | AD16: 2825 | AE16: 2881 | AF16: 2670 | AG16: 22 | AH16: 0 | AI16: 0 | AJ16: 0 | AK16: 0 | AL16: 0
B17: 43181 | C17: =SUM(D17:AQ17) -> 54030 | D17: 1203 | E17: 1212 | F17: 1176 | G17: 1159 | H17: 1091 | I17: 1109 | J17: 1096 | K17: 1123 | L17: 1075 | M17: 1239 | N17: 1239 | O17: 1522 | P17: 1672 | Q17: 1717 | R17: 2018 | S17: 2006 | T17: 2037 | U17: 2391 | V17: 2402 | W17: 2266 | X17: 2099 | Y17: 2196 | Z17: 2393 | AA17: 2499 | AB17: 2489 | AC17: 2877 | AD17: 2880 | AE17: 2955 | AF17: 2827 | AG17: 62 | AH17: 0 | AI17: 0 | AJ17: 0 | AK17: 0 | AL17: 0 | AS17: Manually checked every car model and found over 600 missing trims
B18: 43273 | C18: =SUM(D18:AQ18) -> 54487 | D18: 1203 | E18: 1212 | F18: 1176 | G18: 1159 | H18: 1091 | I18: 1109 | J18: 1096 | K18: 1123 | L18: 1075 | M18: 1239 | N18: 1239 | O18: 1522 | P18: 1672 | Q18: 1717 | R18: 2018 | S18: 2006 | T18: 2037 | U18: 2391 | V18: 2402 | W18: 2266 | X18: 2099 | Y18: 2196 | Z18: 2393 | AA18: 2499 | AB18: 2489 | AC18: 2877 | AD18: 2880 | AE18: 2955 | AF18: 2829 | AG18: 517 | AH18: 0 | AI18: 0 | AJ18: 0 | AK18: 0 | AL18: 0
B19: 43363 | C19: =SUM(D19:AQ19) -> 55377 | D19: 1203 | E19: 1212 | F19: 1176 | G19: 1159 | H19: 1091 | I19: 1109 | J19: 1096 | K19: 1123 | L19: 1075 | M19: 1239 | N19: 1239 | O19: 1522 | P19: 1672 | Q19: 1717 | R19: 2018 | S19: 2006 | T19: 2037 | U19: 2391 | V19: 2402 | W19: 2266 | X19: 2099 | Y19: 2196 | Z19: 2393 | AA19: 2499 | AB19: 2489 | AC19: 2877 | AD19: 2881 | AE19: 2956 | AF19: 2891 | AG19: 1343 | AH19: 0 | AI19: 0 | AJ19: 0 | AK19: 0 | AL19: 0
B20: 43414 | C20: =SUM(D20:AQ20) -> 55762 | D20: 1203 | E20: 1212 | F20: 1176 | G20: 1159 | H20: 1091 | I20: 1109 | J20: 1096 | K20: 1123 | L20: 1075 | M20: 1239 | N20: 1239 | O20: 1522 | P20: 1672 | Q20: 1717 | R20: 2018 | S20: 2006 | T20: 2037 | U20: 2391 | V20: 2402 | W20: 2266 | X20: 2099 | Y20: 2196 | Z20: 2393 | AA20: 2499 | AB20: 2489 | AC20: 2877 | AD20: 2881 | AE20: 2957 | AF20: 2911 | AG20: 1707 | AH20: 0 | AI20: 0 | AJ20: 0 | AK20: 0 | AL20: 0
B21: 43501 | C21: =SUM(D21:AQ21) -> 56384 | D21: 1203 | E21: 1212 | F21: 1176 | G21: 1159 | H21: 1091 | I21: 1109 | J21: 1096 | K21: 1123 | L21: 1075 | M21: 1239 | N21: 1239 | O21: 1522 | P21: 1672 | Q21: 1717 | R21: 2018 | S21: 2006 | T21: 2037 | U21: 2391 | V21: 2402 | W21: 2266 | X21: 2099 | Y21: 2196 | Z21: 2393 | AA21: 2499 | AB21: 2489 | AC21: 2877 | AD21: 2881 | AE21: 2959 | AF21: 2933 | AG21: 2300 | AH21: 5 | AI21: 0 | AJ21: 0 | AK21: 0 | AL21: 0
B22: 43595 | C22: =SUM(D22:AQ22) -> 57169 | D22: 1203 | E22: 1212 | F22: 1176 | G22: 1159 | H22: 1091 | I22: 1109 | J22: 1096 | K22: 1123 | L22: 1075 | M22: 1239 | N22: 1239 | O22: 1522 | P22: 1672 | Q22: 1717 | R22: 2018 | S22: 2006 | T22: 2037 | U22: 2391 | V22: 2402 | W22: 2277 | X22: 2099 | Y22: 2196 | Z22: 2394 | AA22: 2503 | AB22: 2489 | AC22: 2877 | AD22: 2882 | AE22: 2972 | AF22: 3046 | AG22: 2783 | AH22: 164 | AI22: 0 | AJ22: 0 | AK22: 0 | AL22: 0 | AS22: Used a new scraping software and found about 100 missing trims
B23: 43683 | C23: =SUM(D23:AQ23) -> 57708 | D23: 1203 | E23: 1212 | F23: 1176 | G23: 1159 | H23: 1091 | I23: 1109 | J23: 1096 | K23: 1123 | L23: 1075 | M23: 1239 | N23: 1239 | O23: 1522 | P23: 1672 | Q23: 1717 | R23: 2018 | S23: 2006 | T23: 2037 | U23: 2391 | V23: 2402 | W23: 2277 | X23: 2099 | Y23: 2196 | Z23: 2394 | AA23: 2503 | AB23: 2489 | AC23: 2877 | AD23: 2882 | AE23: 2972 | AF23: 3050 | AG23: 2929 | AH23: 553 | AI23: 0 | AJ23: 0 | AK23: 0 | AL23: 0
