Workbook

Sheet World Cities Database
B2: Country | C2: Division 1 | D2: Division 2 | E2: City | F2: City class | G2: Population | H2: Population source | I2: Rank | J2: Capital country | K2: Capital div 1 | L2: Capital div 2 | M2: Location by www.gps-coordinates.net | N2: Name of location www.gps-coordinates.net got coordinates for
B3: =COUNTA(B13:B41252)-COUNTIF(B13:B41252,"-") -> 489 | C3: =COUNTA(C13:C41252)-COUNTIF(C13:C41252,"-") -> 489 | D3: =COUNTA(D13:D41252)-COUNTIF(D13:D41252,"-") -> 467 | E3: =COUNTA(E13:E41252)-COUNTIF(E13:E41252,"-") -> 469 | F3: =COUNTA(F13:F41252)-COUNTIF(F13:F41252,"-") -> 469 | G3: =COUNTA(G13:G41252)-COUNTIF(G13:G41252,"-") -> 128 | H3: =COUNTA(H13:H41252)-COUNTIF(H13:H41252,"-") -> 128 | I3: =COUNTA(I13:I41252)-COUNTIF(I13:I41252,"-") -> 5 | ... N3: =COUNTA(N13:N41252)-COUNTIF(N13:N41252,"-") -> 469
B5: World Cities Database
B6: Compiled in Excel by Teoalida © www.teoalida.com/database/cities
B8: I started compiling this list in 2003, independently from internet world, based on Microsoft Encarta Encyclopedia 2002. When I connected to internet in 2005 I abandoned this database because the internet was already providing information about city population, but seeing that other databases made by me attracted attention from businesses and web developers, I revived city database in 2015, updated existing countries and added remaining countries using Encarta 2009 and I published on my website for sale to professional use, and afterwards I gradually expanded it to include more smaller cities.
B10: This file is a SAMPLE, including Italy with 469 cities over 20,000 people
B11: Visit above website for the FULL database: 200+ countries and dependent territories, 17,000+ cities over 20,000 people.
B12: See Countries sheet for the list of countries and number of cities included from each.
B14: Italy | C14: Abruzzi | D14: - | E14: - | F14: -
B15: Italy | C15: Abruzzi | D15: Chieti | E15: Chieti | F15: D 20,000 - 99,999 | G15: 55,260 (2007e) | H15: city article | L15: province | M15: 42.3495033,13.407139 | N15: Via Chieti, 67100 L'Aquila AQ, Italy
B16: Italy | C16: Abruzzi | D16: Chieti | E16: Lanciano | F16: D 20,000 - 99,999 | G16: 36,335 (2007e) | H16: city article | M16: 42.7113432,13.9537841 | N16: 64021 Roseto degli Abruzzi TE, Italy
B17: Italy | C17: Abruzzi | D17: Chieti | E17: Francavilla al Mare | F17: D 20,000 - 99,999 | M17: 42.4195035,14.2911945 | N17: Francavilla al Mare, Via Duca degli Abruzzi, 1, 66023 Francavilla al Mare CH, Italy
B18: Italy | C18: Abruzzi | D18: Chieti | E18: Ortona | F18: D 20,000 - 99,999 | M18: 42.3557058,14.4022821 | N18: Via Cardinal Abruzzi, 66026 Ortona CH, Italy
B19: Italy | C19: Abruzzi | D19: Chieti | E19: Vasto | F19: D 20,000 - 99,999 | M19: 42.4423461,13.4292532 | N19: L'Aquila, Italy
B20: Italy | C20: Abruzzi | D20: L'Aquilla | E20: L'Aquila | F20: D 20,000 - 99,999 | G20: 72,222 (2007e) | H20: city article | K20: region | L20: province | M20: 42.3510918,13.384921 | N20: L'Aquila, Piazzale Caduti 8 Dicembre 1943, 67100 L'Aquila AQ, Italy
B21: Italy | C21: Abruzzi | D21: L'Aquilla | E21: Avezzano | F21: D 20,000 - 99,999 | M21: 42.3480275,13.4094102 | N21: Via Avezzano, 67100 L'Aquila AQ, Italy
B22: Italy | C22: Abruzzi | D22: L'Aquilla | E22: Sulmona | F22: D 20,000 - 99,999 | M22: 42.6742306,14.0170574 | N22: Via Sulmona, 64026 Roseto degli Abruzzi TE, Italy
B23: Italy | C23: Abruzzi | D23: Pescara | E23: Pescara | F23: C 100,000 - 499,999 | G23: 122,402 (2007e) | H23: city article | L23: province | M23: 42.6747957,14.0186004 | N23: Via Pescara, 64026 Roseto degli Abruzzi TE, Italy
B24: Italy | C24: Abruzzi | D24: Pescara | E24: Montesilvano | F24: D 20,000 - 99,999 | M24: 42.5234404,14.1538859 | N24: Duca degli Abruzzi, Viale Carlo Maresca, 15, 65015 Montesilvano PE, Italy
B25: Italy | C25: Abruzzi | D25: Teramo | E25: Teramo | F25: D 20,000 - 99,999 | G25: 53,263 (2007e) | H25: city article | L25: province | M25: 42.6866275,14.0086723 | N25: Via Teramo, 64026 Roseto degli Abruzzi TE, Italy
B26: Italy | C26: Abruzzi | D26: Teramo | E26: Giulianova | F26: D 20,000 - 99,999 | M26: 42.3430037,13.4087906 | N26: Via Giulianova, 67100 L'Aquila AQ, Italy
B27: Italy | C27: Abruzzi | D27: Teramo | E27: Roseto degli Abruzzi | F27: D 20,000 - 99,999 | M27: 42.6778289,14.0151424 | N27: Roseto degli Abruzzi, Via Cristoforo Colombo, 64026 Roseto degli Abruzzi TE, Italy
B28: Italy | C28: Apulia | D28: - | E28: - | F28: -
B29: Italy | C29: Apulia | D29: - | E29: Cannae | F29: G other (not found on map) | G29: no population | H29: city article | M29: 41.3048453,16.1490555 | N29: Battaglia di Canne, Strada Provinciale Salinelle, 70051 Barletta, Italy
B30: Italy | C30: Apulia | D30: Bari | E30: Bari | F30: C 100,000 - 499,999 | G30: 325,052 (2007e) | H30: city article | K30: region | L30: province | M30: 41.1257843,16.8620293 | N30: Bari, Italy
B31: Italy | C31: Apulia | D31: Bari | E31: Andria | F31: D 20,000 - 99,999 | G31: 98,069 (2007e) | H31: city article | M31: 41.2276463,16.2954346 | N31: Andria, Apulia, Italy
B32: Italy | C32: Apulia | D32: Bari | E32: Molfetta | F32: D 20,000 - 99,999 | G32: 59,835 (2007e) | H32: city article | M32: 41.1992456,16.5968279 | N32: 70056 Molfetta BA, Italy
B33: Italy | C33: Apulia | D33: Bari | E33: Acquaviva delle Fonti | F33: D 20,000 - 99,999 | M33: 40.897829,16.842487 | N33: 70021 Acquaviva delle Fonti BA, Italy
B34: Italy | C34: Apulia | D34: Bari | E34: Altamura | F34: D 20,000 - 99,999 | M34: 40.8285595,16.5527314 | N34: 70022 Altamura BA, Italy
B35: Italy | C35: Apulia | D35: Bari | E35: Barletta | F35: D 20,000 - 99,999 | M35: 41.3214976,16.2868696 | N35: Barletta, Apulia, Italy
B36: Italy | C36: Apulia | D36: Bari | E36: Bisceglie | F36: D 20,000 - 99,999 | M36: 41.2402745,16.5010109 | N36: Bisceglie, Apulia, Italy
B37: Italy | C37: Apulia | D37: Bari | E37: Bitonto | F37: D 20,000 - 99,999 | M37: 41.1084971,16.691548 | N37: 70032 Bitonto BA, Italy
B38: Italy | C38: Apulia | D38: Bari | E38: Canosa di Puglia | F38: D 20,000 - 99,999 | M38: 41.219631,16.067466 | N38: 76012 Canosa di Puglia, Italy
B39: Italy | C39: Apulia | D39: Bari | E39: Conversano | F39: D 20,000 - 99,999 | M39: 40.9683956,17.1137706 | N39: 70014 Conversano BA, Italy
B40: Italy | C40: Apulia | D40: Bari | E40: Corato | F40: D 20,000 - 99,999 | M40: 41.1527614,16.4114643 | N40: Corato, Bari, Italy
B41: Italy | C41: Apulia | D41: Bari | E41: Gioia del Colle | F41: D 20,000 - 99,999 | M41: 40.796728,16.92359 | N41: 70023 Gioia del Colle BA, Italy
B42: Italy | C42: Apulia | D42: Bari | E42: Giovinazzo | F42: D 20,000 - 99,999 | M42: 41.1875008,16.6716662 | N42: 70054 Giovinazzo BA, Italy
B43: Italy | C43: Apulia | D43: Bari | E43: Gravina in Puglia | F43: D 20,000 - 99,999 | M43: 40.819725,16.422779 | N43: 70024 Gravina in Puglia BA, Italy
B44: Italy | C44: Apulia | D44: Bari | E44: Modugno | F44: D 20,000 - 99,999 | M44: 41.0825639,16.7805515 | N44: 70026 Modugno BA, Italy
... B53: Italy | C53: Apulia | D53: Bari | E53: Triggiano | F53: D 20,000 - 99,999 | M53: 41.063448,16.9216976 | N53: 70019 Triggiano BA, Italy
B54: Italy | C54: Apulia | D54: Brindisi | E54: Brindisi | F54: D 20,000 - 99,999 | G54: 90,222 (2007e) | H54: city article | L54: province | M54: 40.6362271,17.6885007 | N54: Brindisi, Italy
B55: Italy | C55: Apulia | D55: Brindisi | E55: Ceglie Messapica | F55: D 20,000 - 99,999 | M55: 40.6460444,17.5170566 | N55: Ceglie Messapica, Brindisi, Italy
B56: Italy | C56: Apulia | D56: Brindisi | E56: Fasano | F56: D 20,000 - 99,999 | M56: 40.834432,17.358399 | N56: Fasano, Brindisi, Italy
B57: Italy | C57: Apulia | D57: Brindisi | E57: Francavilla Fontana | F57: D 20,000 - 99,999 | M57: 40.5301622,17.5826774 | N57: 72021 Francavilla Fontana BR, Italy
B58: Italy | C58: Apulia | D58: Brindisi | E58: Mesangne | F58: D 20,000 - 99,999 | M58: 41.00164,16.73378 | N58: Apulia, Italy
B59: Italy | C59: Apulia | D59: Brindisi | E59: Ostruni | F59: D 20,000 - 99,999 | M59: 41.00164,16.73378 | N59: Apulia, Italy
B60: Italy | C60: Apulia | D60: Brindisi | E60: San Vito dei Normanni | F60: D 20,000 - 99,999 | M60: 40.6562478,17.7037516 | N60: 72019 San Vito dei Normanni BR, Italy
B61: Italy | C61: Apulia | D61: Foggia | E61: Foggia | F61: C 100,000 - 499,999 | G61: 153,529 (2007e) | H61: city article | L61: province | M61: 41.5028105,15.4528996 | N61: Foggia, Italy
B62: Italy | C62: Apulia | D62: Foggia | E62: Lucera | F62: D 20,000 - 99,999 | G62: 34,828 (2007e) | H62: city article | M62: 41.5082727,15.3376465 | N62: 71036 Lucera FG, Italy
B63: Italy | C63: Apulia | D63: Foggia | E63: Cerignola | F63: D 20,000 - 99,999 | M63: 41.2648121,15.8996651 | N63: 71042 Cerignola FG, Italy
B64: Italy | C64: Apulia | D64: Foggia | E64: Manfredonia | F64: D 20,000 - 99,999 | M64: 41.6254728,15.9095926 | N64: 71043 Manfredonia FG, Italy
B65: Italy | C65: Apulia | D65: Foggia | E65: San Giovanni Rotondo | F65: D 20,000 - 99,999 | M65: 41.7050554,15.7306463 | N65: 71013 San Giovanni Rotondo FG, Italy
B66: Italy | C66: Apulia | D66: Foggia | E66: San Severo | F66: D 20,000 - 99,999 | M66: 41.6897761,15.3776211 | N66: 71016 San Severo FG, Italy
B67: Italy | C67: Apulia | D67: Lecce | E67: Lecce | F67: D 20,000 - 99,999 | G67: 93,529 (2007e) | H67: city article | L67: province | M67: 40.1522173,18.2260628 | N67: Lecce, Italy
B68: Italy | C68: Apulia | D68: Lecce | E68: Casarano | F68: D 20,000 - 99,999 | M68: 40.0108197,18.1617652 | N68: 73042 Casarano LE, Italy
B69: Italy | C69: Apulia | D69: Lecce | E69: Copertino | F69: D 20,000 - 99,999 | M69: 40.2716808,18.0502517 | N69: Copertino, Lecce, Italy
B70: Italy | C70: Apulia | D70: Lecce | E70: Galatina | F70: D 20,000 - 99,999 | M70: 40.1742781,18.1678388 | N70: 73013 Galatina LE, Italy
B71: Italy | C71: Apulia | D71: Lecce | E71: Gallipoli | F71: D 20,000 - 99,999 | M71: 40.05672,17.996423 | N71: 73014 Gallipoli LE, Italy
B72: Italy | C72: Apulia | D72: Lecce | E72: Nardò | F72: D 20,000 - 99,999 | M72: 40.1762608,18.0306371 | N72: 73048 Nardò LE, Italy
B73: Italy | C73: Apulia | D73: Taranto | E73: Taranto | F73: C 100,000 - 499,999 | G73: 196,369 (2007e) | H73: city article | L73: province | M73: 40.5488156,17.0805801 | N73: Taranto, Italy
B74: Italy | C74: Apulia | D74: Taranto | E74: Ginosa | F74: D 20,000 - 99,999 | M74: 40.5797514,16.7562077 | N74: Ginosa, Taranto, Italy
B75: Italy | C75: Apulia | D75: Taranto | E75: Grottaglie | F75: D 20,000 - 99,999 | M75: 40.5361927,17.4342206 | N75: 74023 Grottaglie TA, Italy
B76: Italy | C76: Apulia | D76: Taranto | E76: Manduria | F76: D 20,000 - 99,999 | M76: 40.401825,17.633511 | N76: 74024 Manduria TA, Italy
B77: Italy | C77: Apulia | D77: Taranto | E77: Martina Franca | F77: D 20,000 - 99,999 | M77: 40.7042378,17.3399908 | N77: 74015 Martina Franca TA, Italy
B78: Italy | C78: Apulia | D78: Taranto | E78: Massafa | F78: D 20,000 - 99,999 | M78: 41.00164,16.73378 | N78: Apulia, Italy
B79: Italy | C79: Basilicata | D79: - | E79: - | F79: -
B80: Italy | C80: Basilicata | D80: Matera | E80: Matera | F80: D 20,000 - 99,999 | G80: 59,738 (2007e) | H80: city article | L80: province | M80: 40.4476419,16.4735738 | N80: Matera, Italy
B81: Italy | C81: Basilicata | D81: Potenza | E81: Potenza | F81: D 20,000 - 99,999 | G81: 68,252 (2007e) | H81: city article | K81: region | L81: province | M81: 40.5183188,15.82096 | N81: Potenza, Italy
B82: Italy | C82: Calabria | D82: - | E82: - | F82: -
B83: Italy | C83: Calabria | D83: Catanzaro | E83: Catanzaro | F83: D 20,000 - 99,999 | G83: 94,381 (2007e) | H83: city article | K83: region | L83: province | M83: 38.8299603,16.4315569 | N83: Catanzaro, Italy
B84: Italy | C84: Calabria | D84: Catanzaro | E84: Nicastro | F84: D 20,000 - 99,999 | M84: 38.9705945,16.3154706 | N84: 88046 Lamezia Terme CZ, Italy
B85: Italy | C85: Calabria | D85: Catanzaro | E85: Saint'Eufemia Lamezia | F85: D 20,000 - 99,999 | M85: 38.96589,16.3092 | N85: Lamezia Terme, Provincia di Catanzaro, Italy
B86: Italy | C86: Calabria | D86: Cosenza | E86: Cosenza | F86: D 20,000 - 99,999 | G86: 69,868 (2007e) | H86: city article | L86: province | M86: 39.5966853,16.3330556 | N86: Cosenza, Italy
B87: Italy | C87: Calabria | D87: Cosenza | E87: Acri | F87: D 20,000 - 99,999 | M87: 39.493005,16.3849498 | N87: Acri, Cosenza, Italy
B88: Italy | C88: Calabria | D88: Cosenza | E88: Castrovillari | F88: D 20,000 - 99,999 | M88: 39.8154937,16.202772 | N88: 87012 Castrovillari CS, Italy
B89: Italy | C89: Calabria | D89: Cosenza | E89: Corigliano Calabrio | F89: D 20,000 - 99,999 | M89: 39,16.5 | N89: Calabria, Italy
B90: Italy | C90: Calabria | D90: Cosenza | E90: Rende | F90: D 20,000 - 99,999 | M90: 39.3319934,16.1843828 | N90: 87036 Rende CS, Italy
B91: Italy | C91: Calabria | D91: Cosenza | E91: Rossano | F91: D 20,000 - 99,999 | M91: 39.575017,16.6333385 | N91: 87064 Rossano CS, Italy
B92: Italy | C92: Calabria | D92: Crotone | E92: Crotone | F92: D 20,000 - 99,999 | G92: 60,673 (2007e) | H92: city article | L92: province | M92: 39.1873894,16.8782819 | N92: Crotone, Italy
B93: Italy | C93: Calabria | D93: Reggio Calabria | E93: Reggio di Calabria | F93: C 100,000 - 499,999 | G93: 184,179 (2007e) | H93: city article | L93: province | M93: 38.1035389,15.6397556 | N93: Reggio Calabria, Reggio di Calabria, Italy
B94: Italy | C94: Calabria | D94: Reggio Calabria | E94: Casa Vatoni | F94: D 20,000 - 99,999 | M94: 38.37796,16.01675 | N94: Vatoni, Provincia di Reggio Calabria, Italy
B95: Italy | C95: Calabria | D95: Vibo Valentia | E95: Vibo Valentia | F95: D 20,000 - 99,999 | L95: province | M95: 38.6266556,16.0986935 | N95: Vibo Valentia, Italy
B96: Italy | C96: Campania | D96: - | E96: - | F96: -
B97: Italy | C97: Campania | D97: Avellino | E97: Avellino | F97: D 20,000 - 99,999 | G97: 56,908 (2007e) | H97: city article | L97: province | M97: 40.9965446,15.140569 | N97: Avellino, Italy
B98: Italy | C98: Campania | D98: Avellino | E98: Ariano Irpino | F98: D 20,000 - 99,999 | M98: 41.1526668,15.0885633 | N98: Ariano Irpino, Avellino, Italy
B99: Italy | C99: Campania | D99: Benevento | E99: Benevento | F99: D 20,000 - 99,999 | G99: 62,958 (2007e) | H99: city article | L99: province | M99: 41.2476884,14.7059413 | N99: Benevento, Italy
B100: Italy | C100: Campania | D100: Caserta | E100: Caserta | F100: D 20,000 - 99,999 | G100: 79,228 (2007e) | H100: city article | L100: province | M100: 41.2034835,14.1170577 | N100: Caserta, Italy
B101: Italy | C101: Campania | D101: Caserta | E101: Aversa | F101: D 20,000 - 99,999 | M101: 40.973212,14.204928 | N101: 81031 Aversa CE, Italy
B102: Italy | C102: Campania | D102: Caserta | E102: Maddaloni | F102: D 20,000 - 99,999 | M102: 41.0398815,14.3792066 | N102: 81024 Maddaloni CE, Italy
B103: Italy | C103: Campania | D103: Caserta | E103: Marciianise | F103: D 20,000 - 99,999 | M103: 40.66531,15.10585 | N103: Campagna, Provincia di Salerno, Italy
B104: Italy | C104: Campania | D104: Caserta | E104: Mondragone | F104: D 20,000 - 99,999 | M104: 41.114112,13.893519 | N104: 81034 Mondragone CE, Italy
B105: Italy | C105: Campania | D105: Caserta | E105: Santa Maria Capua Vetere | F105: D 20,000 - 99,999 | M105: 41.0799225,14.2563971 | N105: 81055 Santa Maria Capua Vetere CE, Italy
B106: Italy | C106: Campania | D106: Caserta | E106: Sessa Aurunca | F106: D 20,000 - 99,999 | M106: 41.2369344,13.9347304 | N106: 81037 Sessa Aurunca CE, Italy
B107: Italy | C107: Campania | D107: Napoli | E107: Naples | F107: A 1,000,000 and over | G107: 975,139 (2007e) | H107: city article | I107: 3 | K107: region | L107: province | M107: 40.8359336,14.2487826 | N107: Naples, Napoli, Italy
B108: Italy | C108: Campania | D108: Napoli | E108: Torre del Greco | F108: D 20,000 - 99,999 | G108: 88,918 (2007e) | H108: city article | M108: 40.7879211,14.3682813 | N108: 80059 Torre del Greco NA, Italy
B109: Italy | C109: Campania | D109: Napoli | E109: Pozzuoli | F109: D 20,000 - 99,999 | G109: 83,128 (2007e) | H109: city article | M109: 40.822643,14.1219109 | N109: Pozzuoli, Napoli, Italy
B110: Italy | C110: Campania | D110: Napoli | E110: Acerra | F110: D 20,000 - 99,999 | M110: 40.9460532,14.3750083 | N110: 80011 Acerra NA, Italy
B111: Italy | C111: Campania | D111: Napoli | E111: Afragola | F111: D 20,000 - 99,999 | M111: 40.926012,14.310831 | N111: Afragola, Napoli, Italy
B112: Italy | C112: Campania | D112: Napoli | E112: Arzano | F112: D 20,000 - 99,999 | M112: 40.9160204,14.2680178 | N112: 80022 Arzano NA, Italy
B113: Italy | C113: Campania | D113: Napoli | E113: Bacoli | F113: D 20,000 - 99,999 | M113: 40.7966129,14.0777834 | N113: Bacoli, Napoli, Italy
...

Sheet Countries
B2: - | H2: - | K2: - | N2: - | R2: Number of cities breakdown by population | AC2: -
B3: Country | C3: Alpha-2 code | D3: Alpha-3 code | E3: Numeric code | F3: Subdivision code links | G3: Internet ccTLD | H3: Area | I3: Population (2001e) | J3: Density (2001e) | K3: Growth rate | L3: Population 2025 (2000e) | M3: Population 2050 (2000e) | N3: Urban | O3: Rural | P3: Provinces on map | Q3: Provinces table | R3: A 1,000,000 and over | S3: B 500,000 - 999,999 | T3: C 100,000 - 499,999 | U3: D 20,000 - 99,999 | V3: E 5,000 - 19,999* | W3: F 1 - 4,999* | X3: G* | Y3: over 500k | Z3: over 100k | AA3: over 20k | AB3: All | AC3: Cities over 100k / urban million | AD3: Cities over 20k / urban million
H4: =H12 -> 1.4988893e+08 | I4: =I12 -> 6147436454 | J4: =J12 -> 41.013278 | L4: =L12 -> 7778916109 | M4: =M12 -> 8981871583 | R4: =R12 -> 295 | S4: =S12 -> 308 | T4: =T12 -> 3100 | U4: =U12 -> 12810 | V4: =V12 -> 374 | W4: =W12 -> 46 | X4: =X12 -> 14 | Y4: =Y12 -> 603 | ... AB4: =AB12 -> 16947
B6: World Countries & Number of cities statistics
B7: Compiled in Excel by Teoalida © www.teoalida.com/database/geography
B9: By region
B10: I divided the world into 12 regions to have approximately similar population and number of cities, to create below chart and compare number of cities breakdown by population with total population.
A12: Region | B12: Regions total | H12: =SUM(H13:H24) -> 1.4988893e+08 | I12: =SUM(I13:I24) -> 6147436454 | J12: =I12/H12 -> 41.013278 | L12: =SUM(L13:L24) -> 7778916109 | M12: =SUM(M13:M24) -> 8981871583 | R12: =SUM(R13:R24) -> 295 | S12: =SUM(S13:S24) -> 308 | T12: =SUM(T13:T24) -> 3100 | U12: =SUM(U13:U24) -> 12810 | V12: =SUM(V13:V24) -> 374 | W12: =SUM(W13:W24) -> 46 | X12: =SUM(X13:X24) -> 14 | Y12: =SUM(Y13:Y24) -> 603 | ... AB12: =SUM(AB13:AB24) -> 16947
B13: North America | H13: =H126 -> 21779657 | I13: =I126 -> 309708037 | J13: =J126 -> 14.22006 | L13: =L126 -> 376235557 | M13: =M126 -> 445372726 | R13: =R126 -> 11 | S13: =S126 -> 28 | T13: =T126 -> 252 | U13: =U126 -> 1786 | V13: =V126 -> 87 | W13: =W126 -> 2 | X13: =X126 -> 0 | Y13: =Y126 -> 39 | ... AB13: =AB126 -> 2166 | AC13: =Z13/I13*1000000 -> 0.9395946 | AD13: =AA13/I13*1000000 -> 6.7063161
B14: Central America | H14: =H132 -> 2723989 | I14: =I132 -> 176179232 | J14: =J132 -> 64.676925 | L14: =L132 -> 229661384 | M14: =M132 -> 270901986 | R14: =R132 -> 14 | S14: =S132 -> 20 | T14: =T132 -> 181 | U14: =U132 -> 764 | V14: =V132 -> 32 | W14: =W132 -> 7 | X14: =X132 -> 0 | Y14: =Y132 -> 34 | ... AB14: =AB132 -> 1018 | AC14: =Z14/I14*1000000 -> 1.2203482 | AD14: =AA14/I14*1000000 -> 5.5568411
B15: South America | H15: =H167 -> 17858471 | I15: =I167 -> 350821668 | J15: =J167 -> 19.644552 | L15: =L167 -> 435341948 | M15: =M167 -> 479952939 | R15: =R167 -> 30 | S15: =S167 -> 36 | T15: =T167 -> 338 | U15: =U167 -> 1679 | V15: =V167 -> 38 | W15: =W167 -> 7 | X15: =X167 -> 1 | Y15: =Y167 -> 66 | ... AB15: =AB167 -> 2129 | AC15: =Z15/I15*1000000 -> 1.1515822 | AD15: =AA15/I15*1000000 -> 5.9374896
B16: Europe | H16: =H183 -> 4998357.9 | I16: =I183 -> 513077994 | J16: =J183 -> 102.64931 | L16: =L183 -> 502445512 | M16: =M183 -> 398243815 | R16: =R183 -> 18 | S16: =S183 -> 33 | T16: =T183 -> 475 | U16: =U183 -> 3426 | V16: =V183 -> 143 | W16: =W183 -> 22 | X16: =X183 -> 6 | Y16: =Y183 -> 51 | ... AB16: =AB183 -> 4123 | AC16: =Z16/I16*1000000 -> 1.0251853 | AD16: =AA16/I16*1000000 -> 7.7025326
B17: East Europe & Siberia | H17: =H230 -> 22274922 | I17: =I230 -> 290349292 | J17: =J230 -> 13.034806 | L17: =L230 -> 299656281 | M17: =M230 -> 299524884 | R17: =R230 -> 22 | S17: =S230 -> 30 | T17: =T230 -> 288 | U17: =U230 -> 997 | V17: =V230 -> 29 | W17: =W230 -> 1 | X17: =X230 -> 0 | Y17: =Y230 -> 52 | ... AB17: =AB230 -> 1367 | AC17: =Z17/I17*1000000 -> 1.1710034 | AD17: =AA17/I17*1000000 -> 4.6047986
B18: Middle East | H18: =H247 -> 6380664 | I18: =I247 -> 237487119 | J18: =J247 -> 37.219813 | L18: =L247 -> 362179709 | M18: =M247 -> 486395622 | R18: =R247 -> 20 | S18: =S247 -> 18 | T18: =T247 -> 129 | U18: =U247 -> 408 | V18: =V247 -> 4 | W18: =W247 -> 0 | X18: =X247 -> 1 | Y18: =Y247 -> 38 | ... AB18: =AB247 -> 580 | AC18: =Z18/I18*1000000 -> 0.70319603 | AD18: =AA18/I18*1000000 -> 2.4211839
B19: East Asia | H19: =H267 -> 11771443 | I19: =I267 -> 1494781018 | J19: =J267 -> 126.98367 | L19: =L267 -> 1667074128 | M19: =M267 -> 1653364624 | R19: =R267 -> 74 | S19: =S267 -> 58 | T19: =T267 -> 657 | U19: =U267 -> 1711 | V19: =V267 -> 0 | W19: =W267 -> 0 | X19: =X267 -> 1 | Y19: =Y267 -> 132 | ... AB19: =AB267 -> 2501 | AC19: =Z19/I19*1000000 -> 0.52783651 | AD19: =AA19/I19*1000000 -> 1.6724858
B20: South Asia | H20: =H277 -> 5021575 | I20: =I277 -> 1379743931 | J20: =J277 -> 274.76318 | L20: =L277 -> 1880359146 | M20: =M277 -> 2241562339 | R20: =R277 -> 47 | S20: =S277 -> 38 | T20: =T277 -> 352 | U20: =U277 -> 988 | V20: =V277 -> 4 | W20: =W277 -> 0 | X20: =X277 -> 1 | Y20: =Y277 -> 85 | ... AB20: =AB277 -> 1430 | AC20: =Z20/I20*1000000 -> 0.31672544 | AD20: =AA20/I20*1000000 -> 1.0328003
B21: Southeast Asia | H21: =H287 -> 4494680 | I21: =I287 -> 540871111 | J21: =J287 -> 120.33584 | L21: =L287 -> 716321953 | M21: =M287 -> 820555222 | R21: =R287 -> 20 | S21: =S287 -> 17 | T21: =T287 -> 145 | U21: =U287 -> 251 | V21: =V287 -> 2 | W21: =W287 -> 0 | X21: =X287 -> 1 | Y21: =Y287 -> 37 | ... AB21: =AB287 -> 436 | AC21: =Z21/I21*1000000 -> 0.33649422 | AD21: =AA21/I21*1000000 -> 0.80056041
B22: Africa | H22: =H300 -> 30080826 | I22: =I300 -> 823230518 | J22: =J300 -> 27.367284 | L22: =L300 -> 1271668911 | M22: =M300 -> 1843396514 | R22: =R300 -> 33 | S22: =S300 -> 30 | T22: =T300 -> 236 | U22: =U300 -> 601 | V22: =V300 -> 11 | W22: =W300 -> 2 | X22: =X300 -> 1 | Y22: =Y300 -> 63 | ... AB22: =AB300 -> 914 | AC22: =Z22/I22*1000000 -> 0.36320325 | AD22: =AA22/I22*1000000 -> 1.0932539
B23: Australia | H23: =H358 -> 8504349 | I23: =I358 -> 31186324 | J23: =J358 -> 3.667103 | L23: =L358 -> 37971580 | M23: =M358 -> 42600912 | R23: =R358 -> 6 | S23: =S358 -> 0 | T23: =T358 -> 47 | U23: =U358 -> 199 | V23: =V358 -> 24 | W23: =W358 -> 5 | X23: =X358 -> 2 | Y23: =Y358 -> 6 | ... AB23: =AB358 -> 283 | AC23: =Z23/I23*1000000 -> 1.6994629 | AD23: =AA23/I23*1000000 -> 8.080465
B24: Antarctica | H24: =H388 -> 14000000 | I24: =I388 -> 210 | J24: =J388 -> 1.5e-05 | L24: =L388 -> 0 | M24: =M388 -> 0 | R24: =R388 -> 0 | S24: =S388 -> 0 | T24: =T388 -> 0 | U24: =U388 -> 0 | V24: =V388 -> 0 | W24: =W388 -> 0 | X24: =X388 -> 0 | Y24: =Y388 -> 0 | ... AB24: =AB388 -> 0 | AC24: =Z24/I24*1000000 -> 0 | AD24: =AA24/I24*1000000 -> 0
A25: Space
A26: 1
A27: 2
A28: 3
A29: 4
A30: 5
A31: 6
A32: 7
A33: 8
A34: 9
A35: 10
A36: 11
A37: 12
... A65: 40
B67: By country (countries with at least 200 cities)
B69: Brazil | H69: 8547404 | I69: 174468580 | J69: 20 | K69: 0.91 | L69: 200606553 | M69: 206751477 | N69: 0.81 | O69: 0.19 | P69: 1-level | Q69: yes | R69: 13 | S69: 16 | T69: 164 | U69: 1085 | V69: 0 | W69: 0 | X69: 0 | Y69: =SUM(R69:S69) -> 29 | Z69: =SUM(R69:T69) -> 193 | AA69: =SUM(R69:U69) -> 1278 | AB69: =SUM(R69:X69) -> 1278 | AC69: =Z69/(I69*N69)*1000000 -> 1.3656992 | AD69: =AA69/(I69*N69)*1000000 -> 9.0433348
B70: China | H70: 9571300 | I70: 1273111300 | J70: 133 | K70: 0.88 | L70: 1464028860 | M70: 1470468924 | N70: 0.34 | O70: 0.66 | P70: 1-level | Q70: yes | R70: 51 | S70: 23 | T70: 269 | U70: 685 | V70: 0 | W70: 0 | X70: 0 | Y70: =SUM(R70:S70) -> 74 | Z70: =SUM(R70:T70) -> 343 | AA70: =SUM(R70:U70) -> 1028 | AB70: =SUM(R70:X70) -> 1028 | AC70: =Z70/(I70*N70)*1000000 -> 0.79240796 | AD70: =AA70/(I70*N70)*1000000 -> 2.3749137
B71: France | H71: 543965 | I71: 59551227 | J71: 109 | K71: 0.37 | L71: 61992616 | M71: 58967418 | N71: 0.75 | O71: 0.25 | P71: 2-level | Q71: yes | R71: 1 | S71: 1 | T71: 34 | U71: 367 | V71: 9 | W71: 0 | X71: 0 | Y71: =SUM(R71:S71) -> 2 | Z71: =SUM(R71:T71) -> 36 | AA71: =SUM(R71:U71) -> 403 | AB71: =SUM(R71:X71) -> 412 | AC71: =Z71/(I71*N71)*1000000 -> 0.80602873 | AD71: =AA71/(I71*N71)*1000000 -> 9.0230439
B72: Germany | H72: 356970 | I72: 83029536 | J72: 233 | K72: 0.27 | L72: 85414825 | M72: 79702511 | N72: 0.87 | O72: 0.13 | P72: 1-level | Q72: yes | R72: 3 | S72: 9 | T72: 70 | U72: 599 | V72: 0 | W72: 0 | X72: 0 | Y72: =SUM(R72:S72) -> 12 | Z72: =SUM(R72:T72) -> 82 | AA72: =SUM(R72:U72) -> 681 | AB72: =SUM(R72:X72) -> 681 | AC72: =Z72/(I72*N72)*1000000 -> 1.1351728 | AD72: =AA72/(I72*N72)*1000000 -> 9.4274719
B73: India | H73: 3165596 | I73: 1029991100 | J73: 325 | K73: 1.55 | L73: 1377264176 | M73: 1619582271 | N73: 0.28 | O73: 0.72 | P73: 1-level | Q73: yes | R73: 37 | S73: 32 | T73: 300 | U73: 860 | V73: 3 | W73: 0 | X73: 1 | Y73: =SUM(R73:S73) -> 69 | Z73: =SUM(R73:T73) -> 369 | AA73: =SUM(R73:U73) -> 1229 | AB73: =SUM(R73:X73) -> 1233 | AC73: =Z73/(I73*N73)*1000000 -> 1.279484 | AD73: =AA73/(I73*N73)*1000000 -> 4.2614793
B74: Italy | H74: 301323 | I74: 57679825 | J74: 191 | K74: 0.07 | L74: 54271013 | M74: 45016465 | N74: 0.67 | O74: 0.33 | P74: 2-level | Q74: yes | R74: 3 | S74: 3 | T74: 36 | U74: 415 | V74: 8 | W74: 1 | X74: 3 | Y74: =SUM(R74:S74) -> 6 | Z74: =SUM(R74:T74) -> 42 | AA74: =SUM(R74:U74) -> 457 | AB74: =SUM(R74:X74) -> 469 | AC74: =Z74/(I74*N74)*1000000 -> 1.0868023 | AD74: =AA74/(I74*N74)*1000000 -> 11.825444
B75: Japan | H75: 377837 | I75: 126771660 | J75: 336 | K75: 0.17 | L75: 120235271 | M75: 101228471 | N75: 0.79 | O75: 0.21 | P75: 1-level | Q75: yes | R75: 11 | S75: 20 | T75: 315 | U75: 777 | V75: 0 | W75: 0 | X75: 0 | Y75: =SUM(R75:S75) -> 31 | Z75: =SUM(R75:T75) -> 346 | AA75: =SUM(R75:U75) -> 1123 | AB75: =SUM(R75:X75) -> 1123 | AC75: =Z75/(I75*N75)*1000000 -> 3.4548312 | AD75: =AA75/(I75*N75)*1000000 -> 11.213224
B76: Mexico | H76: 1964382 | I76: 101879170 | J76: 52 | K76: 1.5 | L76: 133834712 | M76: 153162145 | N76: 0.74 | O76: 0.26 | P76: 1-level | Q76: yes | R76: 10 | S76: 16 | T76: 124 | U76: 617 | V76: 0 | W76: 0 | X76: 0 | Y76: =SUM(R76:S76) -> 26 | Z76: =SUM(R76:T76) -> 150 | AA76: =SUM(R76:U76) -> 767 | AB76: =SUM(R76:X76) -> 767 | AC76: =Z76/(I76*N76)*1000000 -> 1.9896383 | AD76: =AA76/(I76*N76)*1000000 -> 10.173684
B77: Poland | H77: 312684 | I77: 38633912 | J77: 124 | K77: -0.03 | L77: 38011410 | M77: 33779568 | N77: 0.7 | O77: 0.3 | P77: 1-level | R77: 1 | S77: 4 | T77: 39 | U77: 326 | V77: 0 | W77: 0 | X77: 0 | Y77: =SUM(R77:S77) -> 5 | Z77: =SUM(R77:T77) -> 44 | AA77: =SUM(R77:U77) -> 370 | AB77: =SUM(R77:X77) -> 370 | AC77: =Z77/(I77*N77)*1000000 -> 1.626994 | AD77: =AA77/(I77*N77)*1000000 -> 13.68154
B78: Russia | H78: 17075200 | I78: 145470200 | J78: 8.5 | K78: -0.35 | L78: 135951626 | M78: 118233243 | N78: 0.77 | O78: 0.23 | P78: 1-level | R78: 11 | S78: 21 | T78: 163 | U78: 652 | V78: 6 | W78: 0 | X78: 0 | Y78: =SUM(R78:S78) -> 32 | Z78: =SUM(R78:T78) -> 195 | AA78: =SUM(R78:U78) -> 847 | AB78: =SUM(R78:X78) -> 853 | AC78: =Z78/(I78*N78)*1000000 -> 1.7408841 | AD78: =AA78/(I78*N78)*1000000 -> 7.5616862
B79: Spain | H79: 505990 | I79: 40037995 | J79: 79 | K79: 0.1 | L79: 38492134 | M79: 32562163 | N79: 0.77 | O79: 0.23 | P79: 2-level | Q79: yes | R79: 2 | S79: 4 | T79: 50 | U79: 262 | V79: 0 | W79: 0 | X79: 0 | Y79: =SUM(R79:S79) -> 6 | Z79: =SUM(R79:T79) -> 56 | AA79: =SUM(R79:U79) -> 318 | AB79: =SUM(R79:X79) -> 318 | AC79: =Z79/(I79*N79)*1000000 -> 1.8164564 | AD79: =AA79/(I79*N79)*1000000 -> 10.314877
B80: United Kingdom | H80: 244110 | I80: 59647790 | J80: 244 | K80: 0.23 | L80: 61613482 | N80: 0.89 | O80: 0.11 | P80: 2-level | R80: 1 | S80: 4 | T80: 92 | U80: 344 | V80: 32 | W80: 4 | X80: 0 | Y80: =SUM(R80:S80) -> 5 | Z80: =SUM(R80:T80) -> 97 | AA80: =SUM(R80:U80) -> 441 | AB80: =SUM(R80:X80) -> 477 | AC80: =Z80/(I80*N80)*1000000 -> 1.8272054 | AD80: =AA80/(I80*N80)*1000000 -> 8.3071916
B81: United States | H81: 9629047 | I81: 278058880 | J81: 29 | K81: 0.9 | L81: 338070951 | M81: 403943147 | N81: 0.77 | O81: 0.23 | P81: 2-level | Q81: yes | R81: 9 | S81: 22 | T81: 219 | U81: 1654 | V81: 9 | W81: 1 | X81: 0 | Y81: =SUM(R81:S81) -> 31 | Z81: =SUM(R81:T81) -> 250 | AA81: =SUM(R81:U81) -> 1904 | AB81: =SUM(R81:X81) -> 1914 | AC81: =Z81/(I81*N81)*1000000 -> 1.1676495 | AD81: =AA81/(I81*N81)*1000000 -> 8.8928189
A83: 1
A84: 2
A85: 3
A86: 4
A87: 5
A88: 6
A89: 7
A90: 8
A91: 9
A92: 10
A93: 11
A94: 12
... A122: 40
B124: Complete list of countries
A126: Region | B126: North America | H126: =SUM(H127:H130) -> 21779657 | I126: =SUM(I127:I130) -> 309708037 | J126: =I126/H126 -> 14.22006 | L126: =SUM(L127:L130) -> 376235557 | M126: =SUM(M127:M130) -> 445372726 | R126: =SUM(R127:R130) -> 11 | S126: =SUM(S127:S130) -> 28 | T126: =SUM(T127:T130) -> 252 | U126: =SUM(U127:U130) -> 1786 | V126: =SUM(V127:V130) -> 87 | W126: =SUM(W127:W130) -> 2 | X126: =SUM(X127:X130) -> 0 | Y126: =SUM(Y127:Y130) -> 39 | ... AB126: =SUM(AB127:AB130) -> 2166 | AC126: =Z126/(I126*N126)*1000000 -> #DIV/0! | AD126: =AA126/(I126*N126)*1000000 -> #DIV/0!
A127: Border | B127: United States | C127: US | D127: USA | E127: 840 | F127: ISO 3166-2:US | G127: .us | H127: 9629047 | I127: 278058880 | J127: 29 | K127: 0.9 | L127: 338070951 | M127: 403943147 | N127: 0.77 | O127: 0.23 | P127: 2-level | Q127: yes | R127: 9 | S127: 22 | T127: 219 | U127: 1654 | V127: 9 | W127: 1 | X127: 0 | Y127: =SUM(R127:S127) -> 31 | Z127: =SUM(R127:T127) -> 250 | AA127: =SUM(R127:U127) -> 1904 | AB127: =SUM(R127:X127) -> 1914 | AC127: =Z127/(I127*N127)*1000000 -> 1.1676495 | AD127: =AA127/(I127*N127)*1000000 -> 8.8928189
B128: Canada | C128: CA | D128: CAN | E128: 124 | F128: ISO 3166-2:CA | G128: .ca | H128: 9970610 | I128: 31592805 | J128: 3.2 | K128: 0.99 | L128: 38164606 | M128: 41429579 | N128: 0.77 | O128: 0.23 | P128: 1-level | Q128: yes | R128: 2 | S128: 6 | T128: 33 | U128: 132 | V128: 3 | W128: 0 | X128: 0 | Y128: =SUM(R128:S128) -> 8 | Z128: =SUM(R128:T128) -> 41 | AA128: =SUM(R128:U128) -> 173 | AB128: =SUM(R128:X128) -> 176 | AC128: =Z128/(I128*N128)*1000000 -> 1.6854076 | AD128: =AA128/(I128*N128)*1000000 -> 7.1115979
B129: Greenland (Denmark) | C129: GL | D129: GRL | E129: 304 | F129: ISO 3166-2:GL | G129: .gl | H129: 2180000 | I129: 56352 | R129: 0 | S129: 0 | T129: 0 | U129: 0 | V129: 74 | W129: 0 | X129: 0 | Y129: =SUM(R129:S129) -> 0 | Z129: =SUM(R129:T129) -> 0 | AA129: =SUM(R129:U129) -> 0 | AB129: =SUM(R129:X129) -> 74 | AC129: =Z129/(I129*N129)*1000000 -> #DIV/0! | AD129: =AA129/(I129*N129)*1000000 -> #DIV/0!
B130: Saint Pierre and Miquelon (France) | C130: GL | D130: GRL | E130: 304 | F130: ISO 3166-2:GL | G130: .gl | R130: 0 | S130: 0 | T130: 0 | U130: 0 | V130: 1 | W130: 1 | X130: 0 | Y130: =SUM(R130:S130) -> 0 | Z130: =SUM(R130:T130) -> 0 | AA130: =SUM(R130:U130) -> 0 | AB130: =SUM(R130:X130) -> 2 | AC130: =Z130/(I130*N130)*1000000 -> #DIV/0! | AD130: =AA130/(I130*N130)*1000000 -> #DIV/0!
A131: Space
A132: Region | B132: Central America | H132: =SUM(H133:H165) -> 2723989 | I132: =SUM(I133:I165) -> 176179232 | J132: =I132/H132 -> 64.676925 | L132: =SUM(L133:L165) -> 229661384 | M132: =SUM(M133:M165) -> 270901986 | R132: =SUM(R133:R165) -> 14 | S132: =SUM(S133:S165) -> 20 | T132: =SUM(T133:T165) -> 181 | U132: =SUM(U133:U165) -> 764 | V132: =SUM(V133:V165) -> 32 | W132: =SUM(W133:W165) -> 7 | X132: =SUM(X133:X165) -> 0 | Y132: =SUM(Y133:Y165) -> 34 | ... AB132: =SUM(AB133:AB165) -> 1018 | AC132: =Z132/(I132*N132)*1000000 -> #DIV/0! | AD132: =AA132/(I132*N132)*1000000 -> #DIV/0!
A133: Border | B133: Mexico | C133: MX | D133: MEX | E133: 484 | F133: ISO 3166-2:MX | G133: .mx | H133: 1964382 | I133: 101879170 | J133: 52 | K133: 1.5 | L133: 133834712 | M133: 153162145 | N133: 0.74 | O133: 0.26 | P133: 1-level | Q133: yes | R133: 10 | S133: 16 | T133: 124 | U133: 617 | V133: 0 | W133: 0 | X133: 0 | Y133: =SUM(R133:S133) -> 26 | Z133: =SUM(R133:T133) -> 150 | AA133: =SUM(R133:U133) -> 767 | AB133: =SUM(R133:X133) -> 767 | AC133: =Z133/(I133*N133)*1000000 -> 1.9896383 | AD133: =AA133/(I133*N133)*1000000 -> 10.173684
B134: Guatemala | C134: GT | D134: GTM | E134: 320 | F134: ISO 3166-2:GT | G134: .gt | H134: 108889 | I134: 12974361 | J134: 119 | K134: 2.6 | L134: 22050468 | M134: 31471616 | N134: 0.4 | O134: 0.6 | P134: 1-level | R134: 1 | S134: 0 | T134: 7 | U134: 9 | V134: 9 | W134: 1 | X134: 0 | Y134: =SUM(R134:S134) -> 1 | Z134: =SUM(R134:T134) -> 8 | AA134: =SUM(R134:U134) -> 17 | AB134: =SUM(R134:X134) -> 27 | AC134: =Z134/(I134*N134)*1000000 -> 1.5415017 | AD134: =AA134/(I134*N134)*1000000 -> 3.2756912
B135: Belize | C135: BZ | D135: BLZ | E135: 84 | F135: ISO 3166-2:BZ | G135: .bz | H135: 22965 | I135: 256062 | J135: 11 | K135: 2.7 | L135: 431723 | M135: 594229 | N135: 0.46 | O135: 0.54 | R135: 0 | S135: 0 | T135: 0 | U135: 1 | V135: 8 | W135: 0 | X135: 0 | Y135: =SUM(R135:S135) -> 0 | Z135: =SUM(R135:T135) -> 0 | AA135: =SUM(R135:U135) -> 1 | AB135: =SUM(R135:X135) -> 9 | AC135: =Z135/(I135*N135)*1000000 -> 0 | AD135: =AA135/(I135*N135)*1000000 -> 8.4897917
B136: El Salvador | C136: SV | D136: SLV | E136: 222 | F136: ISO 3166-2:SV | G136: .sv | H136: 21041 | I136: 6237662 | J136: 296 | K136: 1.85 | L136: 9107608 | M136: 12039149 | N136: 0.46 | O136: 0.54 | P136: 1-level | R136: 0 | S136: 0 | T136: 8 | U136: 11 | V136: 0 | W136: 0 | X136: 0 | Y136: =SUM(R136:S136) -> 0 | Z136: =SUM(R136:T136) -> 8 | AA136: =SUM(R136:U136) -> 19 | AB136: =SUM(R136:X136) -> 19 | AC136: =Z136/(I136*N136)*1000000 -> 2.7881127 | AD136: =AA136/(I136*N136)*1000000 -> 6.6217676
B137: Honduras | C137: HN | D137: HND | E137: 340 | F137: ISO 3166-2:HN | G137: .hn | H137: 112492 | I137: 6406052 | J137: 57 | K137: 2.43 | L137: 9344971 | M137: 11861333 | N137: 0.46 | O137: 0.54 | P137: 1-level | R137: 1 | S137: 0 | T137: 4 | U137: 14 | V137: 2 | W137: 1 | X137: 0 | Y137: =SUM(R137:S137) -> 1 | Z137: =SUM(R137:T137) -> 5 | AA137: =SUM(R137:U137) -> 19 | AB137: =SUM(R137:X137) -> 22 | AC137: =Z137/(I137*N137)*1000000 -> 1.6967651 | AD137: =AA137/(I137*N137)*1000000 -> 6.4477072
B138: Nicaragua | C138: NI | D138: NIC | E138: 558 | F138: ISO 3166-2:NI | G138: .ni | H138: 129494 | I138: 4918393 | J138: 38 | K138: 2.15 | L138: 7268523 | M138: 9084165 | N138: 0.38 | O138: 0.98 | P138: 1-level | R138: 0 | S138: 1 | T138: 1 | U138: 17 | V138: 1 | W138: 0 | X138: 0 | Y138: =SUM(R138:S138) -> 1 | Z138: =SUM(R138:T138) -> 2 | AA138: =SUM(R138:U138) -> 19 | AB138: =SUM(R138:X138) -> 20 | AC138: =Z138/(I138*N138)*1000000 -> 1.0700971 | AD138: =AA138/(I138*N138)*1000000 -> 10.165922
B139: Costa Rica | C139: CR | D139: CRI | E139: 188 | F139: ISO 3166-2:CR | G139: .cr | H139: 51060 | I139: 3773057 | J139: 74 | K139: 1.65 | L139: 5074472 | M139: 5696700 | N139: 0.51 | O139: 0.49 | P139: 1-level | R139: 0 | S139: 0 | T139: 5 | U139: 6 | V139: 0 | W139: 0 | X139: 0 | Y139: =SUM(R139:S139) -> 0 | Z139: =SUM(R139:T139) -> 5 | AA139: =SUM(R139:U139) -> 11 | AB139: =SUM(R139:X139) -> 11 | AC139: =Z139/(I139*N139)*1000000 -> 2.5984027 | AD139: =AA139/(I139*N139)*1000000 -> 5.716486
B140: Panama | C140: PA | D140: PAN | E140: 591 | F140: ISO 3166-2:PA | G140: .pa | H140: 75517 | I140: 2845645 | J140: 38 | K140: 1.3 | L140: 3570330 | M140: 3849328 | N140: 0.57 | O140: 0.43 | P140: 1-level | R140: 0 | S140: 0 | T140: 2 | U140: 14 | V140: 0 | W140: 2 | X140: 0 | Y140: =SUM(R140:S140) -> 0 | Z140: =SUM(R140:T140) -> 2 | AA140: =SUM(R140:U140) -> 16 | AB140: =SUM(R140:X140) -> 18 | AC140: =Z140/(I140*N140)*1000000 -> 1.2330322 | AD140: =AA140/(I140*N140)*1000000 -> 9.8642576
A141: Border | B141: Cuba | C141: CU | D141: CUB | E141: 192 | F141: ISO 3166-2:CU | G141: .cu | H141: 114525 | I141: 11184023 | J141: 98 | K141: 0.37 | L141: 11831192 | M141: 10869252 | N141: 0.77 | O141: 0.23 | P141: 1-level | R141: 1 | S141: 0 | T141: 12 | U141: 19 | V141: 0 | W141: 0 | X141: 0 | Y141: =SUM(R141:S141) -> 1 | Z141: =SUM(R141:T141) -> 13 | AA141: =SUM(R141:U141) -> 32 | AB141: =SUM(R141:X141) -> 32 | AC141: =Z141/(I141*N141)*1000000 -> 1.5095746 | AD141: =AA141/(I141*N141)*1000000 -> 3.7158759
B142: Dominican Republic | C142: DO | D142: DOM | E142: 214 | F142: ISO 3166-2:DO | G142: .do | H142: 48400 | I142: 8581477 | J142: 177 | K142: 1.63 | L142: 12093915 | M142: 14922735 | N142: 0.65 | O142: 0.35 | R142: 1 | S142: 1 | T142: 7 | U142: 5 | V142: 0 | W142: 0 | X142: 0 | Y142: =SUM(R142:S142) -> 2 | Z142: =SUM(R142:T142) -> 9 | AA142: =SUM(R142:U142) -> 14 | AB142: =SUM(R142:X142) -> 14 | AC142: =Z142/(I142*N142)*1000000 -> 1.6134931 | AD142: =AA142/(I142*N142)*1000000 -> 2.5098781
B143: Haiti | C143: HT | D143: HTI | E143: 332 | F143: ISO 3166-2:HT | G143: .ht | H143: 27750 | I143: 6964549 | J143: 251 | K143: 1.4 | L143: 9550137 | M143: 11851865 | N143: 0.34 | O143: 0.66 | R143: 0 | S143: 1 | T143: 3 | U143: 3 | V143: 0 | W143: 0 | X143: 0 | Y143: =SUM(R143:S143) -> 1 | Z143: =SUM(R143:T143) -> 4 | AA143: =SUM(R143:U143) -> 7 | AB143: =SUM(R143:X143) -> 7 | AC143: =Z143/(I143*N143)*1000000 -> 1.6892272 | AD143: =AA143/(I143*N143)*1000000 -> 2.9561477
B144: Jamaica | C144: JM | D144: JAM | E144: 388 | F144: ISO 3166-2:JM | G144: .jm | H144: 10991 | I144: 2665636 | J144: 243 | K144: 0.51 | L144: 3249732 | M144: 3505286 | N144: 0.56 | O144: 0.44 | R144: 0 | S144: 1 | T144: 1 | U144: 3 | V144: 0 | W144: 0 | X144: 0 | Y144: =SUM(R144:S144) -> 1 | Z144: =SUM(R144:T144) -> 2 | AA144: =SUM(R144:U144) -> 5 | AB144: =SUM(R144:X144) -> 5 | AC144: =Z144/(I144*N144)*1000000 -> 1.3398035 | AD144: =AA144/(I144*N144)*1000000 -> 3.3495089
B145: The Bahamas | C145: BS | D145: BHS | E145: 44 | F145: ISO 3166-2:BS | G145: .bs | H145: 13939 | I145: 297852 | J145: 21 | K145: 0.93 | L145: 326029 | M145: 318301 | N145: 0.88 | O145: 0.12 | R145: 0 | S145: 0 | T145: 1 | U145: 1 | V145: 0 | W145: 0 | X145: 0 | Y145: =SUM(R145:S145) -> 0 | Z145: =SUM(R145:T145) -> 1 | AA145: =SUM(R145:U145) -> 2 | AB145: =SUM(R145:X145) -> 2 | AC145: =Z145/(I145*N145)*1000000 -> 3.8151956 | AD145: =AA145/(I145*N145)*1000000 -> 7.6303912
A146: Border | B146: Antigua and Barbuda | C146: AG | D146: ATG | E146: 28 | F146: ISO 3166-2:AG | G146: .ag | H146: 442 | I146: 66970 | J146: 152 | K146: 0.74 | L146: 75116 | M146: 69259 | N146: 0.37 | O146: 0.64 | R146: 0 | S146: 0 | T146: 0 | U146: 2 | V146: 0 | W146: 0 | X146: 0 | Y146: =SUM(R146:S146) -> 0 | Z146: =SUM(R146:T146) -> 0 | AA146: =SUM(R146:U146) -> 2 | AB146: =SUM(R146:X146) -> 2 | AC146: =Z146/(I146*N146)*1000000 -> 0 | AD146: =AA146/(I146*N146)*1000000 -> 80.713833
B147: Barbados | C147: BB | D147: BRB | E147: 52 | F147: ISO 3166-2:BB | G147: .bb | H147: 430 | I147: 275330 | J147: 640 | K147: 0.46 | L147: 299852 | M147: 284494 | N147: 0.49 | O147: 0.51 | R147: 0 | S147: 0 | T147: 1 | U147: 0 | V147: 0 | W147: 0 | X147: 0 | Y147: =SUM(R147:S147) -> 0 | Z147: =SUM(R147:T147) -> 1 | AA147: =SUM(R147:U147) -> 1 | AB147: =SUM(R147:X147) -> 1 | AC147: =Z147/(I147*N147)*1000000 -> 7.4122556 | AD147: =AA147/(I147*N147)*1000000 -> 7.4122556
B148: Dominica | C148: DM | D148: DMA | E148: 212 | F148: ISO 3166-2:DM | G148: .dm | H148: 750 | I148: 70786 | J148: 94 | K148: -0.98 | L148: 77936 | M148: 81961 | N148: 0.7 | O148: 0.3 | R148: 0 | S148: 0 | T148: 0 | U148: 1 | V148: 0 | W148: 0 | X148: 0 | Y148: =SUM(R148:S148) -> 0 | Z148: =SUM(R148:T148) -> 0 | AA148: =SUM(R148:U148) -> 1 | AB148: =SUM(R148:X148) -> 1 | AC148: =Z148/(I148*N148)*1000000 -> 0 | AD148: =AA148/(I148*N148)*1000000 -> 20.181553
B149: Federation of Saint Kitts and Nevis | C149: KN | D149: KNA | E149: 659 | F149: ISO 3166-2:KN | G149: .kn | H149: 269 | I149: 38756 | J149: 144 | K149: -0.11 | L149: 46486 | M149: 52348 | N149: 0.33 | O149: 0.67 | R149: 0 | S149: 0 | T149: 0 | U149: 0 | V149: 1 | W149: 0 | X149: 0 | Y149: =SUM(R149:S149) -> 0 | Z149: =SUM(R149:T149) -> 0 | AA149: =SUM(R149:U149) -> 0 | AB149: =SUM(R149:X149) -> 1 | AC149: =Z149/(I149*N149)*1000000 -> 0 | AD149: =AA149/(I149*N149)*1000000 -> 0
B150: Grenada | C150: GD | D150: GRD | E150: 308 | F150: ISO 3166-2:GD | G150: .gd | H150: 344 | I150: 89227 | J150: 259 | K150: -0.06 | L150: 96253 | M150: 87136 | N150: 0.38 | O150: 0.62 | R150: 0 | S150: 0 | T150: 0 | U150: 1 | V150: 0 | W150: 0 | X150: 0 | Y150: =SUM(R150:S150) -> 0 | Z150: =SUM(R150:T150) -> 0 | AA150: =SUM(R150:U150) -> 1 | AB150: =SUM(R150:X150) -> 1 | AC150: =Z150/(I150*N150)*1000000 -> 0 | AD150: =AA150/(I150*N150)*1000000 -> 29.493079
B151: Saint Lucia | C151: LC | D151: LCA | E151: 662 | F151: ISO 3166-2:LC | G151: .lc | H151: 616 | I151: 158178 | J151: 257 | K151: 1.23 | L151: 209064 | M151: 235420 | N151: 0.38 | O151: 0.63 | R151: 0 | S151: 0 | T151: 0 | U151: 1 | V151: 2 | W151: 0 | X151: 0 | Y151: =SUM(R151:S151) -> 0 | Z151: =SUM(R151:T151) -> 0 | AA151: =SUM(R151:U151) -> 1 | AB151: =SUM(R151:X151) -> 3 | AC151: =Z151/(I151*N151)*1000000 -> 0 | AD151: =AA151/(I151*N151)*1000000 -> 16.63682
B152: Saint Vincent and The Grenadines | C152: VC | D152: VCT | E152: 670 | F152: ISO 3166-2:VC | G152: .vc | H152: 389 | I152: 115942 | J152: 298 | K152: 0.4 | L152: 118308 | M152: 92335 | N152: 0.53 | O152: 0.47 | R152: 0 | S152: 0 | T152: 0 | U152: 1 | V152: 0 | W152: 0 | X152: 0 | Y152: =SUM(R152:S152) -> 0 | Z152: =SUM(R152:T152) -> 0 | AA152: =SUM(R152:U152) -> 1 | AB152: =SUM(R152:X152) -> 1 | AC152: =Z152/(I152*N152)*1000000 -> 0 | AD152: =AA152/(I152*N152)*1000000 -> 16.273589
B153: Trinidad Tobago | C153: TT | D153: TTO | E153: 780 | F153: ISO 3166-2:TT | G153: .tt | H153: 5128 | I153: 1169682 | J153: 228 | K153: -0.51 | L153: 1004557 | M153: 772929 | N153: 0.74 | O153: 0.26 | R153: 0 | S153: 0 | T153: 0 | U153: 3 | V153: 3 | W153: 0 | X153: 0 | Y153: =SUM(R153:S153) -> 0 | Z153: =SUM(R153:T153) -> 0 | AA153: =SUM(R153:U153) -> 3 | AB153: =SUM(R153:X153) -> 6 | AC153: =Z153/(I153*N153)*1000000 -> 0 | AD153: =AA153/(I153*N153)*1000000 -> 3.4659455
A154: Border | B154: Anguilla (United Kingdom) | C154: AI | D154: AIA | E154: 660 | F154: ISO 3166-2:AI | G154: .ai | R154: 0 | S154: 0 | T154: 0 | U154: 0 | V154: 0 | W154: 1 | X154: 0 | Y154: =SUM(R154:S154) -> 0 | Z154: =SUM(R154:T154) -> 0 | AA154: =SUM(R154:U154) -> 0 | AB154: =SUM(R154:X154) -> 1 | AC154: =Z154/(I154*N154)*1000000 -> #DIV/0! | AD154: =AA154/(I154*N154)*1000000 -> #DIV/0!
B155: Aruba (Netherlands) | C155: AW | D155: ABW | E155: 533 | F155: ISO 3166-2:AW | G155: .aw | H155: 190 | I155: 70007 | R155: 0 | S155: 0 | T155: 0 | U155: 1 | V155: 1 | W155: 0 | X155: 0 | Y155: =SUM(R155:S155) -> 0 | Z155: =SUM(R155:T155) -> 0 | AA155: =SUM(R155:U155) -> 1 | AB155: =SUM(R155:X155) -> 2 | AC155: =Z155/(I155*N155)*1000000 -> #DIV/0! | AD155: =AA155/(I155*N155)*1000000 -> #DIV/0!
B156: Bermuda (United Kingdom) | C156: BM | D156: BMU | E156: 60 | F156: ISO 3166-2:BM | G156: .bm | H156: 53 | R156: 0 | S156: 0 | T156: 0 | U156: 0 | V156: 0 | W156: 1 | X156: 0 | Y156: =SUM(R156:S156) -> 0 | Z156: =SUM(R156:T156) -> 0 | AA156: =SUM(R156:U156) -> 0 | AB156: =SUM(R156:X156) -> 1 | AC156: =Z156/(I156*N156)*1000000 -> #DIV/0! | AD156: =AA156/(I156*N156)*1000000 -> #DIV/0!
B157: British Virgin Islands (United Kingdom) | C157: VG | D157: VGB | E157: 92 | F157: ISO 3166-2:VG | G157: .vg | H157: 153 | I157: 20812 | R157: 0 | S157: 0 | T157: 0 | U157: 0 | V157: 1 | W157: 0 | X157: 0 | Y157: =SUM(R157:S157) -> 0 | Z157: =SUM(R157:T157) -> 0 | AA157: =SUM(R157:U157) -> 0 | AB157: =SUM(R157:X157) -> 1 | AC157: =Z157/(I157*N157)*1000000 -> #DIV/0! | AD157: =AA157/(I157*N157)*1000000 -> #DIV/0!
B158: Cayman Islands (United Kingdom) | C158: KY | D158: CYM | E158: 136 | F158: ISO 3166-2:KY | G158: .ky | H158: 260 | I158: 35527 | R158: 0 | S158: 0 | T158: 0 | U158: 0 | V158: 1 | W158: 0 | X158: 0 | Y158: =SUM(R158:S158) -> 0 | Z158: =SUM(R158:T158) -> 0 | AA158: =SUM(R158:U158) -> 0 | AB158: =SUM(R158:X158) -> 1 | AC158: =Z158/(I158*N158)*1000000 -> #DIV/0! | AD158: =AA158/(I158*N158)*1000000 -> #DIV/0!
B159: Guadeloupe (France) | C159: GP | D159: GLP | E159: 312 | F159: ISO 3166-2:GP | G159: .gp | H159: 1780 | I159: 431170 | J159: 253 | R159: 0 | S159: 0 | T159: 0 | U159: 7 | V159: 1 | W159: 0 | X159: 0 | Y159: =SUM(R159:S159) -> 0 | Z159: =SUM(R159:T159) -> 0 | AA159: =SUM(R159:U159) -> 7 | AB159: =SUM(R159:X159) -> 8 | AC159: =Z159/(I159*N159)*1000000 -> #DIV/0! | AD159: =AA159/(I159*N159)*1000000 -> #DIV/0! | AE159: Population 1990
B160: Martinique (France) | C160: MQ | D160: MTQ | E160: 474 | F160: ISO 3166-2:MQ | G160: .mq | H160: 1102 | I160: 363031 | R160: 0 | S160: 0 | T160: 0 | U160: 4 | V160: 0 | W160: 0 | X160: 0 | Y160: =SUM(R160:S160) -> 0 | Z160: =SUM(R160:T160) -> 0 | AA160: =SUM(R160:U160) -> 4 | AB160: =SUM(R160:X160) -> 4 | AC160: =Z160/(I160*N160)*1000000 -> #DIV/0! | AD160: =AA160/(I160*N160)*1000000 -> #DIV/0!
B161: Montserrat (United Kingdom) | C161: MS | D161: MSR | E161: 500 | F161: ISO 3166-2:MS | G161: .ms | H161: 102 | R161: 0 | S161: 0 | T161: 0 | U161: 0 | V161: 0 | W161: 1 | X161: 0 | Y161: =SUM(R161:S161) -> 0 | Z161: =SUM(R161:T161) -> 0 | AA161: =SUM(R161:U161) -> 0 | AB161: =SUM(R161:X161) -> 1 | AC161: =Z161/(I161*N161)*1000000 -> #DIV/0! | AD161: =AA161/(I161*N161)*1000000 -> #DIV/0!
B162: Netherlands Antilles (Netherlands) | H162: 800 | I162: 212226 | R162: 0 | S162: 0 | T162: 1 | U162: 0 | V162: 0 | W162: 0 | X162: 0 | Y162: =SUM(R162:S162) -> 0 | Z162: =SUM(R162:T162) -> 1 | AA162: =SUM(R162:U162) -> 1 | AB162: =SUM(R162:X162) -> 1 | AC162: =Z162/(I162*N162)*1000000 -> #DIV/0! | AD162: =AA162/(I162*N162)*1000000 -> #DIV/0!
B163: Puerto Rico (United States) | C163: PR | D163: PRI | E163: 630 | F163: ISO 3166-2:PR | G163: .pr | H163: 8959 | I163: 3937316 | J163: 439 | R163: 0 | S163: 0 | T163: 4 | U163: 23 | V163: 0 | W163: 0 | X163: 0 | Y163: =SUM(R163:S163) -> 0 | Z163: =SUM(R163:T163) -> 4 | AA163: =SUM(R163:U163) -> 27 | AB163: =SUM(R163:X163) -> 27 | AC163: =Z163/(I163*N163)*1000000 -> #DIV/0! | AD163: =AA163/(I163*N163)*1000000 -> #DIV/0!
...

Sheet Introduction
B2: World Cities Database
B3: Compiled in Excel by Teoalida © www.teoalida.com/database/cities
B5: I started compiling this list in 2003, independently from internet world, based on Microsoft Encarta Encyclopedia 2002. When I connected to internet in 2005 I abandoned this database because the internet was already providing information about city population, but seeing that other databases made by me attracted attention from businesses and web developers, I revived city database in 2015, updated existing countries and added remaining countries using Encarta 2009 and I published on my website for sale to professional use, and afterwards I gradually expanded it to include more smaller cities.
B7: Encarta is the best encyclopedia I ever seen. I like its World Atlas, dynamic maps generated with the same engine that powered Microsoft MapPoint software, you can change map format: comprehensive, political, physical features, statistical, Earth by day, Earth at night, Tectonic, Ecoregions, Climate, temperature (January, July), precipitation (January, July, annual), population density, languages, religions, timezones, outline, the moon. There is NO other map service able to do this.
B9: Microsoft discontinued Encarta in 2009, both CD / DVD and online version, but there are many third-party websites where you can download Microsoft Student & Encarta Encyclopedia.
B11: I classified cities according population icons used by Encarta Encyclopedia 2009, irrespective of legal status (city, town, unincorporated community), which vary from country to country so making a single worldwide database of official "cities" excluding towns, communes, villages and other places pose major troubles, especially since few countries does not have any "city". Having all data from a single source guarantee a harmonized database of major cities for all countries of the world.
B13: Consequently, number of cities in each country is nearly proportional with country urban population, in average for every 800,000 people living in urban areas, there is 1 city with population over 100,000.
B15: Database include 16948 cities classified by 7 categories according Encarta population icons:
B17: 295 cities over 1,000,000
B18: 308 cities 500,000 - 999,999
B19: 3101 cities 100,000 - 499,999
B20: 12810 cities 20,000 - 99,999
... B31: Based on feedback from customers, I realized that most purchased city database for web development, making drop-down boxes for country > state / province / region / county > city... thus population figures are not required, but classifying cities by population is helpful to shortlist database to major cities if you need.
