Workbook

Sheet World Cities Database
B2: Country | C2: Division 1 | D2: Division 2 | E2: City | F2: City class | G2: Population | H2: Population source | I2: Rank | J2: Capital country | K2: Capital div 1 | L2: Capital div 2 | M2: Location by www.gps-coordinates.net | N2: Name of location www.gps-coordinates.net got coordinates for
B3: =COUNTA(B13:B41252)-COUNTIF(B13:B41252,"-") -> 489 | C3: =COUNTA(C13:C41252)-COUNTIF(C13:C41252,"-") -> 489 | D3: =COUNTA(D13:D41252)-COUNTIF(D13:D41252,"-") -> 467 | E3: =COUNTA(E13:E41252)-COUNTIF(E13:E41252,"-") -> 469 | F3: =COUNTA(F13:F41252)-COUNTIF(F13:F41252,"-") -> 469 | G3: =COUNTA(G13:G41252)-COUNTIF(G13:G41252,"-") -> 128 | H3: =COUNTA(H13:H41252)-COUNTIF(H13:H41252,"-") -> 128 | I3: =COUNTA(I13:I41252)-COUNTIF(I13:I41252,"-") -> 5 | ... N3: =COUNTA(N13:N41252)-COUNTIF(N13:N41252,"-") -> 469
B5: World Cities Database
B6: Compiled in Excel by Teoalida © www.teoalida.com/database/cities
B8: I started compiling this list in 2003, independently from internet world, based on Microsoft Encarta Encyclopedia 2002. When I connected to internet in 2005 I abandoned this database because the internet was already providing information about city population, but seeing that other databases made by me attracted attention from businesses and web developers, I revived city database in 2015, updated existing countries and added remaining countries using Encarta 2009 and I published on my website for sale to professional use, and afterwards I gradually expanded it to include more smaller cities.
B10: This file is a SAMPLE, including Italy with 469 cities over 20,000 people
B11: Visit above website for the FULL database: 200+ countries and dependent territories, 17,000+ cities over 20,000 people.
B12: See Countries sheet for the list of countries and number of cities included from each.
B14: Italy | C14: Abruzzi | D14: - | E14: - | F14: -
B15: Italy | C15: Abruzzi | D15: Chieti | E15: Chieti | F15: D 20,000 - 99,999 | G15: 55,260 (2007e) | H15: city article | L15: province | M15: 42.3495033,13.407139 | N15: Via Chieti, 67100 L'Aquila AQ, Italy
B16: Italy | C16: Abruzzi | D16: Chieti | E16: Lanciano | F16: D 20,000 - 99,999 | G16: 36,335 (2007e) | H16: city article | M16: 42.7113432,13.9537841 | N16: 64021 Roseto degli Abruzzi TE, Italy
B17: Italy | C17: Abruzzi | D17: Chieti | E17: Francavilla al Mare | F17: D 20,000 - 99,999 | M17: 42.4195035,14.2911945 | N17: Francavilla al Mare, Via Duca degli Abruzzi, 1, 66023 Francavilla al Mare CH, Italy
B18: Italy | C18: Abruzzi | D18: Chieti | E18: Ortona | F18: D 20,000 - 99,999 | M18: 42.3557058,14.4022821 | N18: Via Cardinal Abruzzi, 66026 Ortona CH, Italy
B19: Italy | C19: Abruzzi | D19: Chieti | E19: Vasto | F19: D 20,000 - 99,999 | M19: 42.4423461,13.4292532 | N19: L'Aquila, Italy
B20: Italy | C20: Abruzzi | D20: L'Aquilla | E20: L'Aquila | F20: D 20,000 - 99,999 | G20: 72,222 (2007e) | H20: city article | K20: region | L20: province | M20: 42.3510918,13.384921 | N20: L'Aquila, Piazzale Caduti 8 Dicembre 1943, 67100 L'Aquila AQ, Italy
B21: Italy | C21: Abruzzi | D21: L'Aquilla | E21: Avezzano | F21: D 20,000 - 99,999 | M21: 42.3480275,13.4094102 | N21: Via Avezzano, 67100 L'Aquila AQ, Italy
B22: Italy | C22: Abruzzi | D22: L'Aquilla | E22: Sulmona | F22: D 20,000 - 99,999 | M22: 42.6742306,14.0170574 | N22: Via Sulmona, 64026 Roseto degli Abruzzi TE, Italy
B23: Italy | C23: Abruzzi | D23: Pescara | E23: Pescara | F23: C 100,000 - 499,999 | G23: 122,402 (2007e) | H23: city article | L23: province | M23: 42.6747957,14.0186004 | N23: Via Pescara, 64026 Roseto degli Abruzzi TE, Italy
B24: Italy | C24: Abruzzi | D24: Pescara | E24: Montesilvano | F24: D 20,000 - 99,999 | M24: 42.5234404,14.1538859 | N24: Duca degli Abruzzi, Viale Carlo Maresca, 15, 65015 Montesilvano PE, Italy
B25: Italy | C25: Abruzzi | D25: Teramo | E25: Teramo | F25: D 20,000 - 99,999 | G25: 53,263 (2007e) | H25: city article | L25: province | M25: 42.6866275,14.0086723 | N25: Via Teramo, 64026 Roseto degli Abruzzi TE, Italy
B26: Italy | C26: Abruzzi | D26: Teramo | E26: Giulianova | F26: D 20,000 - 99,999 | M26: 42.3430037,13.4087906 | N26: Via Giulianova, 67100 L'Aquila AQ, Italy
B27: Italy | C27: Abruzzi | D27: Teramo | E27: Roseto degli Abruzzi | F27: D 20,000 - 99,999 | M27: 42.6778289,14.0151424 | N27: Roseto degli Abruzzi, Via Cristoforo Colombo, 64026 Roseto degli Abruzzi TE, Italy
B28: Italy | C28: Apulia | D28: - | E28: - | F28: -
B29: Italy | C29: Apulia | D29: - | E29: Cannae | F29: G other (not found on map) | G29: no population | H29: city article | M29: 41.3048453,16.1490555 | N29: Battaglia di Canne, Strada Provinciale Salinelle, 70051 Barletta, Italy
B30: Italy | C30: Apulia | D30: Bari | E30: Bari | F30: C 100,000 - 499,999 | G30: 325,052 (2007e) | H30: city article | K30: region | L30: province | M30: 41.1257843,16.8620293 | N30: Bari, Italy
B31: Italy | C31: Apulia | D31: Bari | E31: Andria | F31: D 20,000 - 99,999 | G31: 98,069 (2007e) | H31: city article | M31: 41.2276463,16.2954346 | N31: Andria, Apulia, Italy
B32: Italy | C32: Apulia | D32: Bari | E32: Molfetta | F32: D 20,000 - 99,999 | G32: 59,835 (2007e) | H32: city article | M32: 41.1992456,16.5968279 | N32: 70056 Molfetta BA, Italy
B33: Italy | C33: Apulia | D33: Bari | E33: Acquaviva delle Fonti | F33: D 20,000 - 99,999 | M33: 40.897829,16.842487 | N33: 70021 Acquaviva delle Fonti BA, Italy
B34: Italy | C34: Apulia | D34: Bari | E34: Altamura | F34: D 20,000 - 99,999 | M34: 40.8285595,16.5527314 | N34: 70022 Altamura BA, Italy
B35: Italy | C35: Apulia | D35: Bari | E35: Barletta | F35: D 20,000 - 99,999 | M35: 41.3214976,16.2868696 | N35: Barletta, Apulia, Italy
B36: Italy | C36: Apulia | D36: Bari | E36: Bisceglie | F36: D 20,000 - 99,999 | M36: 41.2402745,16.5010109 | N36: Bisceglie, Apulia, Italy
B37: Italy | C37: Apulia | D37: Bari | E37: Bitonto | F37: D 20,000 - 99,999 | M37: 41.1084971,16.691548 | N37: 70032 Bitonto BA, Italy
B38: Italy | C38: Apulia | D38: Bari | E38: Canosa di Puglia | F38: D 20,000 - 99,999 | M38: 41.219631,16.067466 | N38: 76012 Canosa di Puglia, Italy
B39: Italy | C39: Apulia | D39: Bari | E39: Conversano | F39: D 20,000 - 99,999 | M39: 40.9683956,17.1137706 | N39: 70014 Conversano BA, Italy
B40: Italy | C40: Apulia | D40: Bari | E40: Corato | F40: D 20,000 - 99,999 | M40: 41.1527614,16.4114643 | N40: Corato, Bari, Italy
B41: Italy | C41: Apulia | D41: Bari | E41: Gioia del Colle | F41: D 20,000 - 99,999 | M41: 40.796728,16.92359 | N41: 70023 Gioia del Colle BA, Italy
B42: Italy | C42: Apulia | D42: Bari | E42: Giovinazzo | F42: D 20,000 - 99,999 | M42: 41.1875008,16.6716662 | N42: 70054 Giovinazzo BA, Italy
B43: Italy | C43: Apulia | D43: Bari | E43: Gravina in Puglia | F43: D 20,000 - 99,999 | M43: 40.819725,16.422779 | N43: 70024 Gravina in Puglia BA, Italy
B44: Italy | C44: Apulia | D44: Bari | E44: Modugno | F44: D 20,000 - 99,999 | M44: 41.0825639,16.7805515 | N44: 70026 Modugno BA, Italy
... B53: Italy | C53: Apulia | D53: Bari | E53: Triggiano | F53: D 20,000 - 99,999 | M53: 41.063448,16.9216976 | N53: 70019 Triggiano BA, Italy
...

Sheet Countries
B2: - | H2: - | K2: - | N2: - | R2: Number of cities breakdown by population | AC2: -
B3: Country | C3: Alpha-2 code | D3: Alpha-3 code | E3: Numeric code | F3: Subdivision code links | G3: Internet ccTLD | H3: Area | I3: Population (2001e) | J3: Density (2001e) | K3: Growth rate | L3: Population 2025 (2000e) | M3: Population 2050 (2000e) | N3: Urban | O3: Rural | P3: Provinces on map | Q3: Provinces table | R3: A 1,000,000 and over | S3: B 500,000 - 999,999 | T3: C 100,000 - 499,999 | U3: D 20,000 - 99,999 | V3: E 5,000 - 19,999* | W3: F 1 - 4,999* | X3: G* | Y3: over 500k | Z3: over 100k | AA3: over 20k | AB3: All | AC3: Cities over 100k / urban million | AD3: Cities over 20k / urban million
H4: =H12 -> 1.4988893e+08 | I4: =I12 -> 6147436454 | J4: =J12 -> 41.013278 | L4: =L12 -> 7778916109 | M4: =M12 -> 8981871583 | R4: =R12 -> 295 | S4: =S12 -> 308 | T4: =T12 -> 3100 | U4: =U12 -> 12810 | V4: =V12 -> 374 | W4: =W12 -> 46 | X4: =X12 -> 14 | Y4: =Y12 -> 603 | ... AB4: =AB12 -> 16947
B6: World Countries & Number of cities statistics
B7: Compiled in Excel by Teoalida © www.teoalida.com/database/geography
B9: By region
B10: I divided the world into 12 regions to have approximately similar population and number of cities, to create below chart and compare number of cities breakdown by population with total population.
A12: Region | B12: Regions total | H12: =SUM(H13:H24) -> 1.4988893e+08 | I12: =SUM(I13:I24) -> 6147436454 | J12: =I12/H12 -> 41.013278 | L12: =SUM(L13:L24) -> 7778916109 | M12: =SUM(M13:M24) -> 8981871583 | R12: =SUM(R13:R24) -> 295 | S12: =SUM(S13:S24) -> 308 | T12: =SUM(T13:T24) -> 3100 | U12: =SUM(U13:U24) -> 12810 | V12: =SUM(V13:V24) -> 374 | W12: =SUM(W13:W24) -> 46 | X12: =SUM(X13:X24) -> 14 | Y12: =SUM(Y13:Y24) -> 603 | ... AB12: =SUM(AB13:AB24) -> 16947
B13: North America | H13: =H126 -> 21779657 | I13: =I126 -> 309708037 | J13: =J126 -> 14.22006 | L13: =L126 -> 376235557 | M13: =M126 -> 445372726 | R13: =R126 -> 11 | S13: =S126 -> 28 | T13: =T126 -> 252 | U13: =U126 -> 1786 | V13: =V126 -> 87 | W13: =W126 -> 2 | X13: =X126 -> 0 | Y13: =Y126 -> 39 | ... AB13: =AB126 -> 2166 | AC13: =Z13/I13*1000000 -> 0.9395946 | AD13: =AA13/I13*1000000 -> 6.7063161
B14: Central America | H14: =H132 -> 2723989 | I14: =I132 -> 176179232 | J14: =J132 -> 64.676925 | L14: =L132 -> 229661384 | M14: =M132 -> 270901986 | R14: =R132 -> 14 | S14: =S132 -> 20 | T14: =T132 -> 181 | U14: =U132 -> 764 | V14: =V132 -> 32 | W14: =W132 -> 7 | X14: =X132 -> 0 | Y14: =Y132 -> 34 | ... AB14: =AB132 -> 1018 | AC14: =Z14/I14*1000000 -> 1.2203482 | AD14: =AA14/I14*1000000 -> 5.5568411
B15: South America | H15: =H167 -> 17858471 | I15: =I167 -> 350821668 | J15: =J167 -> 19.644552 | L15: =L167 -> 435341948 | M15: =M167 -> 479952939 | R15: =R167 -> 30 | S15: =S167 -> 36 | T15: =T167 -> 338 | U15: =U167 -> 1679 | V15: =V167 -> 38 | W15: =W167 -> 7 | X15: =X167 -> 1 | Y15: =Y167 -> 66 | ... AB15: =AB167 -> 2129 | AC15: =Z15/I15*1000000 -> 1.1515822 | AD15: =AA15/I15*1000000 -> 5.9374896
B16: Europe | H16: =H183 -> 4998357.9 | I16: =I183 -> 513077994 | J16: =J183 -> 102.64931 | L16: =L183 -> 502445512 | M16: =M183 -> 398243815 | R16: =R183 -> 18 | S16: =S183 -> 33 | T16: =T183 -> 475 | U16: =U183 -> 3426 | V16: =V183 -> 143 | W16: =W183 -> 22 | X16: =X183 -> 6 | Y16: =Y183 -> 51 | ... AB16: =AB183 -> 4123 | AC16: =Z16/I16*1000000 -> 1.0251853 | AD16: =AA16/I16*1000000 -> 7.7025326
B17: East Europe & Siberia | H17: =H230 -> 22274922 | I17: =I230 -> 290349292 | J17: =J230 -> 13.034806 | L17: =L230 -> 299656281 | M17: =M230 -> 299524884 | R17: =R230 -> 22 | S17: =S230 -> 30 | T17: =T230 -> 288 | U17: =U230 -> 997 | V17: =V230 -> 29 | W17: =W230 -> 1 | X17: =X230 -> 0 | Y17: =Y230 -> 52 | ... AB17: =AB230 -> 1367 | AC17: =Z17/I17*1000000 -> 1.1710034 | AD17: =AA17/I17*1000000 -> 4.6047986
B18: Middle East | H18: =H247 -> 6380664 | I18: =I247 -> 237487119 | J18: =J247 -> 37.219813 | L18: =L247 -> 362179709 | M18: =M247 -> 486395622 | R18: =R247 -> 20 | S18: =S247 -> 18 | T18: =T247 -> 129 | U18: =U247 -> 408 | V18: =V247 -> 4 | W18: =W247 -> 0 | X18: =X247 -> 1 | Y18: =Y247 -> 38 | ... AB18: =AB247 -> 580 | AC18: =Z18/I18*1000000 -> 0.70319603 | AD18: =AA18/I18*1000000 -> 2.4211839
B19: East Asia | H19: =H267 -> 11771443 | I19: =I267 -> 1494781018 | J19: =J267 -> 126.98367 | L19: =L267 -> 1667074128 | M19: =M267 -> 1653364624 | R19: =R267 -> 74 | S19: =S267 -> 58 | T19: =T267 -> 657 | U19: =U267 -> 1711 | V19: =V267 -> 0 | W19: =W267 -> 0 | X19: =X267 -> 1 | Y19: =Y267 -> 132 | ... AB19: =AB267 -> 2501 | AC19: =Z19/I19*1000000 -> 0.52783651 | AD19: =AA19/I19*1000000 -> 1.6724858
B20: South Asia | H20: =H277 -> 5021575 | I20: =I277 -> 1379743931 | J20: =J277 -> 274.76318 | L20: =L277 -> 1880359146 | M20: =M277 -> 2241562339 | R20: =R277 -> 47 | S20: =S277 -> 38 | T20: =T277 -> 352 | U20: =U277 -> 988 | V20: =V277 -> 4 | W20: =W277 -> 0 | X20: =X277 -> 1 | Y20: =Y277 -> 85 | ... AB20: =AB277 -> 1430 | AC20: =Z20/I20*1000000 -> 0.31672544 | AD20: =AA20/I20*1000000 -> 1.0328003
B21: Southeast Asia | H21: =H287 -> 4494680 | I21: =I287 -> 540871111 | J21: =J287 -> 120.33584 | L21: =L287 -> 716321953 | M21: =M287 -> 820555222 | R21: =R287 -> 20 | S21: =S287 -> 17 | T21: =T287 -> 145 | U21: =U287 -> 251 | V21: =V287 -> 2 | W21: =W287 -> 0 | X21: =X287 -> 1 | Y21: =Y287 -> 37 | ... AB21: =AB287 -> 436 | AC21: =Z21/I21*1000000 -> 0.33649422 | AD21: =AA21/I21*1000000 -> 0.80056041
B22: Africa | H22: =H300 -> 30080826 | I22: =I300 -> 823230518 | J22: =J300 -> 27.367284 | L22: =L300 -> 1271668911 | M22: =M300 -> 1843396514 | R22: =R300 -> 33 | S22: =S300 -> 30 | T22: =T300 -> 236 | U22: =U300 -> 601 | V22: =V300 -> 11 | W22: =W300 -> 2 | X22: =X300 -> 1 | Y22: =Y300 -> 63 | ... AB22: =AB300 -> 914 | AC22: =Z22/I22*1000000 -> 0.36320325 | AD22: =AA22/I22*1000000 -> 1.0932539
B23: Australia | H23: =H358 -> 8504349 | I23: =I358 -> 31186324 | J23: =J358 -> 3.667103 | L23: =L358 -> 37971580 | M23: =M358 -> 42600912 | R23: =R358 -> 6 | S23: =S358 -> 0 | T23: =T358 -> 47 | U23: =U358 -> 199 | V23: =V358 -> 24 | W23: =W358 -> 5 | X23: =X358 -> 2 | Y23: =Y358 -> 6 | ... AB23: =AB358 -> 283 | AC23: =Z23/I23*1000000 -> 1.6994629 | AD23: =AA23/I23*1000000 -> 8.080465
B24: Antarctica | H24: =H388 -> 14000000 | I24: =I388 -> 210 | J24: =J388 -> 1.5e-05 | L24: =L388 -> 0 | M24: =M388 -> 0 | R24: =R388 -> 0 | S24: =S388 -> 0 | T24: =T388 -> 0 | U24: =U388 -> 0 | V24: =V388 -> 0 | W24: =W388 -> 0 | X24: =X388 -> 0 | Y24: =Y388 -> 0 | ... AB24: =AB388 -> 0 | AC24: =Z24/I24*1000000 -> 0 | AD24: =AA24/I24*1000000 -> 0
A25: Space
A26: 1
A27: 2
A28: 3
A29: 4
A30: 5
A31: 6
A32: 7
A33: 8
A34: 9
A35: 10
A36: 11
A37: 12
... A65: 40
B67: By country (countries with at least 200 cities)
B69: Brazil | H69: 8547404 | I69: 174468580 | J69: 20 | K69: 0.91 | L69: 200606553 | M69: 206751477 | N69: 0.81 | O69: 0.19 | P69: 1-level | Q69: yes | R69: 13 | S69: 16 | T69: 164 | U69: 1085 | V69: 0 | W69: 0 | X69: 0 | Y69: =SUM(R69:S69) -> 29 | Z69: =SUM(R69:T69) -> 193 | AA69: =SUM(R69:U69) -> 1278 | AB69: =SUM(R69:X69) -> 1278 | AC69: =Z69/(I69*N69)*1000000 -> 1.3656992 | AD69: =AA69/(I69*N69)*1000000 -> 9.0433348
B70: China | H70: 9571300 | I70: 1273111300 | J70: 133 | K70: 0.88 | L70: 1464028860 | M70: 1470468924 | N70: 0.34 | O70: 0.66 | P70: 1-level | Q70: yes | R70: 51 | S70: 23 | T70: 269 | U70: 685 | V70: 0 | W70: 0 | X70: 0 | Y70: =SUM(R70:S70) -> 74 | Z70: =SUM(R70:T70) -> 343 | AA70: =SUM(R70:U70) -> 1028 | AB70: =SUM(R70:X70) -> 1028 | AC70: =Z70/(I70*N70)*1000000 -> 0.79240796 | AD70: =AA70/(I70*N70)*1000000 -> 2.3749137
B71: France | H71: 543965 | I71: 59551227 | J71: 109 | K71: 0.37 | L71: 61992616 | M71: 58967418 | N71: 0.75 | O71: 0.25 | P71: 2-level | Q71: yes | R71: 1 | S71: 1 | T71: 34 | U71: 367 | V71: 9 | W71: 0 | X71: 0 | Y71: =SUM(R71:S71) -> 2 | Z71: =SUM(R71:T71) -> 36 | AA71: =SUM(R71:U71) -> 403 | AB71: =SUM(R71:X71) -> 412 | AC71: =Z71/(I71*N71)*1000000 -> 0.80602873 | AD71: =AA71/(I71*N71)*1000000 -> 9.0230439
B72: Germany | H72: 356970 | I72: 83029536 | J72: 233 | K72: 0.27 | L72: 85414825 | M72: 79702511 | N72: 0.87 | O72: 0.13 | P72: 1-level | Q72: yes | R72: 3 | S72: 9 | T72: 70 | U72: 599 | V72: 0 | W72: 0 | X72: 0 | Y72: =SUM(R72:S72) -> 12 | Z72: =SUM(R72:T72) -> 82 | AA72: =SUM(R72:U72) -> 681 | AB72: =SUM(R72:X72) -> 681 | AC72: =Z72/(I72*N72)*1000000 -> 1.1351728 | AD72: =AA72/(I72*N72)*1000000 -> 9.4274719
B73: India | H73: 3165596 | I73: 1029991100 | J73: 325 | K73: 1.55 | L73: 1377264176 | M73: 1619582271 | N73: 0.28 | O73: 0.72 | P73: 1-level | Q73: yes | R73: 37 | S73: 32 | T73: 300 | U73: 860 | V73: 3 | W73: 0 | X73: 1 | Y73: =SUM(R73:S73) -> 69 | Z73: =SUM(R73:T73) -> 369 | AA73: =SUM(R73:U73) -> 1229 | AB73: =SUM(R73:X73) -> 1233 | AC73: =Z73/(I73*N73)*1000000 -> 1.279484 | AD73: =AA73/(I73*N73)*1000000 -> 4.2614793
...

Sheet Introduction
B2: World Cities Database
B3: Compiled in Excel by Teoalida © www.teoalida.com/database/cities
B5: I started compiling this list in 2003, independently from internet world, based on Microsoft Encarta Encyclopedia 2002. When I connected to internet in 2005 I abandoned this database because the internet was already providing information about city population, but seeing that other databases made by me attracted attention from businesses and web developers, I revived city database in 2015, updated existing countries and added remaining countries using Encarta 2009 and I published on my website for sale to professional use, and afterwards I gradually expanded it to include more smaller cities.
B7: Encarta is the best encyclopedia I ever seen. I like its World Atlas, dynamic maps generated with the same engine that powered Microsoft MapPoint software, you can change map format: comprehensive, political, physical features, statistical, Earth by day, Earth at night, Tectonic, Ecoregions, Climate, temperature (January, July), precipitation (January, July, annual), population density, languages, religions, timezones, outline, the moon. There is NO other map service able to do this.
B9: Microsoft discontinued Encarta in 2009, both CD / DVD and online version, but there are many third-party websites where you can download Microsoft Student & Encarta Encyclopedia.
B11: I classified cities according population icons used by Encarta Encyclopedia 2009, irrespective of legal status (city, town, unincorporated community), which vary from country to country so making a single worldwide database of official "cities" excluding towns, communes, villages and other places pose major troubles, especially since few countries does not have any "city". Having all data from a single source guarantee a harmonized database of major cities for all countries of the world.
B13: Consequently, number of cities in each country is nearly proportional with country urban population, in average for every 800,000 people living in urban areas, there is 1 city with population over 100,000.
B15: Database include 16948 cities classified by 7 categories according Encarta population icons:
B17: 295 cities over 1,000,000
B18: 308 cities 500,000 - 999,999
B19: 3101 cities 100,000 - 499,999
B20: 12810 cities 20,000 - 99,999
... B31: Based on feedback from customers, I realized that most purchased city database for web development, making drop-down boxes for country > state / province / region / county > city... thus population figures are not required, but classifying cities by population is helpful to shortlist database to major cities if you need.
