Workbook

Sheet Versions table
B2: URL | E2: Naming | M2: Bonus
B3: Model URL | C3: Version URL | D3: Image URL | E3: Make | F3: Model | G3: Series launch year | H3: Trim / Version | I3: Year start | J3: Year end | K3: Production start | L3: Production end | M3: Series (production years start-end) | N3: Decade filter | O3: Country
B4: =COUNTA(B14:B4988)-COUNTIF(B14:B4988,"-") -> 40 | C4: =COUNTA(C14:C4988)-COUNTIF(C14:C4988,"-") -> 2980 | D4: =COUNTA(D14:D4988)-COUNTIF(D14:D4988,"-") -> 2980 | E4: =COUNTA(E14:E4988)-COUNTIF(E14:E4988,"-") -> 2980 | F4: =COUNTA(F14:F4988)-COUNTIF(F14:F4988,"-") -> 2980 | G4: =COUNTA(G14:G4988)-COUNTIF(G14:G4988,"-") -> 2980 | H4: =COUNTA(H14:H4988)-COUNTIF(H14:H4988,"-") -> 2980 | I4: =COUNTA(I14:I4988)-COUNTIF(I14:I4988,"-") -> 2980 | ... O4: =COUNTA(O14:O4988)-COUNTIF(O14:O4988,"-") -> 2980
B5: =B4/$C4 -> 0.013422819 | C5: =C4/$C4 -> 1 | D5: =D4/$C4 -> 1 | E5: =E4/$C4 -> 1 | F5: =F4/$C4 -> 1 | G5: =G4/$C4 -> 1 | H5: =H4/$C4 -> 1 | I5: =I4/$C4 -> 1 | ... O5: =O4/$C4 -> 1
B7: United Kingdom Car Database - versions table
B8: Compiled in Excel by Teoalida © cardatabase.teoalida.com
B10: This file is a SAMPLE, including BMW 3-Series, Tesla Model S, Toyota Prius (40 generations, 2980 versions)
B11: Visit above website for the FULL database (110+ makes, 1300+ models, 2900+ generations, 90,000+ versions)
B12: See statistics sheet for number of models / versions included, by make and year
B14: https://www.parkers.co.uk/bmw/330e/hybrid-2019/specs/ | C14: https://www.parkers.co.uk/bmw/330e/hybrid-2019/330e-sport-automatic-4d/specs/ | D14: https://parkers-images.bauersecure.com/Scale/wp-images/22272/cut-out/040-bmw-330e.jpg | E14: BMW | F14: 330e | G14: Hybrid 2019 specs | H14: 330e Sport Automatic 4d | I14: 2019 | J14: 2020 | K14: 43647 | L14: 43922 | M14: BMW 330e Hybrid (2019 onwards) | N14: new | O14: Germany
C15: https://www.parkers.co.uk/bmw/330e/hybrid-2019/330e-sport-4dr-step-auto/specs/ | D15: https://parkers-images.bauersecure.com/Scale/wp-images/22272/cut-out/040-bmw-330e.jpg | E15: BMW | F15: 330e | G15: Hybrid 2019 specs | H15: 330e Sport 4dr Step Auto | I15: 2022 | J15: 2024 | K15: 44682 | L15: 45383 | M15: BMW 330e Hybrid (2019 onwards) | N15: new | O15: Germany
C16: https://www.parkers.co.uk/bmw/330e/hybrid-2019/330e-xdrive-sport-4dr-step-auto/specs/ | D16: https://parkers-images.bauersecure.com/Scale/wp-images/22272/cut-out/040-bmw-330e.jpg | E16: BMW | F16: 330e | G16: Hybrid 2019 specs | H16: 330e xDrive Sport 4dr Step Auto | I16: 2022 | J16: 2024 | K16: 44682 | L16: 45383 | M16: BMW 330e Hybrid (2019 onwards) | N16: new | O16: Germany
C17: https://www.parkers.co.uk/bmw/330e/hybrid-2019/330e-sport-5dr-step-auto/specs/ | D17: https://parkers-images.bauersecure.com/Scale/wp-images/22272/cut-out/040-bmw-330e.jpg | E17: BMW | F17: 330e | G17: Hybrid 2019 specs | H17: 330e Sport 5dr Step Auto | I17: 2022 | J17: 2024 | K17: 44682 | L17: 45383 | M17: BMW 330e Hybrid (2019 onwards) | N17: new | O17: Germany
C18: https://www.parkers.co.uk/bmw/330e/hybrid-2019/330e-xdrive-sport-5dr-step-auto/specs/ | D18: https://parkers-images.bauersecure.com/Scale/wp-images/22272/cut-out/040-bmw-330e.jpg | E18: BMW | F18: 330e | G18: Hybrid 2019 specs | H18: 330e xDrive Sport 5dr Step Auto | I18: 2022 | J18: 2024 | K18: 44682 | L18: 45383 | M18: BMW 330e Hybrid (2019 onwards) | N18: new | O18: Germany
C19: https://www.parkers.co.uk/bmw/330e/hybrid-2019/330e-223-kwh-sport-4dr-step-auto/specs/ | D19: https://parkers-images.bauersecure.com/Scale/wp-images/22272/cut-out/040-bmw-330e.jpg | E19: BMW | F19: 330e | G19: Hybrid 2019 specs | H19: 330e 22.3 kWh Sport 4dr Step Auto | I19: 2024 | J19: Now | K19: 45413 | L19: Now | M19: BMW 330e Hybrid (2019 onwards) | N19: new | O19: Germany
C20: https://www.parkers.co.uk/bmw/330e/hybrid-2019/330e-223-kwh-sport-5dr-step-auto/specs/ | D20: https://parkers-images.bauersecure.com/Scale/wp-images/22272/cut-out/040-bmw-330e.jpg | E20: BMW | F20: 330e | G20: Hybrid 2019 specs | H20: 330e 22.3 kWh Sport 5dr Step Auto | I20: 2024 | J20: Now | K20: 45413 | L20: Now | M20: BMW 330e Hybrid (2019 onwards) | N20: new | O20: Germany
C21: https://www.parkers.co.uk/bmw/330e/hybrid-2019/330e-se-sport-automatic-4d/specs/ | D21: https://parkers-images.bauersecure.com/Scale/wp-images/22272/cut-out/040-bmw-330e.jpg | E21: BMW | F21: 330e | G21: Hybrid 2019 specs | H21: 330e SE Sport Automatic 4d | I21: 2019 | J21: 2020 | K21: 43647 | L21: 43922 | M21: BMW 330e Hybrid (2019 onwards) | N21: new | O21: Germany
C22: https://www.parkers.co.uk/bmw/330e/hybrid-2019/330e-m-sport-automatic-4d/specs/ | D22: https://parkers-images.bauersecure.com/Scale/wp-images/22272/cut-out/040-bmw-330e.jpg | E22: BMW | F22: 330e | G22: Hybrid 2019 specs | H22: 330e M Sport Automatic 4d | I22: 2019 | J22: 2020 | K22: 43647 | L22: 44013 | M22: BMW 330e Hybrid (2019 onwards) | N22: new | O22: Germany
C23: https://www.parkers.co.uk/bmw/330e/hybrid-2019/330e-m-sport-(plus-package)-automatic-4d/specs/ | D23: https://parkers-images.bauersecure.com/Scale/wp-images/22272/cut-out/040-bmw-330e.jpg | E23: BMW | F23: 330e | G23: Hybrid 2019 specs | H23: 330e M Sport (Plus Package) Automatic 4d | I23: 2019 | J23: 2020 | K23: 43647 | L23: 44013 | M23: BMW 330e Hybrid (2019 onwards) | N23: new | O23: Germany
C24: https://www.parkers.co.uk/bmw/330e/hybrid-2019/330e-m-sport-(technology-package)-automatic-4d/specs/ | D24: https://parkers-images.bauersecure.com/Scale/wp-images/22272/cut-out/040-bmw-330e.jpg | E24: BMW | F24: 330e | G24: Hybrid 2019 specs | H24: 330e M Sport (Technology Package) Automatic 4d | I24: 2019 | J24: 2020 | K24: 43647 | L24: 44013 | M24: BMW 330e Hybrid (2019 onwards) | N24: new | O24: Germany
C25: https://www.parkers.co.uk/bmw/330e/hybrid-2019/330e-m-sport-(plus-package-and-technology-package)-automatic-4d/specs/ | D25: https://parkers-images.bauersecure.com/Scale/wp-images/22272/cut-out/040-bmw-330e.jpg | E25: BMW | F25: 330e | G25: Hybrid 2019 specs | H25: 330e M Sport (Plus Package and Technology Package) Automatic 4d | I25: 2019 | J25: 2020 | K25: 43647 | L25: 44013 | M25: BMW 330e Hybrid (2019 onwards) | N25: new | O25: Germany
C26: https://www.parkers.co.uk/bmw/330e/hybrid-2019/330e-m-sport-4dr-step-auto-[techpro-pack]-4d/specs/ | D26: https://parkers-images.bauersecure.com/Scale/wp-images/22272/cut-out/040-bmw-330e.jpg | E26: BMW | F26: 330e | G26: Hybrid 2019 specs | H26: 330e M Sport 4dr Step Auto [Tech/Pro Pack] 4d | I26: 2020 | J26: 2022 | K26: 44013 | L26: 44562 | M26: BMW 330e Hybrid (2019 onwards) | N26: new | O26: Germany
C27: https://www.parkers.co.uk/bmw/330e/hybrid-2019/330e-m-sport-4dr-step-auto-[pro-pack]-4d/specs/ | D27: https://parkers-images.bauersecure.com/Scale/wp-images/22272/cut-out/040-bmw-330e.jpg | E27: BMW | F27: 330e | G27: Hybrid 2019 specs | H27: 330e M Sport 4dr Step Auto [Pro Pack] 4d | I27: 2020 | J27: 2022 | K27: 44013 | L27: 44562 | M27: BMW 330e Hybrid (2019 onwards) | N27: new | O27: Germany
C28: https://www.parkers.co.uk/bmw/330e/hybrid-2019/330e-xdrive-m-sport-4dr-step-auto-4d/specs/ | D28: https://parkers-images.bauersecure.com/Scale/wp-images/22272/cut-out/040-bmw-330e.jpg | E28: BMW | F28: 330e | G28: Hybrid 2019 specs | H28: 330e xDrive M Sport 4dr Step Auto 4d | I28: 2020 | J28: 2022 | K28: 44013 | L28: 44562 | M28: BMW 330e Hybrid (2019 onwards) | N28: new | O28: Germany
C29: https://www.parkers.co.uk/bmw/330e/hybrid-2019/330e-xdrive-m-sport-4dr-step-auto-[tech-pack]-4d/specs/ | D29: https://parkers-images.bauersecure.com/Scale/wp-images/22272/cut-out/040-bmw-330e.jpg | E29: BMW | F29: 330e | G29: Hybrid 2019 specs | H29: 330e xDrive M Sport 4dr Step Auto [Tech Pack] 4d | I29: 2020 | J29: 2022 | K29: 44013 | L29: 44562 | M29: BMW 330e Hybrid (2019 onwards) | N29: new | O29: Germany
C30: https://www.parkers.co.uk/bmw/330e/hybrid-2019/330e-xdrive-m-sport-4dr-step-auto-[pro-pack]-4d/specs/ | D30: https://parkers-images.bauersecure.com/Scale/wp-images/22272/cut-out/040-bmw-330e.jpg | E30: BMW | F30: 330e | G30: Hybrid 2019 specs | H30: 330e xDrive M Sport 4dr Step Auto [Pro Pack] 4d | I30: 2020 | J30: 2022 | K30: 44013 | L30: 44562 | M30: BMW 330e Hybrid (2019 onwards) | N30: new | O30: Germany
C31: https://www.parkers.co.uk/bmw/330e/hybrid-2019/330e-xdrive-m-sport-4dr-step-auto-[techpro-pack]-4d/specs/ | D31: https://parkers-images.bauersecure.com/Scale/wp-images/22272/cut-out/040-bmw-330e.jpg | E31: BMW | F31: 330e | G31: Hybrid 2019 specs | H31: 330e xDrive M Sport 4dr Step Auto [Tech/Pro Pack] 4d | I31: 2020 | J31: 2022 | K31: 44013 | L31: 44562 | M31: BMW 330e Hybrid (2019 onwards) | N31: new | O31: Germany
C32: https://www.parkers.co.uk/bmw/330e/hybrid-2019/330e-m-sport-step-auto-5d/specs/ | D32: https://parkers-images.bauersecure.com/Scale/wp-images/22272/cut-out/040-bmw-330e.jpg | E32: BMW | F32: 330e | G32: Hybrid 2019 specs | H32: 330e M Sport Step Auto 5d | I32: 2020 | J32: 2022 | K32: 44013 | L32: 44593 | M32: BMW 330e Hybrid (2019 onwards) | N32: new | O32: Germany
... C57: https://www.parkers.co.uk/bmw/330e/hybrid-2019/330e-xdrive-m-sport-5dr-step-auto-[techpro-pack]/specs/ | D57: https://parkers-images.bauersecure.com/Scale/wp-images/22272/cut-out/040-bmw-330e.jpg | E57: BMW | F57: 330e | G57: Hybrid 2019 specs | H57: 330e xDrive M Sport 5dr Step Auto [Tech/Pro Pack] | I57: 2022 | J57: 2024 | K57: 44682 | L57: 45383 | M57: BMW 330e Hybrid (2019 onwards) | N57: new | O57: Germany
C58: https://www.parkers.co.uk/bmw/330e/hybrid-2019/330e-223-kwh-m-sport-4dr-step-auto/specs/ | D58: https://parkers-images.bauersecure.com/Scale/wp-images/22272/cut-out/040-bmw-330e.jpg | E58: BMW | F58: 330e | G58: Hybrid 2019 specs | H58: 330e 22.3 kWh M Sport 4dr Step Auto | I58: 2024 | J58: Now | K58: 45413 | L58: Now | M58: BMW 330e Hybrid (2019 onwards) | N58: new | O58: Germany
C59: https://www.parkers.co.uk/bmw/330e/hybrid-2019/330e-223-kwh-m-sport-4dr-step-auto-[tech-pack]/specs/ | D59: https://parkers-images.bauersecure.com/Scale/wp-images/22272/cut-out/040-bmw-330e.jpg | E59: BMW | F59: 330e | G59: Hybrid 2019 specs | H59: 330e 22.3 kWh M Sport 4dr Step Auto [Tech Pack] | I59: 2024 | J59: Now | K59: 45413 | L59: Now | M59: BMW 330e Hybrid (2019 onwards) | N59: new | O59: Germany
C60: https://www.parkers.co.uk/bmw/330e/hybrid-2019/330e-223-kwh-m-sport-4dr-step-auto-[pro-pack]/specs/ | D60: https://parkers-images.bauersecure.com/Scale/wp-images/22272/cut-out/040-bmw-330e.jpg | E60: BMW | F60: 330e | G60: Hybrid 2019 specs | H60: 330e 22.3 kWh M Sport 4dr Step Auto [Pro Pack] | I60: 2024 | J60: Now | K60: 45413 | L60: Now | M60: BMW 330e Hybrid (2019 onwards) | N60: new | O60: Germany
C61: https://www.parkers.co.uk/bmw/330e/hybrid-2019/330e-223-kwh-m-sport-4dr-step-auto-techpro-pack/specs/ | D61: https://parkers-images.bauersecure.com/Scale/wp-images/22272/cut-out/040-bmw-330e.jpg | E61: BMW | F61: 330e | G61: Hybrid 2019 specs | H61: 330e 22.3 kWh M Sport 4dr Step Auto Tech/Pro Pack | I61: 2024 | J61: Now | K61: 45413 | L61: Now | M61: BMW 330e Hybrid (2019 onwards) | N61: new | O61: Germany
C62: https://www.parkers.co.uk/bmw/330e/hybrid-2019/330e-223-kwh-m-sport-5dr-step-auto/specs/ | D62: https://parkers-images.bauersecure.com/Scale/wp-images/22272/cut-out/040-bmw-330e.jpg | E62: BMW | F62: 330e | G62: Hybrid 2019 specs | H62: 330e 22.3 kWh M Sport 5dr Step Auto | I62: 2024 | J62: Now | K62: 45413 | L62: Now | M62: BMW 330e Hybrid (2019 onwards) | N62: new | O62: Germany
C63: https://www.parkers.co.uk/bmw/330e/hybrid-2019/330e-223-kwh-m-sport-5dr-step-auto-[tech-pack]/specs/ | D63: https://parkers-images.bauersecure.com/Scale/wp-images/22272/cut-out/040-bmw-330e.jpg | E63: BMW | F63: 330e | G63: Hybrid 2019 specs | H63: 330e 22.3 kWh M Sport 5dr Step Auto [Tech Pack] | I63: 2024 | J63: Now | K63: 45413 | L63: Now | M63: BMW 330e Hybrid (2019 onwards) | N63: new | O63: Germany
C64: https://www.parkers.co.uk/bmw/330e/hybrid-2019/330e-223-kwh-m-sport-5dr-step-auto-[pro-pack]/specs/ | D64: https://parkers-images.bauersecure.com/Scale/wp-images/22272/cut-out/040-bmw-330e.jpg | E64: BMW | F64: 330e | G64: Hybrid 2019 specs | H64: 330e 22.3 kWh M Sport 5dr Step Auto [Pro Pack] | I64: 2024 | J64: Now | K64: 45413 | L64: Now | M64: BMW 330e Hybrid (2019 onwards) | N64: new | O64: Germany
C65: https://www.parkers.co.uk/bmw/330e/hybrid-2019/330e-223-kwh-m-sport-5dr-step-auto-techpro-pack/specs/ | D65: https://parkers-images.bauersecure.com/Scale/wp-images/22272/cut-out/040-bmw-330e.jpg | E65: BMW | F65: 330e | G65: Hybrid 2019 specs | H65: 330e 22.3 kWh M Sport 5dr Step Auto Tech/Pro Pack | I65: 2024 | J65: Now | K65: 45413 | L65: Now | M65: BMW 330e Hybrid (2019 onwards) | N65: new | O65: Germany
C66: https://www.parkers.co.uk/bmw/330e/hybrid-2019/330e-m-sport-plus-edition-automatic-4d/specs/ | D66: https://parkers-images.bauersecure.com/Scale/wp-images/22272/cut-out/040-bmw-330e.jpg | E66: BMW | F66: 330e | G66: Hybrid 2019 specs | H66: 330e M Sport Plus Edition Automatic 4d | I66: 2019 | J66: 2020 | K66: 43739 | L66: 43922 | M66: BMW 330e Hybrid (2019 onwards) | N66: new | O66: Germany
C67: https://www.parkers.co.uk/bmw/330e/hybrid-2019/330e-m-sport-pro-edition-4dr-step-auto-4d/specs/ | D67: https://parkers-images.bauersecure.com/Scale/wp-images/22272/cut-out/040-bmw-330e.jpg | E67: BMW | F67: 330e | G67: Hybrid 2019 specs | H67: 330e M Sport Pro Edition 4dr Step Auto 4d | I67: 2020 | J67: 2022 | K67: 44013 | L67: 44562 | M67: BMW 330e Hybrid (2019 onwards) | N67: new | O67: Germany
C68: https://www.parkers.co.uk/bmw/330e/hybrid-2019/330e-xdrive-m-sport-pro-edition-4dr-step-auto-4d/specs/ | D68: https://parkers-images.bauersecure.com/Scale/wp-images/22272/cut-out/040-bmw-330e.jpg | E68: BMW | F68: 330e | G68: Hybrid 2019 specs | H68: 330e xDrive M Sport Pro Edition 4dr Step Auto 4d | I68: 2020 | J68: 2022 | K68: 44013 | L68: 44562 | M68: BMW 330e Hybrid (2019 onwards) | N68: new | O68: Germany
C69: https://www.parkers.co.uk/bmw/330e/hybrid-2019/330e-m-sport-pro-edition-step-auto-5d/specs/ | D69: https://parkers-images.bauersecure.com/Scale/wp-images/22272/cut-out/040-bmw-330e.jpg | E69: BMW | F69: 330e | G69: Hybrid 2019 specs | H69: 330e M Sport Pro Edition Step Auto 5d | I69: 2020 | J69: 2022 | K69: 44013 | L69: 44593 | M69: BMW 330e Hybrid (2019 onwards) | N69: new | O69: Germany
C70: https://www.parkers.co.uk/bmw/330e/hybrid-2019/330e-xdrive-m-sport-pro-edition-step-auto-5d/specs/ | D70: https://parkers-images.bauersecure.com/Scale/wp-images/22272/cut-out/040-bmw-330e.jpg | E70: BMW | F70: 330e | G70: Hybrid 2019 specs | H70: 330e xDrive M Sport Pro Edition Step Auto 5d | I70: 2020 | J70: 2022 | K70: 44013 | L70: 44593 | M70: BMW 330e Hybrid (2019 onwards) | N70: new | O70: Germany
C71: https://www.parkers.co.uk/bmw/330e/hybrid-2019/330e-xdrive-m-sport-pro-ed-4dr-step-auto-[tech-pk]-4d/specs/ | D71: https://parkers-images.bauersecure.com/Scale/wp-images/22272/cut-out/040-bmw-330e.jpg | E71: BMW | F71: 330e | G71: Hybrid 2019 specs | H71: 330e xDrive M Sport Pro Ed 4dr Step Auto [Tech Pk] 4d | I71: 2020 | J71: 2022 | K71: 44013 | L71: 44562 | M71: BMW 330e Hybrid (2019 onwards) | N71: new | O71: Germany
C72: https://www.parkers.co.uk/bmw/330e/hybrid-2019/330e-m-sport-pro-edition-4dr-step-auto-[tech-pack]-4d/specs/ | D72: https://parkers-images.bauersecure.com/Scale/wp-images/22272/cut-out/040-bmw-330e.jpg | E72: BMW | F72: 330e | G72: Hybrid 2019 specs | H72: 330e M Sport Pro Edition 4dr Step Auto [Tech Pack] 4d | I72: 2020 | J72: 2022 | K72: 44013 | L72: 44562 | M72: BMW 330e Hybrid (2019 onwards) | N72: new | O72: Germany
C73: https://www.parkers.co.uk/bmw/330e/hybrid-2019/330e-m-sport-pro-edition-step-auto-[tech-pack]-5d/specs/ | D73: https://parkers-images.bauersecure.com/Scale/wp-images/22272/cut-out/040-bmw-330e.jpg | E73: BMW | F73: 330e | G73: Hybrid 2019 specs | H73: 330e M Sport Pro Edition Step Auto [Tech Pack] 5d | I73: 2020 | J73: 2022 | K73: 44013 | L73: 44593 | M73: BMW 330e Hybrid (2019 onwards) | N73: new | O73: Germany
C74: https://www.parkers.co.uk/bmw/330e/hybrid-2019/330e-xdrive-m-sport-pro-ed-step-auto-[tech-pk]-5d/specs/ | D74: https://parkers-images.bauersecure.com/Scale/wp-images/22272/cut-out/040-bmw-330e.jpg | E74: BMW | F74: 330e | G74: Hybrid 2019 specs | H74: 330e xDrive M Sport Pro Ed Step Auto [Tech Pk] 5d | I74: 2020 | J74: 2022 | K74: 44013 | L74: 44593 | M74: BMW 330e Hybrid (2019 onwards) | N74: new | O74: Germany
C75: https://www.parkers.co.uk/bmw/330e/hybrid-2019/330e-se-pro-4dr-step-auto-4d/specs/ | D75: https://parkers-images.bauersecure.com/Scale/wp-images/22272/cut-out/040-bmw-330e.jpg | E75: BMW | F75: 330e | G75: Hybrid 2019 specs | H75: 330e SE Pro 4dr Step Auto 4d | I75: 2020 | J75: 2022 | K75: 44013 | L75: 44562 | M75: BMW 330e Hybrid (2019 onwards) | N75: new | O75: Germany
C76: https://www.parkers.co.uk/bmw/330e/hybrid-2019/330e-xdrive-se-pro-4dr-step-auto-4d/specs/ | D76: https://parkers-images.bauersecure.com/Scale/wp-images/22272/cut-out/040-bmw-330e.jpg | E76: BMW | F76: 330e | G76: Hybrid 2019 specs | H76: 330e xDrive SE Pro 4dr Step Auto 4d | I76: 2020 | J76: 2022 | K76: 44013 | L76: 44562 | M76: BMW 330e Hybrid (2019 onwards) | N76: new | O76: Germany
C77: https://www.parkers.co.uk/bmw/330e/hybrid-2019/330e-se-pro-step-auto-5d/specs/ | D77: https://parkers-images.bauersecure.com/Scale/wp-images/22272/cut-out/040-bmw-330e.jpg | E77: BMW | F77: 330e | G77: Hybrid 2019 specs | H77: 330e SE Pro Step Auto 5d | I77: 2020 | J77: 2022 | K77: 44013 | L77: 44593 | M77: BMW 330e Hybrid (2019 onwards) | N77: new | O77: Germany
... C82: https://www.parkers.co.uk/bmw/330e/hybrid-2019/330e-xdrive-sport-pro-step-auto-5d/specs/ | D82: https://parkers-images.bauersecure.com/Scale/wp-images/22272/cut-out/040-bmw-330e.jpg | E82: BMW | F82: 330e | G82: Hybrid 2019 specs | H82: 330e xDrive Sport Pro Step Auto 5d | I82: 2020 | J82: 2022 | K82: 44013 | L82: 44593 | M82: BMW 330e Hybrid (2019 onwards) | N82: new | O82: Germany
B83: https://www.parkers.co.uk/bmw/3-series/saloon-2019/specs/ | C83: https://www.parkers.co.uk/bmw/3-series/saloon-2019/318d-mht-se-pro-4dr-step-auto/specs/ | D83: https://parkers-images.bauersecure.com/Scale/wp-images/22074/cut-out/00-bmw_m340i_xdrive.jpeg | E83: BMW | F83: 3-Series | G83: Saloon 2019 specs | H83: 318d MHT SE Pro 4dr Step Auto | I83: 2021 | J83: 2022 | K83: 44256 | L83: 44621 | M83: BMW 3-Series Saloon (2019 onwards) | N83: new | O83: Germany
C84: https://www.parkers.co.uk/bmw/3-series/saloon-2019/318d-se-pro-4dr/specs/ | D84: https://parkers-images.bauersecure.com/Scale/wp-images/22074/cut-out/00-bmw_m340i_xdrive.jpeg | E84: BMW | F84: 3-Series | G84: Saloon 2019 specs | H84: 318d SE Pro 4dr | I84: 2021 | J84: 2022 | K84: 44256 | L84: 44621 | M84: BMW 3-Series Saloon (2019 onwards) | N84: new | O84: Germany
C85: https://www.parkers.co.uk/bmw/3-series/saloon-2019/320d-mht-se-pro-4dr-step-auto/specs/ | D85: https://parkers-images.bauersecure.com/Scale/wp-images/22074/cut-out/00-bmw_m340i_xdrive.jpeg | E85: BMW | F85: 3-Series | G85: Saloon 2019 specs | H85: 320d MHT SE Pro 4dr Step Auto | I85: 2021 | J85: 2022 | K85: 44256 | L85: 44621 | M85: BMW 3-Series Saloon (2019 onwards) | N85: new | O85: Germany
C86: https://www.parkers.co.uk/bmw/3-series/saloon-2019/320d-xdrive-mht-se-pro-4dr-step-auto/specs/ | D86: https://parkers-images.bauersecure.com/Scale/wp-images/22074/cut-out/00-bmw_m340i_xdrive.jpeg | E86: BMW | F86: 3-Series | G86: Saloon 2019 specs | H86: 320d xDrive MHT SE Pro 4dr Step Auto | I86: 2021 | J86: 2022 | K86: 44256 | L86: 44621 | M86: BMW 3-Series Saloon (2019 onwards) | N86: new | O86: Germany
C87: https://www.parkers.co.uk/bmw/3-series/saloon-2019/318i-se-pro-4dr-step-auto/specs/ | D87: https://parkers-images.bauersecure.com/Scale/wp-images/22074/cut-out/00-bmw_m340i_xdrive.jpeg | E87: BMW | F87: 3-Series | G87: Saloon 2019 specs | H87: 318i SE Pro 4dr Step Auto | I87: 2021 | J87: 2022 | K87: 44256 | L87: 44621 | M87: BMW 3-Series Saloon (2019 onwards) | N87: new | O87: Germany
C88: https://www.parkers.co.uk/bmw/3-series/saloon-2019/320i-se-pro-4dr-step-auto/specs/ | D88: https://parkers-images.bauersecure.com/Scale/wp-images/22074/cut-out/00-bmw_m340i_xdrive.jpeg | E88: BMW | F88: 3-Series | G88: Saloon 2019 specs | H88: 320i SE Pro 4dr Step Auto | I88: 2021 | J88: 2022 | K88: 44256 | L88: 44621 | M88: BMW 3-Series Saloon (2019 onwards) | N88: new | O88: Germany
C89: https://www.parkers.co.uk/bmw/3-series/saloon-2019/320i-xdrive-se-pro-4dr-step-auto/specs/ | D89: https://parkers-images.bauersecure.com/Scale/wp-images/22074/cut-out/00-bmw_m340i_xdrive.jpeg | E89: BMW | F89: 3-Series | G89: Saloon 2019 specs | H89: 320i xDrive SE Pro 4dr Step Auto | I89: 2021 | J89: 2022 | K89: 44256 | L89: 44621 | M89: BMW 3-Series Saloon (2019 onwards) | N89: new | O89: Germany
C90: https://www.parkers.co.uk/bmw/3-series/saloon-2019/320d-se-4d/specs/ | D90: https://parkers-images.bauersecure.com/Scale/wp-images/22074/cut-out/00-bmw_m340i_xdrive.jpeg | E90: BMW | F90: 3-Series | G90: Saloon 2019 specs | H90: 320d SE 4d | I90: 2019 | J90: 2020 | K90: 43466 | L90: 43891 | M90: BMW 3-Series Saloon (2019 onwards) | N90: new | O90: Germany
C91: https://www.parkers.co.uk/bmw/3-series/saloon-2019/320d-se-auto-4d/specs/ | D91: https://parkers-images.bauersecure.com/Scale/wp-images/22074/cut-out/00-bmw_m340i_xdrive.jpeg | E91: BMW | F91: 3-Series | G91: Saloon 2019 specs | H91: 320d SE auto 4d | I91: 2019 | J91: 2020 | K91: 43466 | L91: 43891 | M91: BMW 3-Series Saloon (2019 onwards) | N91: new | O91: Germany
C92: https://www.parkers.co.uk/bmw/3-series/saloon-2019/320d-xdrive-se-sport-automatic-4d/specs/ | D92: https://parkers-images.bauersecure.com/Scale/wp-images/22074/cut-out/00-bmw_m340i_xdrive.jpeg | E92: BMW | F92: 3-Series | G92: Saloon 2019 specs | H92: 320d xDrive SE Sport Automatic 4d | I92: 2019 | J92: 2020 | K92: 43466 | L92: 43891 | M92: BMW 3-Series Saloon (2019 onwards) | N92: new | O92: Germany
C93: https://www.parkers.co.uk/bmw/3-series/saloon-2019/318d-se-4d/specs/ | D93: https://parkers-images.bauersecure.com/Scale/wp-images/22074/cut-out/00-bmw_m340i_xdrive.jpeg | E93: BMW | F93: 3-Series | G93: Saloon 2019 specs | H93: 318d SE 4d | I93: 2019 | J93: 2021 | K93: 43525 | L93: 44256 | M93: BMW 3-Series Saloon (2019 onwards) | N93: new | O93: Germany
C94: https://www.parkers.co.uk/bmw/3-series/saloon-2019/318d-se-auto-4d/specs/ | D94: https://parkers-images.bauersecure.com/Scale/wp-images/22074/cut-out/00-bmw_m340i_xdrive.jpeg | E94: BMW | F94: 3-Series | G94: Saloon 2019 specs | H94: 318d SE auto 4d | I94: 2019 | J94: 2020 | K94: 43525 | L94: 44013 | M94: BMW 3-Series Saloon (2019 onwards) | N94: new | O94: Germany
C95: https://www.parkers.co.uk/bmw/3-series/saloon-2019/320d-se-sport-automatic-4d/specs/ | D95: https://parkers-images.bauersecure.com/Scale/wp-images/22074/cut-out/00-bmw_m340i_xdrive.jpeg | E95: BMW | F95: 3-Series | G95: Saloon 2019 specs | H95: 320d SE Sport Automatic 4d | I95: 2020 | J95: 2021 | K95: 43891 | L95: 44256 | M95: BMW 3-Series Saloon (2019 onwards) | N95: new | O95: Germany
... C114: https://www.parkers.co.uk/bmw/3-series/saloon-2019/318i-sport-auto-4d/specs/ | D114: https://parkers-images.bauersecure.com/Scale/wp-images/22074/cut-out/00-bmw_m340i_xdrive.jpeg | E114: BMW | F114: 3-Series | G114: Saloon 2019 specs | H114: 318i Sport auto 4d | I114: 2020 | J114: 2021 | K114: 43891 | L114: 44287 | M114: BMW 3-Series Saloon (2019 onwards) | N114: new | O114: Germany
C115: https://www.parkers.co.uk/bmw/3-series/saloon-2019/320i-sport-4dr-step-auto/specs/ | D115: https://parkers-images.bauersecure.com/Scale/wp-images/22074/cut-out/00-bmw_m340i_xdrive.jpeg | E115: BMW | F115: 3-Series | G115: Saloon 2019 specs | H115: 320i Sport 4dr Step Auto | I115: 2022 | J115: Now | K115: 44682 | L115: Now | M115: BMW 3-Series Saloon (2019 onwards) | N115: new | O115: Germany
C116: https://www.parkers.co.uk/bmw/3-series/saloon-2019/320i-xdrive-sport-4dr-step-auto/specs/ | D116: https://parkers-images.bauersecure.com/Scale/wp-images/22074/cut-out/00-bmw_m340i_xdrive.jpeg | E116: BMW | F116: 3-Series | G116: Saloon 2019 specs | H116: 320i xDrive Sport 4dr Step Auto | I116: 2022 | J116: 2022 | K116: 44682 | L116: 44866 | M116: BMW 3-Series Saloon (2019 onwards) | N116: new | O116: Germany
C117: https://www.parkers.co.uk/bmw/3-series/saloon-2019/330i-sport-4dr-step-auto/specs/ | D117: https://parkers-images.bauersecure.com/Scale/wp-images/22074/cut-out/00-bmw_m340i_xdrive.jpeg | E117: BMW | F117: 3-Series | G117: Saloon 2019 specs | H117: 330i Sport 4dr Step Auto | I117: 2022 | J117: 2022 | K117: 44682 | L117: 44866 | M117: BMW 3-Series Saloon (2019 onwards) | N117: new | O117: Germany
C118: https://www.parkers.co.uk/bmw/3-series/saloon-2019/330d-sport-automatic-4d/specs/ | D118: https://parkers-images.bauersecure.com/Scale/wp-images/22074/cut-out/00-bmw_m340i_xdrive.jpeg | E118: BMW | F118: 3-Series | G118: Saloon 2019 specs | H118: 330d Sport Automatic 4d | I118: 2019 | J118: 2020 | K118: 43525 | L118: 44136 | M118: BMW 3-Series Saloon (2019 onwards) | N118: new | O118: Germany
C119: https://www.parkers.co.uk/bmw/3-series/saloon-2019/330d-xdrive-sport-automatic-4d/specs/ | D119: https://parkers-images.bauersecure.com/Scale/wp-images/22074/cut-out/00-bmw_m340i_xdrive.jpeg | E119: BMW | F119: 3-Series | G119: Saloon 2019 specs | H119: 330d xDrive Sport Automatic 4d | I119: 2019 | J119: 2020 | K119: 43647 | L119: 44136 | M119: BMW 3-Series Saloon (2019 onwards) | N119: new | O119: Germany
C120: https://www.parkers.co.uk/bmw/3-series/saloon-2019/330d-mht-sport-4dr-step-auto/specs/ | D120: https://parkers-images.bauersecure.com/Scale/wp-images/22074/cut-out/00-bmw_m340i_xdrive.jpeg | E120: BMW | F120: 3-Series | G120: Saloon 2019 specs | H120: 330d MHT Sport 4dr Step Auto | I120: 2020 | J120: 2021 | K120: 44136 | L120: 44256 | M120: BMW 3-Series Saloon (2019 onwards) | N120: new | O120: Germany
C121: https://www.parkers.co.uk/bmw/3-series/saloon-2019/330d-xdrive-mht-sport-4dr-step-auto/specs/ | D121: https://parkers-images.bauersecure.com/Scale/wp-images/22074/cut-out/00-bmw_m340i_xdrive.jpeg | E121: BMW | F121: 3-Series | G121: Saloon 2019 specs | H121: 330d xDrive MHT Sport 4dr Step Auto | I121: 2020 | J121: 2021 | K121: 44136 | L121: 44256 | M121: BMW 3-Series Saloon (2019 onwards) | N121: new | O121: Germany
C122: https://www.parkers.co.uk/bmw/3-series/saloon-2019/m340i-xdrive-sport-automatic-4d/specs/ | D122: https://parkers-images.bauersecure.com/Scale/wp-images/22074/cut-out/00-bmw_m340i_xdrive.jpeg | E122: BMW | F122: 3-Series | G122: Saloon 2019 specs | H122: M340i xDrive Sport Automatic 4d | I122: 2019 | J122: 2020 | K122: 43647 | L122: 44136 | M122: BMW 3-Series Saloon (2019 onwards) | N122: new | O122: Germany
C123: https://www.parkers.co.uk/bmw/3-series/saloon-2019/m340i-xdrive-mht-4dr-step-auto/specs/ | D123: https://parkers-images.bauersecure.com/Scale/wp-images/22074/cut-out/00-bmw_m340i_xdrive.jpeg | E123: BMW | F123: 3-Series | G123: Saloon 2019 specs | H123: M340i xDrive MHT 4dr Step Auto | I123: 2020 | J123: 2022 | K123: 44136 | L123: 44621 | M123: BMW 3-Series Saloon (2019 onwards) | N123: new | O123: Germany
C124: https://www.parkers.co.uk/bmw/3-series/saloon-2019/m340i-xdrive-mht-4dr-step-auto/specs/ | D124: https://parkers-images.bauersecure.com/Scale/wp-images/22074/cut-out/00-bmw_m340i_xdrive.jpeg | E124: BMW | F124: 3-Series | G124: Saloon 2019 specs | H124: M340i xDrive MHT 4dr Step Auto | I124: 2020 | J124: 2022 | K124: 44136 | L124: 44621 | M124: BMW 3-Series Saloon (2019 onwards) | N124: new | O124: Germany
C125: https://www.parkers.co.uk/bmw/3-series/saloon-2019/320d-m-sport-4d/specs/ | D125: https://parkers-images.bauersecure.com/Scale/wp-images/22074/cut-out/00-bmw_m340i_xdrive.jpeg | E125: BMW | F125: 3-Series | G125: Saloon 2019 specs | H125: 320d M Sport 4d | I125: 2019 | J125: 2020 | K125: 43466 | L125: 43891 | M125: BMW 3-Series Saloon (2019 onwards) | N125: new | O125: Germany
C126: https://www.parkers.co.uk/bmw/3-series/saloon-2019/320d-m-sport-auto-4d/specs/ | D126: https://parkers-images.bauersecure.com/Scale/wp-images/22074/cut-out/00-bmw_m340i_xdrive.jpeg | E126: BMW | F126: 3-Series | G126: Saloon 2019 specs | H126: 320d M Sport auto 4d | I126: 2019 | J126: 2020 | K126: 43466 | L126: 43891 | M126: BMW 3-Series Saloon (2019 onwards) | N126: new | O126: Germany
C127: https://www.parkers.co.uk/bmw/3-series/saloon-2019/320d-xdrive-m-sport-automatic-4d/specs/ | D127: https://parkers-images.bauersecure.com/Scale/wp-images/22074/cut-out/00-bmw_m340i_xdrive.jpeg | E127: BMW | F127: 3-Series | G127: Saloon 2019 specs | H127: 320d xDrive M Sport Automatic 4d | I127: 2019 | J127: 2020 | K127: 43466 | L127: 43891 | M127: BMW 3-Series Saloon (2019 onwards) | N127: new | O127: Germany
... C192: https://www.parkers.co.uk/bmw/3-series/saloon-2019/320i-xdrive-m-sport-4dr-step-auto-[pro-pack]-4d/specs/ | D192: https://parkers-images.bauersecure.com/Scale/wp-images/22074/cut-out/00-bmw_m340i_xdrive.jpeg | E192: BMW | F192: 3-Series | G192: Saloon 2019 specs | H192: 320i xDrive M Sport 4dr Step Auto [Pro Pack] 4d | I192: 2020 | J192: 2022 | K192: 44044 | L192: 44621 | M192: BMW 3-Series Saloon (2019 onwards) | N192: new | O192: Germany
C193: https://www.parkers.co.uk/bmw/3-series/saloon-2019/320i-m-sport-4dr-step-auto/specs/ | D193: https://parkers-images.bauersecure.com/Scale/wp-images/22074/cut-out/00-bmw_m340i_xdrive.jpeg | E193: BMW | F193: 3-Series | G193: Saloon 2019 specs | H193: 320i M Sport 4dr Step Auto | I193: 2022 | J193: Now | K193: 44682 | L193: Now | M193: BMW 3-Series Saloon (2019 onwards) | N193: new | O193: Germany
C194: https://www.parkers.co.uk/bmw/3-series/saloon-2019/320i-m-sport-4dr-step-auto-[tech-pack]/specs/ | D194: https://parkers-images.bauersecure.com/Scale/wp-images/22074/cut-out/00-bmw_m340i_xdrive.jpeg | E194: BMW | F194: 3-Series | G194: Saloon 2019 specs | H194: 320i M Sport 4dr Step Auto [Tech Pack] | I194: 2022 | J194: Now | K194: 44682 | L194: Now | M194: BMW 3-Series Saloon (2019 onwards) | N194: new | O194: Germany
C195: https://www.parkers.co.uk/bmw/3-series/saloon-2019/320i-m-sport-4dr-step-auto-[pro-pack]/specs/ | D195: https://parkers-images.bauersecure.com/Scale/wp-images/22074/cut-out/00-bmw_m340i_xdrive.jpeg | E195: BMW | F195: 3-Series | G195: Saloon 2019 specs | H195: 320i M Sport 4dr Step Auto [Pro Pack] | I195: 2022 | J195: Now | K195: 44682 | L195: Now | M195: BMW 3-Series Saloon (2019 onwards) | N195: new | O195: Germany
C196: https://www.parkers.co.uk/bmw/3-series/saloon-2019/320i-m-sport-4dr-step-auto-[techpro-pack]/specs/ | D196: https://parkers-images.bauersecure.com/Scale/wp-images/22074/cut-out/00-bmw_m340i_xdrive.jpeg | E196: BMW | F196: 3-Series | G196: Saloon 2019 specs | H196: 320i M Sport 4dr Step Auto [Tech/Pro Pack] | I196: 2022 | J196: Now | K196: 44682 | L196: Now | M196: BMW 3-Series Saloon (2019 onwards) | N196: new | O196: Germany
C197: https://www.parkers.co.uk/bmw/3-series/saloon-2019/320i-xdrive-m-sport-4dr-step-auto/specs/ | D197: https://parkers-images.bauersecure.com/Scale/wp-images/22074/cut-out/00-bmw_m340i_xdrive.jpeg | E197: BMW | F197: 3-Series | G197: Saloon 2019 specs | H197: 320i xDrive M Sport 4dr Step Auto | I197: 2022 | J197: 2022 | K197: 44682 | L197: 44866 | M197: BMW 3-Series Saloon (2019 onwards) | N197: new | O197: Germany
C198: https://www.parkers.co.uk/bmw/3-series/saloon-2019/320i-xdrive-m-sport-4dr-step-auto-[tech-pack]/specs/ | D198: https://parkers-images.bauersecure.com/Scale/wp-images/22074/cut-out/00-bmw_m340i_xdrive.jpeg | E198: BMW | F198: 3-Series | G198: Saloon 2019 specs | H198: 320i xDrive M Sport 4dr Step Auto [Tech Pack] | I198: 2022 | J198: 2022 | K198: 44682 | L198: 44866 | M198: BMW 3-Series Saloon (2019 onwards) | N198: new | O198: Germany
C199: https://www.parkers.co.uk/bmw/3-series/saloon-2019/320i-xdrive-m-sport-4dr-step-auto-[pro-pack]/specs/ | D199: https://parkers-images.bauersecure.com/Scale/wp-images/22074/cut-out/00-bmw_m340i_xdrive.jpeg | E199: BMW | F199: 3-Series | G199: Saloon 2019 specs | H199: 320i xDrive M Sport 4dr Step Auto [Pro Pack] | I199: 2022 | J199: 2022 | K199: 44682 | L199: 44866 | M199: BMW 3-Series Saloon (2019 onwards) | N199: new | O199: Germany
C200: https://www.parkers.co.uk/bmw/3-series/saloon-2019/320i-xdrive-m-sport-4dr-step-auto-[techpro-pack]/specs/ | D200: https://parkers-images.bauersecure.com/Scale/wp-images/22074/cut-out/00-bmw_m340i_xdrive.jpeg | E200: BMW | F200: 3-Series | G200: Saloon 2019 specs | H200: 320i xDrive M Sport 4dr Step Auto [Tech/Pro Pack] | I200: 2022 | J200: 2022 | K200: 44682 | L200: 44866 | M200: BMW 3-Series Saloon (2019 onwards) | N200: new | O200: Germany
C201: https://www.parkers.co.uk/bmw/3-series/saloon-2019/330i-m-sport-4dr-step-auto/specs/ | D201: https://parkers-images.bauersecure.com/Scale/wp-images/22074/cut-out/00-bmw_m340i_xdrive.jpeg | E201: BMW | F201: 3-Series | G201: Saloon 2019 specs | H201: 330i M Sport 4dr Step Auto | I201: 2022 | J201: 2022 | K201: 44682 | L201: 44866 | M201: BMW 3-Series Saloon (2019 onwards) | N201: new | O201: Germany
C202: https://www.parkers.co.uk/bmw/3-series/saloon-2019/330i-m-sport-4dr-step-auto-[tech-pack]/specs/ | D202: https://parkers-images.bauersecure.com/Scale/wp-images/22074/cut-out/00-bmw_m340i_xdrive.jpeg | E202: BMW | F202: 3-Series | G202: Saloon 2019 specs | H202: 330i M Sport 4dr Step Auto [Tech Pack] | I202: 2022 | J202: 2022 | K202: 44682 | L202: 44866 | M202: BMW 3-Series Saloon (2019 onwards) | N202: new | O202: Germany
C203: https://www.parkers.co.uk/bmw/3-series/saloon-2019/330i-m-sport-4dr-step-auto-[pro-pack]/specs/ | D203: https://parkers-images.bauersecure.com/Scale/wp-images/22074/cut-out/00-bmw_m340i_xdrive.jpeg | E203: BMW | F203: 3-Series | G203: Saloon 2019 specs | H203: 330i M Sport 4dr Step Auto [Pro Pack] | I203: 2022 | J203: 2022 | K203: 44682 | L203: 44866 | M203: BMW 3-Series Saloon (2019 onwards) | N203: new | O203: Germany
C204: https://www.parkers.co.uk/bmw/3-series/saloon-2019/330i-m-sport-4dr-step-auto-[techpro-pack]/specs/ | D204: https://parkers-images.bauersecure.com/Scale/wp-images/22074/cut-out/00-bmw_m340i_xdrive.jpeg | E204: BMW | F204: 3-Series | G204: Saloon 2019 specs | H204: 330i M Sport 4dr Step Auto [Tech/Pro Pack] | I204: 2022 | J204: 2022 | K204: 44682 | L204: 44866 | M204: BMW 3-Series Saloon (2019 onwards) | N204: new | O204: Germany
C205: https://www.parkers.co.uk/bmw/3-series/saloon-2019/330d-m-sport-automatic-4d/specs/ | D205: https://parkers-images.bauersecure.com/Scale/wp-images/22074/cut-out/00-bmw_m340i_xdrive.jpeg | E205: BMW | F205: 3-Series | G205: Saloon 2019 specs | H205: 330d M Sport Automatic 4d | I205: 2019 | J205: 2020 | K205: 43525 | L205: 44136 | M205: BMW 3-Series Saloon (2019 onwards) | N205: new | O205: Germany
C206: https://www.parkers.co.uk/bmw/3-series/saloon-2019/330d-xdrive-m-sport-automatic-4d/specs/ | D206: https://parkers-images.bauersecure.com/Scale/wp-images/22074/cut-out/00-bmw_m340i_xdrive.jpeg | E206: BMW | F206: 3-Series | G206: Saloon 2019 specs | H206: 330d xDrive M Sport Automatic 4d | I206: 2019 | J206: 2020 | K206: 43647 | L206: 44136 | M206: BMW 3-Series Saloon (2019 onwards) | N206: new | O206: Germany
C207: https://www.parkers.co.uk/bmw/3-series/saloon-2019/330d-m-sport-(plus-package)-sport-automatic-4d/specs/ | D207: https://parkers-images.bauersecure.com/Scale/wp-images/22074/cut-out/00-bmw_m340i_xdrive.jpeg | E207: BMW | F207: 3-Series | G207: Saloon 2019 specs | H207: 330d M Sport (Plus Package) Sport Automatic 4d | I207: 2019 | J207: 2020 | K207: 43647 | L207: 44013 | M207: BMW 3-Series Saloon (2019 onwards) | N207: new | O207: Germany
C208: https://www.parkers.co.uk/bmw/3-series/saloon-2019/330d-m-sport-(technology-package)-automatic-4d/specs/ | D208: https://parkers-images.bauersecure.com/Scale/wp-images/22074/cut-out/00-bmw_m340i_xdrive.jpeg | E208: BMW | F208: 3-Series | G208: Saloon 2019 specs | H208: 330d M Sport (Technology Package) Automatic 4d | I208: 2019 | J208: 2020 | K208: 43647 | L208: 44136 | M208: BMW 3-Series Saloon (2019 onwards) | N208: new | O208: Germany
... C251: https://www.parkers.co.uk/bmw/3-series/saloon-2019/m340d-xdrive-mht-4dr-step-auto/specs/ | D251: https://parkers-images.bauersecure.com/Scale/wp-images/22074/cut-out/00-bmw_m340i_xdrive.jpeg | E251: BMW | F251: 3-Series | G251: Saloon 2019 specs | H251: M340d xDrive MHT 4dr Step Auto | I251: 2022 | J251: 2024 | K251: 44682 | L251: 45413 | M251: BMW 3-Series Saloon (2019 onwards) | N251: new | O251: Germany
B252: https://www.parkers.co.uk/bmw/3-series/touring-2019/specs/ | C252: https://www.parkers.co.uk/bmw/3-series/touring-2019/318d-mht-se-pro-5dr-step-auto/specs/ | D252: https://parkers-images.bauersecure.com/Scale/wp-images/22109/cut-out/080-bmw-3-series-touring-blue-front.jpg | E252: BMW | F252: 3-Series | G252: Touring 2019 specs | H252: 318d MHT SE Pro 5dr Step Auto | I252: 2021 | J252: 2022 | K252: 44256 | L252: 44621 | M252: BMW 3-Series Touring (2019 onwards) | N252: new | O252: Germany
C253: https://www.parkers.co.uk/bmw/3-series/touring-2019/320d-mht-se-pro-5dr-step-auto/specs/ | D253: https://parkers-images.bauersecure.com/Scale/wp-images/22109/cut-out/080-bmw-3-series-touring-blue-front.jpg | E253: BMW | F253: 3-Series | G253: Touring 2019 specs | H253: 320d MHT SE Pro 5dr Step Auto | I253: 2021 | J253: 2022 | K253: 44256 | L253: 44621 | M253: BMW 3-Series Touring (2019 onwards) | N253: new | O253: Germany
C254: https://www.parkers.co.uk/bmw/3-series/touring-2019/320d-xdrive-mht-se-pro-5dr-step-auto/specs/ | D254: https://parkers-images.bauersecure.com/Scale/wp-images/22109/cut-out/080-bmw-3-series-touring-blue-front.jpg | E254: BMW | F254: 3-Series | G254: Touring 2019 specs | H254: 320d xDrive MHT SE Pro 5dr Step Auto | I254: 2021 | J254: 2022 | K254: 44256 | L254: 44621 | M254: BMW 3-Series Touring (2019 onwards) | N254: new | O254: Germany
C255: https://www.parkers.co.uk/bmw/3-series/touring-2019/318i-se-pro-5dr-step-auto/specs/ | D255: https://parkers-images.bauersecure.com/Scale/wp-images/22109/cut-out/080-bmw-3-series-touring-blue-front.jpg | E255: BMW | F255: 3-Series | G255: Touring 2019 specs | H255: 318i SE Pro 5dr Step Auto | I255: 2021 | J255: 2022 | K255: 44256 | L255: 44621 | M255: BMW 3-Series Touring (2019 onwards) | N255: new | O255: Germany
C256: https://www.parkers.co.uk/bmw/3-series/touring-2019/320i-se-pro-5dr-step-auto/specs/ | D256: https://parkers-images.bauersecure.com/Scale/wp-images/22109/cut-out/080-bmw-3-series-touring-blue-front.jpg | E256: BMW | F256: 3-Series | G256: Touring 2019 specs | H256: 320i SE Pro 5dr Step Auto | I256: 2021 | J256: 2022 | K256: 44256 | L256: 44621 | M256: BMW 3-Series Touring (2019 onwards) | N256: new | O256: Germany
...

Sheet Statistics
B2: Make | C2: Country | D2: Logo | E2: Models | F2: Versions | G2: 1970 | H2: 1971 | I2: 1972 | J2: 1973 | K2: 1974 | L2: 1975 | M2: 1976 | N2: 1977 | O2: 1978 | P2: 1979 | Q2: 1980 | R2: 1981 | S2: 1982 | T2: 1983 | U2: 1984 | V2: 1985 | W2: 1986 | X2: 1987 | Y2: 1988 | Z2: 1989 | AA2: 1990 | AB2: 1991 | AC2: 1992 | AD2: 1993 | AE2: 1994 | AF2: 1995 | AG2: 1996 | AH2: 1997 | AI2: 1998 | AJ2: 1999 | AK2: 2000 | AL2: 2001 | AM2: 2002 | AN2: 2003 | AO2: 2004 | AP2: 2005 | AQ2: 2006 | AR2: 2007 | AS2: 2008 | AT2: 2009 | AU2: 2010 | AV2: 2011 | AW2: 2012 | AX2: 2013 | AY2: 2014 | AZ2: 2015 | BA2: 2016 | BB2: 2017 | BC2: 2018 | BD2: 2019 | BE2: 2020 | BF2: 2021 | BG2: 2022 | BH2: 2023 | BI2: 2024 | BJ2: 2025 | BK2: 2026 | BL2: 2027 | BM2: 2028 | BN2: 2029
B3: Models | C3: =COUNTA(C8:C9464) -> 249 | D3: =COUNTA(D8:D9456) -> 123 | E3: =SUM(E8:E9456) -> 2985 | F3: =SUM(F8:F9456) -> 97987 | G3: =COUNTIF(#REF!,G$2) -> #REF! | H3: =COUNTIF(#REF!,H$2) -> #REF! | I3: =COUNTIF(#REF!,I$2) -> #REF! | J3: =COUNTIF(#REF!,J$2) -> #REF! | K3: =COUNTIF(#REF!,K$2) -> #REF! | L3: =COUNTIF(#REF!,L$2) -> #REF! | M3: =COUNTIF(#REF!,M$2) -> #REF! | N3: =COUNTIF(#REF!,N$2) -> #REF! | ... BN3: =COUNTIF(#REF!,BN$2) -> #REF!
B4: Versions | C4: =COUNTA(C9:C9465) -> 249 | D4: =COUNTA(D9:D9457) -> 123 | E4: =SUM(E9:E9457) -> 2985 | F4: =SUM(F9:F9457) -> 97987 | G4: =COUNTIF('Versions table'!$I:$I,G$2) -> 0 | H4: =COUNTIF('Versions table'!$I:$I,H$2) -> 0 | I4: =COUNTIF('Versions table'!$I:$I,I$2) -> 0 | J4: =COUNTIF('Versions table'!$I:$I,J$2) -> 0 | K4: =COUNTIF('Versions table'!$I:$I,K$2) -> 0 | L4: =COUNTIF('Versions table'!$I:$I,L$2) -> 0 | M4: =COUNTIF('Versions table'!$I:$I,M$2) -> 0 | N4: =COUNTIF('Versions table'!$I:$I,N$2) -> 0 | ... BN4: =COUNTIF('Versions table'!$I:$I,BN$2) -> 0
B6: United Kingdom Car Database - statistics by make and year of launch
B7: Compiled in Excel by Teoalida © cardatabase.teoalida.com
B9: KTM | C9: Austria | D9: https://parkers-images.bauersecure.com/wp-images/19690/logo/ktm.png | E9: 1 | F9: 5 | G9: 0 | H9: 0 | I9: 0 | J9: 0 | K9: 0 | L9: 0 | M9: 0 | N9: 0 | O9: 0 | P9: 0 | Q9: 0 | R9: 0 | S9: 0 | T9: 0 | U9: 0 | V9: 0 | W9: 0 | X9: 0 | Y9: 0 | Z9: 0 | AA9: 0 | AB9: 0 | AC9: 0 | AD9: 0 | AE9: 0 | AF9: 0 | AG9: 0 | AH9: 0 | AI9: 0 | AJ9: 0 | AK9: 0 | AL9: 0 | AM9: 0 | AN9: 0 | AO9: 0 | AP9: 0 | AQ9: 0 | AR9: 0 | AS9: 0 | AT9: 5 | AU9: 0 | AV9: 0 | AW9: 0 | AX9: 0 | AY9: 0 | AZ9: 0 | BA9: 0 | BB9: 0 | BC9: 0 | BD9: 0 | BE9: 0 | BF9: 0 | BG9: 0 | BH9: 0 | BI9: 0 | BJ9: 0 | BK9: 0 | BL9: 0 | BM9: 0 | BN9: 0
B10: BYD | C10: China | D10: https://parkers-images.bauersecure.com/wp-images/216047/logo/byd.png | E10: 6 | F10: 17 | G10: 0 | H10: 0 | I10: 0 | J10: 0 | K10: 0 | L10: 0 | M10: 0 | N10: 0 | O10: 0 | P10: 0 | Q10: 0 | R10: 0 | S10: 0 | T10: 0 | U10: 0 | V10: 0 | W10: 0 | X10: 0 | Y10: 0 | Z10: 0 | AA10: 0 | AB10: 0 | AC10: 0 | AD10: 0 | AE10: 0 | AF10: 0 | AG10: 0 | AH10: 0 | AI10: 0 | AJ10: 0 | AK10: 0 | AL10: 0 | AM10: 0 | AN10: 0 | AO10: 0 | AP10: 0 | AQ10: 0 | AR10: 0 | AS10: 0 | AT10: 0 | AU10: 0 | AV10: 0 | AW10: 0 | AX10: 0 | AY10: 0 | AZ10: 0 | BA10: 0 | BB10: 0 | BC10: 0 | BD10: 0 | BE10: 0 | BF10: 0 | BG10: 0 | BH10: 8 | BI10: 6 | BJ10: 3 | BK10: 0 | BL10: 0 | BM10: 0 | BN10: 0
B11: DFSK | C11: China | D11: https://parkers-images.bauersecure.com/wp-images/20106/logo/dfsk.png | E11: 1 | F11: 1 | G11: 0 | H11: 0 | I11: 0 | J11: 0 | K11: 0 | L11: 0 | M11: 0 | N11: 0 | O11: 0 | P11: 0 | Q11: 0 | R11: 0 | S11: 0 | T11: 0 | U11: 0 | V11: 0 | W11: 0 | X11: 0 | Y11: 0 | Z11: 0 | AA11: 0 | AB11: 0 | AC11: 0 | AD11: 0 | AE11: 0 | AF11: 0 | AG11: 0 | AH11: 0 | AI11: 0 | AJ11: 0 | AK11: 0 | AL11: 0 | AM11: 0 | AN11: 0 | AO11: 0 | AP11: 0 | AQ11: 0 | AR11: 0 | AS11: 0 | AT11: 0 | AU11: 0 | AV11: 0 | AW11: 0 | AX11: 0 | AY11: 0 | AZ11: 0 | BA11: 0 | BB11: 0 | BC11: 0 | BD11: 1 | BE11: 0 | BF11: 0 | BG11: 0 | BH11: 0 | BI11: 0 | BJ11: 0 | BK11: 0 | BL11: 0 | BM11: 0 | BN11: 0
B12: GWM | C12: China | D12: https://parkers-images.bauersecure.com/wp-images/357012/logogwm_2025_logo.jpg | E12: 2 | F12: 6
B13: GWM ORA | C13: China | D13: https://parkers-images.bauersecure.com/wp-images/178173/logo/gwm_ora_logo.png | E13: 2 | F13: 4 | G13: 0 | H13: 0 | I13: 0 | J13: 0 | K13: 0 | L13: 0 | M13: 0 | N13: 0 | O13: 0 | P13: 0 | Q13: 0 | R13: 0 | S13: 0 | T13: 0 | U13: 0 | V13: 0 | W13: 0 | X13: 0 | Y13: 0 | Z13: 0 | AA13: 0 | AB13: 0 | AC13: 0 | AD13: 0 | AE13: 0 | AF13: 0 | AG13: 0 | AH13: 0 | AI13: 0 | AJ13: 0 | AK13: 0 | AL13: 0 | AM13: 0 | AN13: 0 | AO13: 0 | AP13: 0 | AQ13: 0 | AR13: 0 | AS13: 0 | AT13: 0 | AU13: 0 | AV13: 0 | AW13: 0 | AX13: 0 | AY13: 0 | AZ13: 0 | BA13: 0 | BB13: 0 | BC13: 0 | BD13: 0 | BE13: 0 | BF13: 0 | BG13: 1 | BH13: 1 | BI13: 2 | BJ13: 0 | BK13: 0 | BL13: 0 | BM13: 0 | BN13: 0
B14: JAECOO | C14: China | D14: https://parkers-images.bauersecure.com/wp-images/329628/logo/jaecoo.jpg | E14: 1 | F14: 3 | G14: 0 | H14: 0 | I14: 0 | J14: 0 | K14: 0 | L14: 0 | M14: 0 | N14: 0 | O14: 0 | P14: 0 | Q14: 0 | R14: 0 | S14: 0 | T14: 0 | U14: 0 | V14: 0 | W14: 0 | X14: 0 | Y14: 0 | Z14: 0 | AA14: 0 | AB14: 0 | AC14: 0 | AD14: 0 | AE14: 0 | AF14: 0 | AG14: 0 | AH14: 0 | AI14: 0 | AJ14: 0 | AK14: 0 | AL14: 0 | AM14: 0 | AN14: 0 | AO14: 0 | AP14: 0 | AQ14: 0 | AR14: 0 | AS14: 0 | AT14: 0 | AU14: 0 | AV14: 0 | AW14: 0 | AX14: 0 | AY14: 0 | AZ14: 0 | BA14: 0 | BB14: 0 | BC14: 0 | BD14: 0 | BE14: 0 | BF14: 0 | BG14: 0 | BH14: 0 | BI14: 3 | BJ14: 0 | BK14: 0 | BL14: 0 | BM14: 0 | BN14: 0
B15: LEAPMOTOR | C15: China | D15: https://parkers-images.bauersecure.com/wp-images/329676/logo/leapmotor.jpg | E15: 2 | F15: 3 | G15: 0 | H15: 0 | I15: 0 | J15: 0 | K15: 0 | L15: 0 | M15: 0 | N15: 0 | O15: 0 | P15: 0 | Q15: 0 | R15: 0 | S15: 0 | T15: 0 | U15: 0 | V15: 0 | W15: 0 | X15: 0 | Y15: 0 | Z15: 0 | AA15: 0 | AB15: 0 | AC15: 0 | AD15: 0 | AE15: 0 | AF15: 0 | AG15: 0 | AH15: 0 | AI15: 0 | AJ15: 0 | AK15: 0 | AL15: 0 | AM15: 0 | AN15: 0 | AO15: 0 | AP15: 0 | AQ15: 0 | AR15: 0 | AS15: 0 | AT15: 0 | AU15: 0 | AV15: 0 | AW15: 0 | AX15: 0 | AY15: 0 | AZ15: 0 | BA15: 0 | BB15: 0 | BC15: 0 | BD15: 0 | BE15: 0 | BF15: 0 | BG15: 0 | BH15: 0 | BI15: 2 | BJ15: 1 | BK15: 0 | BL15: 0 | BM15: 0 | BN15: 0
B16: LEVC | C16: China | D16: https://parkers-images.bauersecure.com/wp-images/20095/logo/levc.png | E16: 1 | F16: 5 | G16: 0 | H16: 0 | I16: 0 | J16: 0 | K16: 0 | L16: 0 | M16: 0 | N16: 0 | O16: 0 | P16: 0 | Q16: 0 | R16: 0 | S16: 0 | T16: 0 | U16: 0 | V16: 0 | W16: 0 | X16: 0 | Y16: 0 | Z16: 0 | AA16: 0 | AB16: 0 | AC16: 0 | AD16: 0 | AE16: 0 | AF16: 0 | AG16: 0 | AH16: 0 | AI16: 0 | AJ16: 0 | AK16: 0 | AL16: 0 | AM16: 0 | AN16: 0 | AO16: 0 | AP16: 0 | AQ16: 0 | AR16: 0 | AS16: 0 | AT16: 0 | AU16: 0 | AV16: 0 | AW16: 0 | AX16: 0 | AY16: 0 | AZ16: 0 | BA16: 0 | BB16: 3 | BC16: 0 | BD16: 2 | BE16: 0 | BF16: 0 | BG16: 0 | BH16: 0 | BI16: 0 | BJ16: 0 | BK16: 0 | BL16: 0 | BM16: 0 | BN16: 0
B17: Lynk & Co | C17: China | E17: 0 | F17: 0 | G17: 0 | H17: 0 | I17: 0 | J17: 0 | K17: 0 | L17: 0 | M17: 0 | N17: 0 | O17: 0 | P17: 0 | Q17: 0 | R17: 0 | S17: 0 | T17: 0 | U17: 0 | V17: 0 | W17: 0 | X17: 0 | Y17: 0 | Z17: 0 | AA17: 0 | AB17: 0 | AC17: 0 | AD17: 0 | AE17: 0 | AF17: 0 | AG17: 0 | AH17: 0 | AI17: 0 | AJ17: 0 | AK17: 0 | AL17: 0 | AM17: 0 | AN17: 0 | AO17: 0 | AP17: 0 | AQ17: 0 | AR17: 0 | AS17: 0 | AT17: 0 | AU17: 0 | AV17: 0 | AW17: 0 | AX17: 0 | AY17: 0 | AZ17: 0 | BA17: 0 | BB17: 0 | BC17: 0 | BD17: 0 | BE17: 0 | BF17: 0 | BG17: 0 | BH17: 0 | BI17: 0 | BJ17: 0 | BK17: 0 | BL17: 0 | BM17: 0 | BN17: 0
B18: MAXUS | C18: China | D18: https://parkers-images.bauersecure.com/wp-images/212414/logo/maxus.png | E18: 2 | F18: 6 | G18: 0 | H18: 0 | I18: 0 | J18: 0 | K18: 0 | L18: 0 | M18: 0 | N18: 0 | O18: 0 | P18: 0 | Q18: 0 | R18: 0 | S18: 0 | T18: 0 | U18: 0 | V18: 0 | W18: 0 | X18: 0 | Y18: 0 | Z18: 0 | AA18: 0 | AB18: 0 | AC18: 0 | AD18: 0 | AE18: 0 | AF18: 0 | AG18: 0 | AH18: 0 | AI18: 0 | AJ18: 0 | AK18: 0 | AL18: 0 | AM18: 0 | AN18: 0 | AO18: 0 | AP18: 0 | AQ18: 0 | AR18: 0 | AS18: 0 | AT18: 0 | AU18: 0 | AV18: 0 | AW18: 0 | AX18: 0 | AY18: 0 | AZ18: 0 | BA18: 0 | BB18: 0 | BC18: 0 | BD18: 0 | BE18: 0 | BF18: 0 | BG18: 3 | BH18: 0 | BI18: 3 | BJ18: 0 | BK18: 0 | BL18: 0 | BM18: 0 | BN18: 0
B19: OMODA | C19: China | D19: https://parkers-images.bauersecure.com/wp-images/243724/logo/omoda_logo.png | E19: 3 | F19: 7 | G19: 0 | H19: 0 | I19: 0 | J19: 0 | K19: 0 | L19: 0 | M19: 0 | N19: 0 | O19: 0 | P19: 0 | Q19: 0 | R19: 0 | S19: 0 | T19: 0 | U19: 0 | V19: 0 | W19: 0 | X19: 0 | Y19: 0 | Z19: 0 | AA19: 0 | AB19: 0 | AC19: 0 | AD19: 0 | AE19: 0 | AF19: 0 | AG19: 0 | AH19: 0 | AI19: 0 | AJ19: 0 | AK19: 0 | AL19: 0 | AM19: 0 | AN19: 0 | AO19: 0 | AP19: 0 | AQ19: 0 | AR19: 0 | AS19: 0 | AT19: 0 | AU19: 0 | AV19: 0 | AW19: 0 | AX19: 0 | AY19: 0 | AZ19: 0 | BA19: 0 | BB19: 0 | BC19: 0 | BD19: 0 | BE19: 0 | BF19: 0 | BG19: 0 | BH19: 0 | BI19: 4 | BJ19: 3 | BK19: 0 | BL19: 0 | BM19: 0 | BN19: 0
B20: SERES | C20: China | D20: https://parkers-images.bauersecure.com/wp-images/281207/logo/seres_logo.jpg | E20: 1 | F20: 2 | G20: 0 | H20: 0 | I20: 0 | J20: 0 | K20: 0 | L20: 0 | M20: 0 | N20: 0 | O20: 0 | P20: 0 | Q20: 0 | R20: 0 | S20: 0 | T20: 0 | U20: 0 | V20: 0 | W20: 0 | X20: 0 | Y20: 0 | Z20: 0 | AA20: 0 | AB20: 0 | AC20: 0 | AD20: 0 | AE20: 0 | AF20: 0 | AG20: 0 | AH20: 0 | AI20: 0 | AJ20: 0 | AK20: 0 | AL20: 0 | AM20: 0 | AN20: 0 | AO20: 0 | AP20: 0 | AQ20: 0 | AR20: 0 | AS20: 0 | AT20: 0 | AU20: 0 | AV20: 0 | AW20: 0 | AX20: 0 | AY20: 0 | AZ20: 0 | BA20: 0 | BB20: 0 | BC20: 0 | BD20: 0 | BE20: 0 | BF20: 0 | BG20: 0 | BH20: 0 | BI20: 2 | BJ20: 0 | BK20: 0 | BL20: 0 | BM20: 0 | BN20: 0
B21: SILENCE | C21: China | D21: https://parkers-images.bauersecure.com/wp-images/256696/logo/silence_logo.png | E21: 1 | F21: 1 | G21: 0 | H21: 0 | I21: 0 | J21: 0 | K21: 0 | L21: 0 | M21: 0 | N21: 0 | O21: 0 | P21: 0 | Q21: 0 | R21: 0 | S21: 0 | T21: 0 | U21: 0 | V21: 0 | W21: 0 | X21: 0 | Y21: 0 | Z21: 0 | AA21: 0 | AB21: 0 | AC21: 0 | AD21: 0 | AE21: 0 | AF21: 0 | AG21: 0 | AH21: 0 | AI21: 0 | AJ21: 0 | AK21: 0 | AL21: 0 | AM21: 0 | AN21: 0 | AO21: 0 | AP21: 0 | AQ21: 0 | AR21: 0 | AS21: 0 | AT21: 0 | AU21: 0 | AV21: 0 | AW21: 0 | AX21: 0 | AY21: 0 | AZ21: 0 | BA21: 0 | BB21: 0 | BC21: 0 | BD21: 0 | BE21: 0 | BF21: 0 | BG21: 0 | BH21: 1 | BI21: 0 | BJ21: 0 | BK21: 0 | BL21: 0 | BM21: 0 | BN21: 0
B22: SKYWELL | C22: China | D22: https://parkers-images.bauersecure.com/wp-images/312626/logo/skywell_logo.jpg | E22: 1 | F22: 2 | G22: 0 | H22: 0 | I22: 0 | J22: 0 | K22: 0 | L22: 0 | M22: 0 | N22: 0 | O22: 0 | P22: 0 | Q22: 0 | R22: 0 | S22: 0 | T22: 0 | U22: 0 | V22: 0 | W22: 0 | X22: 0 | Y22: 0 | Z22: 0 | AA22: 0 | AB22: 0 | AC22: 0 | AD22: 0 | AE22: 0 | AF22: 0 | AG22: 0 | AH22: 0 | AI22: 0 | AJ22: 0 | AK22: 0 | AL22: 0 | AM22: 0 | AN22: 0 | AO22: 0 | AP22: 0 | AQ22: 0 | AR22: 0 | AS22: 0 | AT22: 0 | AU22: 0 | AV22: 0 | AW22: 0 | AX22: 0 | AY22: 0 | AZ22: 0 | BA22: 0 | BB22: 0 | BC22: 0 | BD22: 0 | BE22: 0 | BF22: 0 | BG22: 0 | BH22: 0 | BI22: 2 | BJ22: 0 | BK22: 0 | BL22: 0 | BM22: 0 | BN22: 0
B23: XEV | C23: China | D23: https://parkers-images.bauersecure.com/wp-images/288982/logo/xev_logo.jpg | E23: 1 | F23: 2 | G23: 0 | H23: 0 | I23: 0 | J23: 0 | K23: 0 | L23: 0 | M23: 0 | N23: 0 | O23: 0 | P23: 0 | Q23: 0 | R23: 0 | S23: 0 | T23: 0 | U23: 0 | V23: 0 | W23: 0 | X23: 0 | Y23: 0 | Z23: 0 | AA23: 0 | AB23: 0 | AC23: 0 | AD23: 0 | AE23: 0 | AF23: 0 | AG23: 0 | AH23: 0 | AI23: 0 | AJ23: 0 | AK23: 0 | AL23: 0 | AM23: 0 | AN23: 0 | AO23: 0 | AP23: 0 | AQ23: 0 | AR23: 0 | AS23: 0 | AT23: 0 | AU23: 0 | AV23: 0 | AW23: 0 | AX23: 0 | AY23: 0 | AZ23: 0 | BA23: 0 | BB23: 0 | BC23: 0 | BD23: 0 | BE23: 0 | BF23: 0 | BG23: 0 | BH23: 0 | BI23: 2 | BJ23: 0 | BK23: 0 | BL23: 0 | BM23: 0 | BN23: 0
B24: XPENG | C24: China | D24: https://parkers-images.bauersecure.com/wp-images/369357/logoxpenglogo_new.jpg | E24: 1 | F24: 2
B25: Skoda | C25: Czech | D25: https://parkers-images.bauersecure.com/wp-images/90/logo/skoda_2016.png | E25: 53 | F25: 2587 | G25: 0 | H25: 0 | I25: 0 | J25: 0 | K25: 0 | L25: 0 | M25: 0 | N25: 0 | O25: 0 | P25: 0 | Q25: 0 | R25: 0 | S25: 0 | T25: 0 | U25: 0 | V25: 0 | W25: 0 | X25: 0 | Y25: 0 | Z25: 0 | AA25: 0 | AB25: 0 | AC25: 0 | AD25: 0 | AE25: 1 | AF25: 3 | AG25: 10 | AH25: 7 | AI25: 12 | AJ25: 19 | AK25: 47 | AL25: 35 | AM25: 13 | AN25: 27 | AO25: 33 | AP25: 73 | AQ25: 35 | AR25: 42 | AS25: 58 | AT25: 107 | AU25: 123 | AV25: 103 | AW25: 46 | AX25: 170 | AY25: 124 | AZ25: 237 | BA25: 73 | BB25: 248 | BC25: 165 | BD25: 125 | BE25: 167 | BF25: 85 | BG25: 42 | BH25: 107 | BI25: 173 | BJ25: 77 | BK25: 0 | BL25: 0 | BM25: 0 | BN25: 0
B26: Aixam | C26: France | D26: https://parkers-images.bauersecure.com/wp-images/19875/logo/aixam.png | E26: 8 | F26: 34 | G26: 0 | H26: 0 | I26: 0 | J26: 0 | K26: 0 | L26: 0 | M26: 0 | N26: 0 | O26: 0 | P26: 0 | Q26: 0 | R26: 0 | S26: 0 | T26: 0 | U26: 0 | V26: 0 | W26: 0 | X26: 0 | Y26: 0 | Z26: 0 | AA26: 0 | AB26: 0 | AC26: 0 | AD26: 0 | AE26: 0 | AF26: 0 | AG26: 0 | AH26: 0 | AI26: 0 | AJ26: 0 | AK26: 5 | AL26: 0 | AM26: 6 | AN26: 0 | AO26: 6 | AP26: 4 | AQ26: 0 | AR26: 2 | AS26: 0 | AT26: 6 | AU26: 0 | AV26: 2 | AW26: 2 | AX26: 0 | AY26: 1 | AZ26: 0 | BA26: 0 | BB26: 0 | BC26: 0 | BD26: 0 | BE26: 0 | BF26: 0 | BG26: 0 | BH26: 0 | BI26: 0 | BJ26: 0 | BK26: 0 | BL26: 0 | BM26: 0 | BN26: 0
B27: Alpine | C27: France | D27: https://parkers-images.bauersecure.com/wp-images/344/logo/alpine_logo.png | E27: 2 | F27: 25 | G27: 0 | H27: 0 | I27: 0 | J27: 0 | K27: 0 | L27: 0 | M27: 0 | N27: 0 | O27: 0 | P27: 0 | Q27: 0 | R27: 0 | S27: 0 | T27: 0 | U27: 0 | V27: 0 | W27: 0 | X27: 0 | Y27: 0 | Z27: 0 | AA27: 0 | AB27: 0 | AC27: 0 | AD27: 0 | AE27: 0 | AF27: 0 | AG27: 0 | AH27: 0 | AI27: 0 | AJ27: 0 | AK27: 0 | AL27: 0 | AM27: 0 | AN27: 0 | AO27: 0 | AP27: 0 | AQ27: 0 | AR27: 0 | AS27: 0 | AT27: 0 | AU27: 0 | AV27: 0 | AW27: 0 | AX27: 0 | AY27: 0 | AZ27: 0 | BA27: 0 | BB27: 0 | BC27: 3 | BD27: 1 | BE27: 2 | BF27: 4 | BG27: 4 | BH27: 4 | BI27: 0 | BJ27: 7 | BK27: 0 | BL27: 0 | BM27: 0 | BN27: 0
B28: Bugatti | C28: France | E28: 0 | F28: 0 | G28: 0 | H28: 0 | I28: 0 | J28: 0 | K28: 0 | L28: 0 | M28: 0 | N28: 0 | O28: 0 | P28: 0 | Q28: 0 | R28: 0 | S28: 0 | T28: 0 | U28: 0 | V28: 0 | W28: 0 | X28: 0 | Y28: 0 | Z28: 0 | AA28: 0 | AB28: 0 | AC28: 0 | AD28: 0 | AE28: 0 | AF28: 0 | AG28: 0 | AH28: 0 | AI28: 0 | AJ28: 0 | AK28: 0 | AL28: 0 | AM28: 0 | AN28: 0 | AO28: 0 | AP28: 0 | AQ28: 0 | AR28: 0 | AS28: 0 | AT28: 0 | AU28: 0 | AV28: 0 | AW28: 0 | AX28: 0 | AY28: 0 | AZ28: 0 | BA28: 0 | BB28: 0 | BC28: 0 | BD28: 0 | BE28: 0 | BF28: 0 | BG28: 0 | BH28: 0 | BI28: 0 | BJ28: 0 | BK28: 0 | BL28: 0 | BM28: 0 | BN28: 0
B29: Citroën | C29: France | D29: https://parkers-images.bauersecure.com/wp-images/173/logo/citroen_new.png | E29: 83 | F29: 2445 | G29: 0 | H29: 0 | I29: 0 | J29: 0 | K29: 0 | L29: 0 | M29: 0 | N29: 0 | O29: 0 | P29: 0 | Q29: 0 | R29: 2 | S29: 0 | T29: 2 | U29: 1 | V29: 3 | W29: 13 | X29: 2 | Y29: 1 | Z29: 9 | AA29: 12 | AB29: 24 | AC29: 30 | AD29: 35 | AE29: 46 | AF29: 34 | AG29: 66 | AH29: 87 | AI29: 79 | AJ29: 45 | AK29: 64 | AL29: 48 | AM29: 22 | AN29: 67 | AO29: 66 | AP29: 40 | AQ29: 51 | AR29: 62 | AS29: 142 | AT29: 99 | AU29: 72 | AV29: 67 | AW29: 101 | AX29: 91 | AY29: 132 | AZ29: 111 | BA29: 91 | BB29: 62 | BC29: 151 | BD29: 43 | BE29: 100 | BF29: 37 | BG29: 62 | BH29: 124 | BI29: 30 | BJ29: 19 | BK29: 0 | BL29: 0 | BM29: 0 | BN29: 0
B30: DS | C30: France | D30: https://parkers-images.bauersecure.com/wp-images/184/logo/ds.png | E30: 14 | F30: 363 | G30: 0 | H30: 0 | I30: 0 | J30: 0 | K30: 0 | L30: 0 | M30: 0 | N30: 0 | O30: 0 | P30: 0 | Q30: 0 | R30: 0 | S30: 0 | T30: 0 | U30: 0 | V30: 0 | W30: 0 | X30: 0 | Y30: 0 | Z30: 0 | AA30: 0 | AB30: 0 | AC30: 0 | AD30: 0 | AE30: 0 | AF30: 0 | AG30: 0 | AH30: 0 | AI30: 0 | AJ30: 0 | AK30: 0 | AL30: 0 | AM30: 0 | AN30: 0 | AO30: 0 | AP30: 0 | AQ30: 0 | AR30: 0 | AS30: 0 | AT30: 0 | AU30: 0 | AV30: 0 | AW30: 0 | AX30: 0 | AY30: 0 | AZ30: 67 | BA30: 64 | BB30: 23 | BC30: 11 | BD30: 30 | BE30: 25 | BF30: 52 | BG30: 39 | BH30: 13 | BI30: 29 | BJ30: 10 | BK30: 0 | BL30: 0 | BM30: 0 | BN30: 0
B31: INEOS | C31: France | D31: https://parkers-images.bauersecure.com/wp-images/178432/logo/ineos_logo.png | E31: 1 | F31: 10 | G31: 0 | H31: 0 | I31: 0 | J31: 0 | K31: 0 | L31: 0 | M31: 0 | N31: 0 | O31: 0 | P31: 0 | Q31: 0 | R31: 0 | S31: 0 | T31: 0 | U31: 0 | V31: 0 | W31: 0 | X31: 0 | Y31: 0 | Z31: 0 | AA31: 0 | AB31: 0 | AC31: 0 | AD31: 0 | AE31: 0 | AF31: 0 | AG31: 0 | AH31: 0 | AI31: 0 | AJ31: 0 | AK31: 0 | AL31: 0 | AM31: 0 | AN31: 0 | AO31: 0 | AP31: 0 | AQ31: 0 | AR31: 0 | AS31: 0 | AT31: 0 | AU31: 0 | AV31: 0 | AW31: 0 | AX31: 0 | AY31: 0 | AZ31: 0 | BA31: 0 | BB31: 0 | BC31: 0 | BD31: 0 | BE31: 0 | BF31: 0 | BG31: 0 | BH31: 6 | BI31: 4 | BJ31: 0 | BK31: 0 | BL31: 0 | BM31: 0 | BN31: 0
B32: Ligier | C32: France | D32: https://parkers-images.bauersecure.com/wp-images/19782/logo/ligier.png | E32: 2 | F32: 4 | G32: 0 | H32: 0 | I32: 0 | J32: 0 | K32: 0 | L32: 0 | M32: 0 | N32: 0 | O32: 0 | P32: 0 | Q32: 0 | R32: 0 | S32: 0 | T32: 0 | U32: 0 | V32: 0 | W32: 0 | X32: 0 | Y32: 0 | Z32: 0 | AA32: 0 | AB32: 0 | AC32: 0 | AD32: 0 | AE32: 0 | AF32: 0 | AG32: 0 | AH32: 0 | AI32: 0 | AJ32: 0 | AK32: 0 | AL32: 3 | AM32: 0 | AN32: 1 | AO32: 0 | AP32: 0 | AQ32: 0 | AR32: 0 | AS32: 0 | AT32: 0 | AU32: 0 | AV32: 0 | AW32: 0 | AX32: 0 | AY32: 0 | AZ32: 0 | BA32: 0 | BB32: 0 | BC32: 0 | BD32: 0 | BE32: 0 | BF32: 0 | BG32: 0 | BH32: 0 | BI32: 0 | BJ32: 0 | BK32: 0 | BL32: 0 | BM32: 0 | BN32: 0
B33: MIA | C33: France | D33: https://parkers-images.bauersecure.com/wp-images/19713/logo/mia.png | E33: 2 | F33: 3 | G33: 0 | H33: 0 | I33: 0 | J33: 0 | K33: 0 | L33: 0 | M33: 0 | N33: 0 | O33: 0 | P33: 0 | Q33: 0 | R33: 0 | S33: 0 | T33: 0 | U33: 0 | V33: 0 | W33: 0 | X33: 0 | Y33: 0 | Z33: 0 | AA33: 0 | AB33: 0 | AC33: 0 | AD33: 0 | AE33: 0 | AF33: 0 | AG33: 0 | AH33: 0 | AI33: 0 | AJ33: 0 | AK33: 0 | AL33: 0 | AM33: 0 | AN33: 0 | AO33: 0 | AP33: 0 | AQ33: 0 | AR33: 0 | AS33: 0 | AT33: 0 | AU33: 0 | AV33: 0 | AW33: 2 | AX33: 1 | AY33: 0 | AZ33: 0 | BA33: 0 | BB33: 0 | BC33: 0 | BD33: 0 | BE33: 0 | BF33: 0 | BG33: 0 | BH33: 0 | BI33: 0 | BJ33: 0 | BK33: 0 | BL33: 0 | BM33: 0 | BN33: 0
B34: Microcar | C34: France | D34: https://parkers-images.bauersecure.com/wp-images/19733/logo/microcar.png | E34: 5 | F34: 32 | G34: 0 | H34: 0 | I34: 0 | J34: 0 | K34: 0 | L34: 0 | M34: 0 | N34: 0 | O34: 0 | P34: 0 | Q34: 0 | R34: 0 | S34: 0 | T34: 0 | U34: 0 | V34: 0 | W34: 0 | X34: 0 | Y34: 0 | Z34: 0 | AA34: 0 | AB34: 0 | AC34: 0 | AD34: 0 | AE34: 0 | AF34: 0 | AG34: 0 | AH34: 0 | AI34: 0 | AJ34: 0 | AK34: 0 | AL34: 19 | AM34: 0 | AN34: 2 | AO34: 0 | AP34: 0 | AQ34: 0 | AR34: 0 | AS34: 0 | AT34: 7 | AU34: 0 | AV34: 0 | AW34: 4 | AX34: 0 | AY34: 0 | AZ34: 0 | BA34: 0 | BB34: 0 | BC34: 0 | BD34: 0 | BE34: 0 | BF34: 0 | BG34: 0 | BH34: 0 | BI34: 0 | BJ34: 0 | BK34: 0 | BL34: 0 | BM34: 0 | BN34: 0
B35: Peugeot | C35: France | D35: https://parkers-images.bauersecure.com/wp-images/219/logo/peugeot.png | E35: 85 | F35: 3713 | G35: 0 | H35: 0 | I35: 0 | J35: 0 | K35: 0 | L35: 0 | M35: 0 | N35: 0 | O35: 0 | P35: 2 | Q35: 0 | R35: 1 | S35: 10 | T35: 18 | U35: 6 | V35: 30 | W35: 13 | X35: 3 | Y35: 5 | Z35: 5 | AA35: 14 | AB35: 13 | AC35: 23 | AD35: 11 | AE35: 32 | AF35: 18 | AG35: 89 | AH35: 96 | AI35: 85 | AJ35: 135 | AK35: 155 | AL35: 89 | AM35: 122 | AN35: 124 | AO35: 124 | AP35: 152 | AQ35: 94 | AR35: 146 | AS35: 82 | AT35: 160 | AU35: 157 | AV35: 212 | AW35: 120 | AX35: 119 | AY35: 128 | AZ35: 155 | BA35: 106 | BB35: 97 | BC35: 168 | BD35: 74 | BE35: 225 | BF35: 73 | BG35: 44 | BH35: 105 | BI35: 36 | BJ35: 37 | BK35: 0 | BL35: 0 | BM35: 0 | BN35: 0
B36: PGO | C36: France | D36: https://parkers-images.bauersecure.com/wp-images/19716/logo/pgo.png | E36: 2 | F36: 4 | G36: 0 | H36: 0 | I36: 0 | J36: 0 | K36: 0 | L36: 0 | M36: 0 | N36: 0 | O36: 0 | P36: 0 | Q36: 0 | R36: 0 | S36: 0 | T36: 0 | U36: 0 | V36: 0 | W36: 0 | X36: 0 | Y36: 0 | Z36: 0 | AA36: 0 | AB36: 0 | AC36: 0 | AD36: 0 | AE36: 0 | AF36: 0 | AG36: 0 | AH36: 0 | AI36: 0 | AJ36: 0 | AK36: 0 | AL36: 0 | AM36: 0 | AN36: 0 | AO36: 0 | AP36: 0 | AQ36: 0 | AR36: 2 | AS36: 2 | AT36: 0 | AU36: 0 | AV36: 0 | AW36: 0 | AX36: 0 | AY36: 0 | AZ36: 0 | BA36: 0 | BB36: 0 | BC36: 0 | BD36: 0 | BE36: 0 | BF36: 0 | BG36: 0 | BH36: 0 | BI36: 0 | BJ36: 0 | BK36: 0 | BL36: 0 | BM36: 0 | BN36: 0
B37: Renault | C37: France | D37: https://parkers-images.bauersecure.com/wp-images/422/logo/renault_2021.png | E37: 97 | F37: 4318 | G37: 0 | H37: 0 | I37: 0 | J37: 0 | K37: 0 | L37: 0 | M37: 0 | N37: 0 | O37: 0 | P37: 0 | Q37: 2 | R37: 4 | S37: 4 | T37: 5 | U37: 12 | V37: 24 | W37: 37 | X37: 20 | Y37: 13 | Z37: 53 | AA37: 17 | AB37: 39 | AC37: 56 | AD37: 27 | AE37: 36 | AF37: 39 | AG37: 114 | AH37: 99 | AI37: 102 | AJ37: 165 | AK37: 162 | AL37: 130 | AM37: 150 | AN37: 185 | AO37: 100 | AP37: 386 | AQ37: 340 | AR37: 176 | AS37: 153 | AT37: 232 | AU37: 223 | AV37: 122 | AW37: 93 | AX37: 65 | AY37: 96 | AZ37: 174 | BA37: 152 | BB37: 42 | BC37: 147 | BD37: 107 | BE37: 70 | BF37: 53 | BG37: 37 | BH37: 15 | BI37: 16 | BJ37: 24 | BK37: 0 | BL37: 0 | BM37: 0 | BN37: 0
B38: Audi | C38: Germany | D38: https://parkers-images.bauersecure.com/wp-images/94/logo/audi.png | E38: 144 | F38: 9036 | G38: 0 | H38: 0 | I38: 0 | J38: 0 | K38: 0 | L38: 0 | M38: 0 | N38: 0 | O38: 0 | P38: 0 | Q38: 0 | R38: 0 | S38: 4 | T38: 9 | U38: 5 | V38: 9 | W38: 3 | X38: 12 | Y38: 14 | Z38: 38 | AA38: 9 | AB38: 46 | AC38: 16 | AD38: 49 | AE38: 48 | AF38: 62 | AG38: 56 | AH38: 43 | AI38: 40 | AJ38: 56 | AK38: 74 | AL38: 225 | AM38: 83 | AN38: 111 | AO38: 98 | AP38: 251 | AQ38: 176 | AR38: 106 | AS38: 328 | AT38: 438 | AU38: 302 | AV38: 256 | AW38: 346 | AX38: 269 | AY38: 361 | AZ38: 420 | BA38: 324 | BB38: 691 | BC38: 572 | BD38: 560 | BE38: 723 | BF38: 429 | BG38: 95 | BH38: 741 | BI38: 280 | BJ38: 256 | BK38: 0 | BL38: 0 | BM38: 0 | BN38: 0
B39: BMW | C39: Germany | D39: https://parkers-images.bauersecure.com/wp-images/6/logo/bmw.png | E39: 151 | F39: 8639 | G39: 0 | H39: 0 | I39: 0 | J39: 0 | K39: 0 | L39: 0 | M39: 0 | N39: 0 | O39: 0 | P39: 0 | Q39: 0 | R39: 7 | S39: 6 | T39: 4 | U39: 4 | V39: 4 | W39: 33 | X39: 11 | Y39: 29 | Z39: 5 | AA39: 15 | AB39: 22 | AC39: 27 | AD39: 41 | AE39: 17 | AF39: 18 | AG39: 41 | AH39: 30 | AI39: 31 | AJ39: 43 | AK39: 110 | AL39: 120 | AM39: 45 | AN39: 204 | AO39: 115 | AP39: 272 | AQ39: 94 | AR39: 391 | AS39: 310 | AT39: 273 | AU39: 339 | AV39: 333 | AW39: 990 | AX39: 769 | AY39: 507 | AZ39: 881 | BA39: 88 | BB39: 278 | BC39: 151 | BD39: 487 | BE39: 675 | BF39: 293 | BG39: 221 | BH39: 135 | BI39: 122 | BJ39: 47 | BK39: 0 | BL39: 0 | BM39: 0 | BN39: 0
B40: BMW Alpina | C40: Germany | D40: https://parkers-images.bauersecure.com/wp-images/20076/logo/bmwalpina_logo_large.png | E40: 28 | F40: 55 | G40: 0 | H40: 0 | I40: 0 | J40: 0 | K40: 0 | L40: 0 | M40: 0 | N40: 0 | O40: 0 | P40: 0 | Q40: 0 | R40: 0 | S40: 0 | T40: 0 | U40: 0 | V40: 0 | W40: 0 | X40: 0 | Y40: 0 | Z40: 0 | AA40: 0 | AB40: 0 | AC40: 0 | AD40: 0 | AE40: 0 | AF40: 0 | AG40: 0 | AH40: 0 | AI40: 0 | AJ40: 0 | AK40: 0 | AL40: 0 | AM40: 0 | AN40: 0 | AO40: 0 | AP40: 0 | AQ40: 0 | AR40: 0 | AS40: 0 | AT40: 0 | AU40: 1 | AV40: 4 | AW40: 1 | AX40: 5 | AY40: 3 | AZ40: 2 | BA40: 0 | BB40: 12 | BC40: 0 | BD40: 1 | BE40: 11 | BF40: 3 | BG40: 6 | BH40: 2 | BI40: 4 | BJ40: 0 | BK40: 0 | BL40: 0 | BM40: 0 | BN40: 0
... B50: San | C50: India | D50: https://parkers-images.bauersecure.com/wp-images/19681/logo/san.png | E50: 1 | F50: 6 | G50: 0 | H50: 0 | I50: 0 | J50: 0 | K50: 0 | L50: 0 | M50: 0 | N50: 0 | O50: 0 | P50: 0 | Q50: 0 | R50: 0 | S50: 0 | T50: 0 | U50: 0 | V50: 0 | W50: 0 | X50: 0 | Y50: 0 | Z50: 0 | AA50: 0 | AB50: 0 | AC50: 0 | AD50: 0 | AE50: 0 | AF50: 0 | AG50: 0 | AH50: 0 | AI50: 0 | AJ50: 0 | AK50: 0 | AL50: 0 | AM50: 0 | AN50: 0 | AO50: 0 | AP50: 1 | AQ50: 4 | AR50: 0 | AS50: 1 | AT50: 0 | AU50: 0 | AV50: 0 | AW50: 0 | AX50: 0 | AY50: 0 | AZ50: 0 | BA50: 0 | BB50: 0 | BC50: 0 | BD50: 0 | BE50: 0 | BF50: 0 | BG50: 0 | BH50: 0 | BI50: 0 | BJ50: 0 | BK50: 0 | BL50: 0 | BM50: 0 | BN50: 0
B51: Tata | C51: India | E51: 0 | F51: 0 | G51: 0 | H51: 0 | I51: 0 | J51: 0 | K51: 0 | L51: 0 | M51: 0 | N51: 0 | O51: 0 | P51: 0 | Q51: 0 | R51: 0 | S51: 0 | T51: 0 | U51: 0 | V51: 0 | W51: 0 | X51: 0 | Y51: 0 | Z51: 0 | AA51: 0 | AB51: 0 | AC51: 0 | AD51: 0 | AE51: 0 | AF51: 0 | AG51: 0 | AH51: 0 | AI51: 0 | AJ51: 0 | AK51: 0 | AL51: 0 | AM51: 0 | AN51: 0 | AO51: 0 | AP51: 0 | AQ51: 0 | AR51: 0 | AS51: 0 | AT51: 0 | AU51: 0 | AV51: 0 | AW51: 0 | AX51: 0 | AY51: 0 | AZ51: 0 | BA51: 0 | BB51: 0 | BC51: 0 | BD51: 0 | BE51: 0 | BF51: 0 | BG51: 0 | BH51: 0 | BI51: 0 | BJ51: 0 | BK51: 0 | BL51: 0 | BM51: 0 | BN51: 0
B52: Abarth | C52: Italy | D52: https://parkers-images.bauersecure.com/wp-images/512/logo/abarth.png | E52: 14 | F52: 138 | G52: 0 | H52: 0 | I52: 0 | J52: 0 | K52: 0 | L52: 0 | M52: 0 | N52: 0 | O52: 0 | P52: 0 | Q52: 0 | R52: 0 | S52: 0 | T52: 0 | U52: 0 | V52: 0 | W52: 0 | X52: 0 | Y52: 0 | Z52: 0 | AA52: 0 | AB52: 0 | AC52: 0 | AD52: 0 | AE52: 0 | AF52: 0 | AG52: 0 | AH52: 0 | AI52: 0 | AJ52: 0 | AK52: 0 | AL52: 0 | AM52: 0 | AN52: 0 | AO52: 0 | AP52: 0 | AQ52: 0 | AR52: 0 | AS52: 1 | AT52: 1 | AU52: 2 | AV52: 0 | AW52: 11 | AX52: 2 | AY52: 1 | AZ52: 10 | BA52: 14 | BB52: 13 | BC52: 2 | BD52: 21 | BE52: 8 | BF52: 11 | BG52: 32 | BH52: 6 | BI52: 3 | BJ52: 0 | BK52: 0 | BL52: 0 | BM52: 0 | BN52: 0
B53: Alfa Romeo | C53: Italy | D53: https://parkers-images.bauersecure.com/wp-images/541/logo/alfa_romeo_2016.png | E53: 39 | F53: 861 | G53: 0 | H53: 0 | I53: 0 | J53: 0 | K53: 0 | L53: 0 | M53: 0 | N53: 0 | O53: 0 | P53: 0 | Q53: 0 | R53: 0 | S53: 5 | T53: 3 | U53: 1 | V53: 1 | W53: 3 | X53: 15 | Y53: 2 | Z53: 4 | AA53: 9 | AB53: 4 | AC53: 8 | AD53: 3 | AE53: 17 | AF53: 6 | AG53: 7 | AH53: 15 | AI53: 5 | AJ53: 18 | AK53: 39 | AL53: 28 | AM53: 50 | AN53: 29 | AO53: 42 | AP53: 28 | AQ53: 26 | AR53: 57 | AS53: 41 | AT53: 78 | AU53: 43 | AV53: 26 | AW53: 12 | AX53: 9 | AY53: 33 | AZ53: 19 | BA53: 48 | BB53: 14 | BC53: 19 | BD53: 5 | BE53: 31 | BF53: 2 | BG53: 24 | BH53: 11 | BI53: 10 | BJ53: 11 | BK53: 0 | BL53: 0 | BM53: 0 | BN53: 0
B54: De Tomaso | C54: Italy | D54: https://parkers-images.bauersecure.com/wp-images/19721/logo/detomaso_2016.png | E54: 2 | F54: 2 | G54: 0 | H54: 0 | I54: 0 | J54: 0 | K54: 0 | L54: 0 | M54: 0 | N54: 0 | O54: 0 | P54: 0 | Q54: 0 | R54: 0 | S54: 0 | T54: 0 | U54: 0 | V54: 0 | W54: 0 | X54: 0 | Y54: 0 | Z54: 0 | AA54: 0 | AB54: 0 | AC54: 0 | AD54: 0 | AE54: 0 | AF54: 0 | AG54: 0 | AH54: 0 | AI54: 0 | AJ54: 0 | AK54: 2 | AL54: 0 | AM54: 0 | AN54: 0 | AO54: 0 | AP54: 0 | AQ54: 0 | AR54: 0 | AS54: 0 | AT54: 0 | AU54: 0 | AV54: 0 | AW54: 0 | AX54: 0 | AY54: 0 | AZ54: 0 | BA54: 0 | BB54: 0 | BC54: 0 | BD54: 0 | BE54: 0 | BF54: 0 | BG54: 0 | BH54: 0 | BI54: 0 | BJ54: 0 | BK54: 0 | BL54: 0 | BM54: 0 | BN54: 0
B55: Ferrari | C55: Italy | D55: https://parkers-images.bauersecure.com/wp-images/318/logo/ferrari.png | E55: 37 | F55: 51 | G55: 0 | H55: 0 | I55: 0 | J55: 0 | K55: 0 | L55: 0 | M55: 0 | N55: 0 | O55: 0 | P55: 1 | Q55: 0 | R55: 0 | S55: 0 | T55: 0 | U55: 1 | V55: 1 | W55: 2 | X55: 0 | Y55: 0 | Z55: 1 | AA55: 0 | AB55: 0 | AC55: 0 | AD55: 1 | AE55: 1 | AF55: 0 | AG55: 2 | AH55: 0 | AI55: 3 | AJ55: 2 | AK55: 2 | AL55: 0 | AM55: 3 | AN55: 1 | AO55: 2 | AP55: 6 | AQ55: 2 | AR55: 0 | AS55: 1 | AT55: 1 | AU55: 1 | AV55: 2 | AW55: 4 | AX55: 1 | AY55: 4 | AZ55: 1 | BA55: 2 | BB55: 0 | BC55: 3 | BD55: 0 | BE55: 0 | BF55: 0 | BG55: 0 | BH55: 0 | BI55: 0 | BJ55: 0 | BK55: 0 | BL55: 0 | BM55: 0 | BN55: 0
B56: Fiat | C56: Italy | D56: https://parkers-images.bauersecure.com/wp-images/401/logo/fiat.png | E56: 66 | F56: 1814 | G56: 0 | H56: 0 | I56: 0 | J56: 0 | K56: 0 | L56: 0 | M56: 0 | N56: 1 | O56: 0 | P56: 0 | Q56: 0 | R56: 0 | S56: 0 | T56: 4 | U56: 1 | V56: 7 | W56: 16 | X56: 15 | Y56: 15 | Z56: 5 | AA56: 22 | AB56: 9 | AC56: 31 | AD56: 25 | AE56: 28 | AF56: 24 | AG56: 15 | AH56: 44 | AI56: 14 | AJ56: 56 | AK56: 29 | AL56: 10 | AM56: 35 | AN56: 65 | AO56: 47 | AP56: 39 | AQ56: 48 | AR56: 44 | AS56: 52 | AT56: 29 | AU56: 153 | AV56: 69 | AW56: 89 | AX56: 110 | AY56: 38 | AZ56: 222 | BA56: 89 | BB56: 45 | BC56: 42 | BD56: 65 | BE56: 54 | BF56: 48 | BG56: 42 | BH56: 3 | BI56: 6 | BJ56: 9 | BK56: 0 | BL56: 0 | BM56: 0 | BN56: 0
B57: Lamborghini | C57: Italy | D57: https://parkers-images.bauersecure.com/wp-images/81/logo/lamborghini.png | E57: 11 | F57: 81 | G57: 0 | H57: 0 | I57: 0 | J57: 0 | K57: 0 | L57: 0 | M57: 0 | N57: 0 | O57: 0 | P57: 0 | Q57: 0 | R57: 0 | S57: 0 | T57: 0 | U57: 0 | V57: 0 | W57: 0 | X57: 0 | Y57: 0 | Z57: 0 | AA57: 0 | AB57: 0 | AC57: 0 | AD57: 0 | AE57: 0 | AF57: 1 | AG57: 2 | AH57: 0 | AI57: 1 | AJ57: 1 | AK57: 1 | AL57: 0 | AM57: 1 | AN57: 2 | AO57: 1 | AP57: 2 | AQ57: 4 | AR57: 4 | AS57: 2 | AT57: 4 | AU57: 0 | AV57: 8 | AW57: 0 | AX57: 4 | AY57: 1 | AZ57: 5 | BA57: 2 | BB57: 4 | BC57: 3 | BD57: 5 | BE57: 9 | BF57: 2 | BG57: 6 | BH57: 3 | BI57: 3 | BJ57: 0 | BK57: 0 | BL57: 0 | BM57: 0 | BN57: 0
B58: Lancia | C58: Italy | D58: https://parkers-images.bauersecure.com/wp-images/19785/logo/lancia.png | E58: 7 | F58: 61 | G58: 0 | H58: 0 | I58: 0 | J58: 0 | K58: 0 | L58: 0 | M58: 0 | N58: 0 | O58: 0 | P58: 0 | Q58: 0 | R58: 0 | S58: 0 | T58: 3 | U58: 1 | V58: 6 | W58: 9 | X58: 3 | Y58: 3 | Z58: 10 | AA58: 10 | AB58: 1 | AC58: 12 | AD58: 3 | AE58: 0 | AF58: 0 | AG58: 0 | AH58: 0 | AI58: 0 | AJ58: 0 | AK58: 0 | AL58: 0 | AM58: 0 | AN58: 0 | AO58: 0 | AP58: 0 | AQ58: 0 | AR58: 0 | AS58: 0 | AT58: 0 | AU58: 0 | AV58: 0 | AW58: 0 | AX58: 0 | AY58: 0 | AZ58: 0 | BA58: 0 | BB58: 0 | BC58: 0 | BD58: 0 | BE58: 0 | BF58: 0 | BG58: 0 | BH58: 0 | BI58: 0 | BJ58: 0 | BK58: 0 | BL58: 0 | BM58: 0 | BN58: 0
B59: Maserati | C59: Italy | D59: https://parkers-images.bauersecure.com/wp-images/666/logo/maserati.png | E59: 24 | F59: 220 | G59: 0 | H59: 0 | I59: 0 | J59: 0 | K59: 0 | L59: 0 | M59: 0 | N59: 0 | O59: 0 | P59: 0 | Q59: 0 | R59: 0 | S59: 0 | T59: 0 | U59: 0 | V59: 0 | W59: 0 | X59: 0 | Y59: 0 | Z59: 0 | AA59: 0 | AB59: 0 | AC59: 3 | AD59: 1 | AE59: 0 | AF59: 3 | AG59: 0 | AH59: 5 | AI59: 0 | AJ59: 2 | AK59: 0 | AL59: 2 | AM59: 4 | AN59: 0 | AO59: 2 | AP59: 0 | AQ59: 3 | AR59: 4 | AS59: 3 | AT59: 2 | AU59: 1 | AV59: 2 | AW59: 2 | AX59: 7 | AY59: 1 | AZ59: 4 | BA59: 22 | BB59: 21 | BC59: 26 | BD59: 13 | BE59: 37 | BF59: 15 | BG59: 11 | BH59: 15 | BI59: 6 | BJ59: 3 | BK59: 0 | BL59: 0 | BM59: 0 | BN59: 0
B60: Daihatsu | C60: Japan | D60: https://parkers-images.bauersecure.com/wp-images/1739/logo/daihatsu.png | E60: 22 | F60: 184 | G60: 0 | H60: 0 | I60: 0 | J60: 0 | K60: 0 | L60: 0 | M60: 0 | N60: 0 | O60: 0 | P60: 0 | Q60: 0 | R60: 0 | S60: 1 | T60: 1 | U60: 1 | V60: 3 | W60: 9 | X60: 5 | Y60: 2 | Z60: 3 | AA60: 3 | AB60: 11 | AC60: 0 | AD60: 10 | AE60: 4 | AF60: 4 | AG60: 9 | AH60: 18 | AI60: 18 | AJ60: 2 | AK60: 10 | AL60: 8 | AM60: 17 | AN60: 12 | AO60: 2 | AP60: 7 | AQ60: 8 | AR60: 12 | AS60: 4 | AT60: 0 | AU60: 0 | AV60: 0 | AW60: 0 | AX60: 0 | AY60: 0 | AZ60: 0 | BA60: 0 | BB60: 0 | BC60: 0 | BD60: 0 | BE60: 0 | BF60: 0 | BG60: 0 | BH60: 0 | BI60: 0 | BJ60: 0 | BK60: 0 | BL60: 0 | BM60: 0 | BN60: 0
B61: Honda | C61: Japan | D61: https://parkers-images.bauersecure.com/wp-images/193/logo/honda.png | E61: 85 | F61: 1420 | G61: 0 | H61: 0 | I61: 0 | J61: 0 | K61: 0 | L61: 0 | M61: 0 | N61: 0 | O61: 0 | P61: 0 | Q61: 0 | R61: 0 | S61: 1 | T61: 2 | U61: 2 | V61: 4 | W61: 5 | X61: 10 | Y61: 7 | Z61: 13 | AA61: 7 | AB61: 13 | AC61: 15 | AD61: 9 | AE61: 5 | AF61: 12 | AG61: 21 | AH61: 51 | AI61: 45 | AJ61: 95 | AK61: 43 | AL61: 53 | AM61: 26 | AN61: 58 | AO61: 55 | AP61: 12 | AQ61: 187 | AR61: 41 | AS61: 48 | AT61: 105 | AU61: 18 | AV61: 37 | AW61: 77 | AX61: 16 | AY61: 50 | AZ61: 107 | BA61: 30 | BB61: 41 | BC61: 56 | BD61: 5 | BE61: 11 | BF61: 7 | BG61: 5 | BH61: 12 | BI61: 3 | BJ61: 0 | BK61: 0 | BL61: 0 | BM61: 0 | BN61: 0
B62: Infiniti | C62: Japan | D62: https://parkers-images.bauersecure.com/wp-images/273/logo/infiniti.png | E62: 10 | F62: 293 | G62: 0 | H62: 0 | I62: 0 | J62: 0 | K62: 0 | L62: 0 | M62: 0 | N62: 0 | O62: 0 | P62: 0 | Q62: 0 | R62: 0 | S62: 0 | T62: 0 | U62: 0 | V62: 0 | W62: 0 | X62: 0 | Y62: 0 | Z62: 0 | AA62: 0 | AB62: 0 | AC62: 0 | AD62: 0 | AE62: 0 | AF62: 0 | AG62: 0 | AH62: 0 | AI62: 0 | AJ62: 0 | AK62: 0 | AL62: 0 | AM62: 0 | AN62: 0 | AO62: 0 | AP62: 0 | AQ62: 0 | AR62: 0 | AS62: 0 | AT62: 41 | AU62: 36 | AV62: 1 | AW62: 4 | AX62: 42 | AY62: 11 | AZ62: 29 | BA62: 60 | BB62: 6 | BC62: 59 | BD62: 4 | BE62: 0 | BF62: 0 | BG62: 0 | BH62: 0 | BI62: 0 | BJ62: 0 | BK62: 0 | BL62: 0 | BM62: 0 | BN62: 0
B63: Isuzu | C63: Japan | D63: https://parkers-images.bauersecure.com/wp-images/3597/logo/isuzu.png | E63: 3 | F63: 71 | G63: 0 | H63: 0 | I63: 0 | J63: 0 | K63: 0 | L63: 0 | M63: 0 | N63: 0 | O63: 0 | P63: 0 | Q63: 0 | R63: 0 | S63: 0 | T63: 0 | U63: 0 | V63: 0 | W63: 2 | X63: 4 | Y63: 11 | Z63: 2 | AA63: 0 | AB63: 0 | AC63: 18 | AD63: 0 | AE63: 0 | AF63: 0 | AG63: 0 | AH63: 0 | AI63: 14 | AJ63: 18 | AK63: 0 | AL63: 2 | AM63: 0 | AN63: 0 | AO63: 0 | AP63: 0 | AQ63: 0 | AR63: 0 | AS63: 0 | AT63: 0 | AU63: 0 | AV63: 0 | AW63: 0 | AX63: 0 | AY63: 0 | AZ63: 0 | BA63: 0 | BB63: 0 | BC63: 0 | BD63: 0 | BE63: 0 | BF63: 0 | BG63: 0 | BH63: 0 | BI63: 0 | BJ63: 0 | BK63: 0 | BL63: 0 | BM63: 0 | BN63: 0
... B134: PRINDIVILLE | C134: Unknown | D134: https://parkers-images.bauersecure.com/wp-images/19711/logo/prindville.png | E134: 1 | F134: 1 | G134: 0 | H134: 0 | I134: 0 | J134: 0 | K134: 0 | L134: 0 | M134: 0 | N134: 0 | O134: 0 | P134: 0 | Q134: 0 | R134: 0 | S134: 0 | T134: 0 | U134: 0 | V134: 0 | W134: 0 | X134: 0 | Y134: 0 | Z134: 0 | AA134: 0 | AB134: 0 | AC134: 0 | AD134: 0 | AE134: 0 | AF134: 0 | AG134: 0 | AH134: 0 | AI134: 0 | AJ134: 0 | AK134: 0 | AL134: 0 | AM134: 0 | AN134: 0 | AO134: 0 | AP134: 0 | AQ134: 0 | AR134: 0 | AS134: 0 | AT134: 0 | AU134: 0 | AV134: 0 | AW134: 1 | AX134: 0 | AY134: 0 | AZ134: 0 | BA134: 0 | BB134: 0 | BC134: 0 | BD134: 0 | BE134: 0 | BF134: 0 | BG134: 0 | BH134: 0 | BI134: 0 | BJ134: 0 | BK134: 0 | BL134: 0 | BM134: 0 | BN134: 0
B259: /abarth/specs/ | C259: ="https://www.parkers.co.uk"&B259 -> https://www.parkers.co.uk/abarth/specs/
B260: /ac/specs/ | C260: ="https://www.parkers.co.uk"&B260 -> https://www.parkers.co.uk/ac/specs/
B261: /aixam/specs/ | C261: ="https://www.parkers.co.uk"&B261 -> https://www.parkers.co.uk/aixam/specs/
B262: /alfa-romeo/specs/ | C262: ="https://www.parkers.co.uk"&B262 -> https://www.parkers.co.uk/alfa-romeo/specs/
B263: /alpine/specs/ | C263: ="https://www.parkers.co.uk"&B263 -> https://www.parkers.co.uk/alpine/specs/
B264: /asia/specs/ | C264: ="https://www.parkers.co.uk"&B264 -> https://www.parkers.co.uk/asia/specs/
B265: /aston-martin/specs/ | C265: ="https://www.parkers.co.uk"&B265 -> https://www.parkers.co.uk/aston-martin/specs/
B266: /audi/specs/ | C266: ="https://www.parkers.co.uk"&B266 -> https://www.parkers.co.uk/audi/specs/
B267: /austin/specs/ | C267: ="https://www.parkers.co.uk"&B267 -> https://www.parkers.co.uk/austin/specs/
B268: /bac/specs/ | C268: ="https://www.parkers.co.uk"&B268 -> https://www.parkers.co.uk/bac/specs/
B269: /bentley/specs/ | C269: ="https://www.parkers.co.uk"&B269 -> https://www.parkers.co.uk/bentley/specs/
B270: /bmw/specs/ | C270: ="https://www.parkers.co.uk"&B270 -> https://www.parkers.co.uk/bmw/specs/
... B381: /yugo/specs/ | C381: ="https://www.parkers.co.uk"&B381 -> https://www.parkers.co.uk/yugo/specs/

Sheet Updates
B2: - | C2: Total | F2: With specs | H2: In production | J2: -
B3: Date | C3: Makes | D3: Models | E3: Series | F3: Series | G3: Versions | H3: Series | I3: Versions | J3: Notes
B5: United Kingdom Car Database - list of updates
B6: Compiled in Excel by Teoalida © cardatabase.teoalida.com
B8: 43485 | E8: 2389 | G8: 80406 | J8: First release, 45 columns.
B9: 43499 | E9: 2389 | G9: 80485 | J9: Fixed the incorrect car prices in initial release.
B10: 43552 | E10: 2383 | G10: 81501
B11: 43592 | E11: 2418 | G11: 81873 | H11: 551 | I11: 25259 | J11: 52 columns, removed unit of measurement after values, made multiple tables and VLOOKUP formulas in order to add model production years (different than version production years) and image URL from small database into big database, also status (production / discontinued) for purpose of selling a "new cars only" package with discount. 52 columns.
B12: 43713 | C12: 101 | E12: 2439 | G12: 83314
B13: 43724 | C13: 101 | E13: 2439 | G13: 83430 | H13: 563 | I13: 25058
B14: 43806 | C14: 101 | E14: 2467 | G14: 84532
B15: 43875 | C15: 102 | E15: 2481 | G15: 84966
B16: 43928 | C16: 102 | E16: 2490 | G16: 85466
B17: 43952 | C17: 102 | E17: 2491 | G17: 85578
B18: 43970 | C18: 102 | E18: 2491 | G18: 85630 | H18: 517 | I18: 22640
B19: 44057 | C19: 102 | E19: 2498 | G19: 86173
B20: 44124 | C20: 103 | E20: 2543 | G20: 88151 | H20: 548 | I20: 23646
B21: 44217 | C21: 105 | D21: 1107? | E21: 2571 | G21: 90054 | H21: 494 | I21: 21151 | J21: Last update with specs for all 1980s cars
B22: 44284 | C22: 105 | E22: 2576 | G22: 90467 | J22: not published being too busy with other projects
B23: 44353 | C23: 106 | E23: 2590 | J23: Parkers.co.uk got BUGGED giving 404 errors on most of pre-1990 cars.
B24: 44394 | C24: 106 | D24: 1128 | E24: 2604 | F24: 2345 | G24: 88610
B25: 44403 | C25: 106 | D25: 1128 | E25: 2604 | F25: 2344 | G25: 88532
B26: 44445 | C26: 106 | D26: 1133 | E26: 2617 | F26: 2364 | G26: 88666
B27: 44505 | C27: 106 | D27: 1137 | E27: 2636 | F27: 2383 | G27: 89343
B28: 44568 | C28: 106 | D28: 1144 | E28: 2647 | F28: 2394 | G28: 89720
B29: 44622 | C29: 107 | D29: 1148 | E29: 2656 | F29: 2402 | G29: 90072 | H29: 474 | I29: 19664
B30: 44780 | C30: 108 | D30: 1159 | E30: 2678 | F30: 2423 | G30: 91056 | H30: 483 | I30: 19406
B31: 44835 | C31: 111 | D31: 1174 | E31: 2718 | F31: 2457 | G31: 91218
B32: 44927 | C32: 111 | D32: 1183 | E32: 2736 | F32: 2469 | G32: 91719
B33: 44970 | C33: 111 | D33: 1186 | E33: 2745 | F33: 2492 | G33: 92203 | H33: 506 | I33: 19082
B34: 45032 | C34: 112 | D34: 1187 | E34: 2724 | F34: 2479 | G34: 92071 | J34: 4 models failed to scrap series and versions
B35: 45102 | C35: 116 | D35: 1200 | E35: 2771 | F35: 2514 | G35: 93258 | J35: Added BYD, FISKER
B36: 45189 | C36: 116 | D36: 1216 | E36: 2794 | F36: 2537 | G36: 93792
B37: 45258 | C37: 117 | D37: 1226 | E37: 2807 | F37: 2554 | G37: 94258 | H37: 524 | I37: 19116 | J37: Added OMODA
B38: 45406 | C38: 117 | D38: 1251 | E38: 2858 | F38: 2592 | G38: 95172
B39: 45428 | C39: 118 | D39: 1254 | E39: 2864 | F39: 2607 | G39: 95416 | H39: 544 | I39: 17425 | J39: Added 1 make
B40: 45629 | C40: 121 | D40: 1281 | E40: 2926 | F40: 2677 | G40: 96804 | H40: 567 | I40: 15328 | J40: Added JAECOO, LEAPMOTOR, SKYWELL
B41: 45675 | C41: 122 | D41: 1291 | E41: 2946 | F41: 2687 | G41: 96891 | J41: Added 1 make
B42: 45797 | C42: 123 | D42: 1300 | E42: 2973 | F42: 2720 | G42: 97556 | J42: Added 1 make
B43: 45845 | C43: 123 | D43: 1306 | E43: 2985 | F43: 2736 | G43: 97987 | H43: 569 | I43: 14321
B47: 46022
B80: https://www.parkers.co.uk/car-specs/select-manufacturer/
